| Back to Multiple platform build/check report for BioC 3.20: simplified long | 
 | 
This page was generated on 2024-11-20 12:02 -0500 (Wed, 20 Nov 2024).
| Hostname | OS | Arch (*) | R version | Installed pkgs | 
|---|---|---|---|---|
| teran2 | Linux (Ubuntu 24.04.1 LTS) | x86_64 | 4.4.2 (2024-10-31) -- "Pile of Leaves" | 4481 | 
| nebbiolo2 | Linux (Ubuntu 24.04.1 LTS) | x86_64 | 4.4.2 (2024-10-31) -- "Pile of Leaves" | 4479 | 
| palomino8 | Windows Server 2022 Datacenter | x64 | 4.4.2 (2024-10-31 ucrt) -- "Pile of Leaves" | 4359 | 
| lconway | macOS 12.7.1 Monterey | x86_64 | 4.4.1 (2024-06-14) -- "Race for Your Life" | 4539 | 
| kunpeng2 | Linux (openEuler 22.03 LTS-SP1) | aarch64 | 4.4.1 (2024-06-14) -- "Race for Your Life" | 4493 | 
| Click on any hostname to see more info about the system (e.g. compilers) (*) as reported by 'uname -p', except on Windows and Mac OS X | ||||
| Package 264/2289 | Hostname | OS / Arch | INSTALL | BUILD | CHECK | BUILD BIN | ||||||||
| CAGEfightR 1.26.0  (landing page) Malte Thodberg 
 | teran2 | Linux (Ubuntu 24.04.1 LTS) / x86_64 | OK | OK | OK |  | ||||||||
| nebbiolo2 | Linux (Ubuntu 24.04.1 LTS) / x86_64 | OK | OK | OK | ||||||||||
| palomino8 | Windows Server 2022 Datacenter / x64 | OK | OK | OK | OK |  | ||||||||
| lconway | macOS 12.7.1 Monterey / x86_64 | OK | OK | OK | OK |  | ||||||||
| kunpeng2 | Linux (openEuler 22.03 LTS-SP1) / aarch64 | OK | OK | OK | ||||||||||
| To the developers/maintainers of the CAGEfightR package: - Allow up to 24 hours (and sometimes 48 hours) for your latest push to git@git.bioconductor.org:packages/CAGEfightR.git to reflect on this report. See Troubleshooting Build Report for more information. - Use the following Renviron settings to reproduce errors and warnings. - If 'R CMD check' started to fail recently on the Linux builder(s) over a missing dependency, add the missing dependency to 'Suggests:' in your DESCRIPTION file. See Renviron.bioc for more information. | 
| Package: CAGEfightR | 
| Version: 1.26.0 | 
| Command: /home/biocbuild/bbs-3.20-bioc/R/bin/R CMD check --install=check:CAGEfightR.install-out.txt --library=/home/biocbuild/bbs-3.20-bioc/R/site-library --timings CAGEfightR_1.26.0.tar.gz | 
| StartedAt: 2024-11-19 23:49:19 -0500 (Tue, 19 Nov 2024) | 
| EndedAt: 2024-11-19 23:56:42 -0500 (Tue, 19 Nov 2024) | 
| EllapsedTime: 442.9 seconds | 
| RetCode: 0 | 
| Status: OK | 
| CheckDir: CAGEfightR.Rcheck | 
| Warnings: 0 | 
##############################################################################
##############################################################################
###
### Running command:
###
###   /home/biocbuild/bbs-3.20-bioc/R/bin/R CMD check --install=check:CAGEfightR.install-out.txt --library=/home/biocbuild/bbs-3.20-bioc/R/site-library --timings CAGEfightR_1.26.0.tar.gz
###
##############################################################################
##############################################################################
* using log directory ‘/media/volume/teran2_disk/biocbuild/bbs-3.20-bioc/meat/CAGEfightR.Rcheck’
* using R version 4.4.2 (2024-10-31)
* using platform: x86_64-pc-linux-gnu
* R was compiled by
    gcc (Ubuntu 13.2.0-23ubuntu4) 13.2.0
    GNU Fortran (Ubuntu 13.2.0-23ubuntu4) 13.2.0
* running under: Ubuntu 24.04.1 LTS
* using session charset: UTF-8
* checking for file ‘CAGEfightR/DESCRIPTION’ ... OK
* checking extension type ... Package
* this is package ‘CAGEfightR’ version ‘1.26.0’
* package encoding: UTF-8
* checking package namespace information ... OK
* checking package dependencies ... OK
* checking if this is a source package ... OK
* checking if there is a namespace ... OK
* checking for hidden files and directories ... OK
* checking for portable file names ... OK
* checking for sufficient/correct file permissions ... OK
* checking whether package ‘CAGEfightR’ can be installed ... OK
* checking installed package size ... OK
* checking package directory ... OK
* checking ‘build’ directory ... OK
* checking DESCRIPTION meta-information ... OK
* checking top-level files ... OK
* checking for left-over files ... OK
* checking index information ... OK
* checking package subdirectories ... OK
* checking code files for non-ASCII characters ... OK
* checking R files for syntax errors ... OK
* checking whether the package can be loaded ... OK
* checking whether the package can be loaded with stated dependencies ... OK
* checking whether the package can be unloaded cleanly ... OK
* checking whether the namespace can be loaded with stated dependencies ... OK
* checking whether the namespace can be unloaded cleanly ... OK
* checking loading without being on the library search path ... OK
* checking whether startup messages can be suppressed ... OK
* checking dependencies in R code ... OK
* checking S3 generic/method consistency ... OK
* checking replacement functions ... OK
* checking foreign function calls ... OK
* checking R code for possible problems ... OK
* checking Rd files ... OK
* checking Rd metadata ... OK
* checking Rd cross-references ... OK
* checking for missing documentation entries ... OK
* checking for code/documentation mismatches ... OK
* checking Rd \usage sections ... OK
* checking Rd contents ... OK
* checking for unstated dependencies in examples ... OK
* checking contents of ‘data’ directory ... OK
* checking data for non-ASCII characters ... OK
* checking LazyData ... OK
* checking data for ASCII and uncompressed saves ... OK
* checking files in ‘vignettes’ ... OK
* checking examples ... OK
Examples with CPU (user + system) or elapsed time > 5s
           user system elapsed
findLinks 6.195  0.976   6.698
* checking for unstated dependencies in vignettes ... OK
* checking package vignettes ... OK
* checking re-building of vignette outputs ... OK
* checking PDF version of manual ... OK
* DONE
Status: OK
CAGEfightR.Rcheck/00install.out
############################################################################## ############################################################################## ### ### Running command: ### ### /home/biocbuild/bbs-3.20-bioc/R/bin/R CMD INSTALL CAGEfightR ### ############################################################################## ############################################################################## * installing to library ‘/media/volume/teran2_disk/biocbuild/bbs-3.20-bioc/R/site-library’ * installing *source* package ‘CAGEfightR’ ... ** using staged installation ** R ** data *** moving datasets to lazyload DB ** inst ** byte-compile and prepare package for lazy loading ** help *** installing help indices ** building package indices ** installing vignettes ** testing if installed package can be loaded from temporary location ** testing if installed package can be loaded from final location ** testing if installed package keeps a record of temporary installation path * DONE (CAGEfightR)
CAGEfightR.Rcheck/CAGEfightR-Ex.timings
| name | user | system | elapsed | |
| assignGeneID | 2.951 | 0.058 | 3.037 | |
| assignMissingID | 0.607 | 0.008 | 0.615 | |
| assignTxID | 0.682 | 0.003 | 0.685 | |
| assignTxType | 0.001 | 0.000 | 0.000 | |
| balanceBC | 0.000 | 0.000 | 0.001 | |
| balanceD | 0 | 0 | 0 | |
| bwCommonGenome | 0.025 | 0.002 | 0.031 | |
| bwGenomeCompatibility | 0.010 | 0.001 | 0.011 | |
| bwValid | 0.006 | 0.000 | 0.005 | |
| calcBidirectionality | 0.291 | 0.001 | 0.291 | |
| calcComposition | 0.833 | 0.008 | 0.841 | |
| calcPooled | 0.063 | 0.000 | 0.062 | |
| calcShape | 2.953 | 0.142 | 3.094 | |
| calcSupport | 0.063 | 0.007 | 0.069 | |
| calcTPM | 0.069 | 0.009 | 0.078 | |
| calcTotalTags | 0.032 | 0.007 | 0.039 | |
| checkCTSSs | 0.155 | 0.006 | 0.164 | |
| checkPeaked | 0.035 | 0.008 | 0.043 | |
| checkPooled | 0.034 | 0.011 | 0.045 | |
| clusterBidirectionally | 0 | 0 | 0 | |
| clusterUnidirectionally | 0.861 | 0.032 | 0.893 | |
| combineClusters | 0.472 | 0.004 | 0.475 | |
| convertBAM2BigWig | 0 | 0 | 0 | |
| convertBED2BigWig | 0.000 | 0.000 | 0.001 | |
| convertGRanges2GPos | 0.049 | 0.000 | 0.048 | |
| exampleDesign | 0.000 | 0.005 | 0.005 | |
| findLinks | 6.195 | 0.976 | 6.698 | |
| findStretches | 0.284 | 0.040 | 0.325 | |
| quantifyCTSSs | 0 | 0 | 0 | |
| quantifyCTSSs2 | 0.000 | 0.001 | 0.000 | |
| quantifyClusters | 0.252 | 0.047 | 0.300 | |
| quantifyGenes | 0.774 | 0.091 | 0.866 | |
| quickEnhancers | 0 | 0 | 0 | |
| quickGenes | 0 | 0 | 0 | |
| quickTSSs | 0 | 0 | 0 | |
| shapeEntropy | 0.000 | 0.000 | 0.001 | |
| shapeIQR | 0.001 | 0.000 | 0.000 | |
| shapeMean | 0 | 0 | 0 | |
| shapeMultimodality | 0 | 0 | 0 | |
| subsetByBidirectionality | 0.545 | 0.011 | 0.556 | |
| subsetByComposition | 0.792 | 0.009 | 0.802 | |
| subsetBySupport | 0.049 | 0.000 | 0.049 | |
| swapRanges | 0.114 | 0.002 | 0.117 | |
| swapScores | 0.062 | 0.002 | 0.064 | |
| trackBalance | 0.001 | 0.000 | 0.001 | |
| trackCTSS | 2.798 | 0.174 | 2.972 | |
| trackClusters | 1.911 | 0.003 | 1.914 | |
| trackLinks | 0.635 | 0.486 | 0.865 | |
| trimToPeak | 0.535 | 0.099 | 0.634 | |
| trimToPercentiles | 1.370 | 0.013 | 1.385 | |
| tuneTagClustering | 0 | 0 | 0 | |
| utilsAggregateRows | 0.176 | 0.115 | 0.290 | |
| utilsDeStrand | 0.080 | 0.001 | 0.081 | |
| utilsScoreOverlaps | 0.041 | 0.000 | 0.041 | |
| utilsSimplifyTxDb | 0 | 0 | 0 | |