| Back to Multiple platform build/check report for BioC 3.20: simplified long | 
 | 
This page was generated on 2025-04-02 19:29 -0400 (Wed, 02 Apr 2025).
| Hostname | OS | Arch (*) | R version | Installed pkgs | 
|---|---|---|---|---|
| nebbiolo2 | Linux (Ubuntu 24.04.1 LTS) | x86_64 | 4.4.3 (2025-02-28) -- "Trophy Case" | 4764 | 
| palomino8 | Windows Server 2022 Datacenter | x64 | 4.4.3 (2025-02-28 ucrt) -- "Trophy Case" | 4495 | 
| merida1 | macOS 12.7.5 Monterey | x86_64 | 4.4.3 (2025-02-28) -- "Trophy Case" | 4522 | 
| kjohnson1 | macOS 13.6.6 Ventura | arm64 | 4.4.3 (2025-02-28) -- "Trophy Case" | 4449 | 
| taishan | Linux (openEuler 24.03 LTS) | aarch64 | 4.4.3 (2025-02-28) -- "Trophy Case" | 4426 | 
| Click on any hostname to see more info about the system (e.g. compilers) (*) as reported by 'uname -p', except on Windows and Mac OS X | ||||
| Package 264/2289 | Hostname | OS / Arch | INSTALL | BUILD | CHECK | BUILD BIN | ||||||||
| CAGEfightR 1.26.0  (landing page) Malte Thodberg 
 | nebbiolo2 | Linux (Ubuntu 24.04.1 LTS) / x86_64 | OK | OK | OK |  | ||||||||
| palomino8 | Windows Server 2022 Datacenter / x64 | OK | OK | OK | OK |  | ||||||||
| merida1 | macOS 12.7.5 Monterey / x86_64 | OK | OK | OK | OK |  | ||||||||
| kjohnson1 | macOS 13.6.6 Ventura / arm64 | OK | OK | OK | OK |  | ||||||||
| taishan | Linux (openEuler 24.03 LTS) / aarch64 | OK | OK | OK | ||||||||||
| To the developers/maintainers of the CAGEfightR package: - Allow up to 24 hours (and sometimes 48 hours) for your latest push to git@git.bioconductor.org:packages/CAGEfightR.git to reflect on this report. See Troubleshooting Build Report for more information. - Use the following Renviron settings to reproduce errors and warnings. - If 'R CMD check' started to fail recently on the Linux builder(s) over a missing dependency, add the missing dependency to 'Suggests:' in your DESCRIPTION file. See Renviron.bioc for more information. | 
| Package: CAGEfightR | 
| Version: 1.26.0 | 
| Command: F:\biocbuild\bbs-3.20-bioc\R\bin\R.exe CMD check --no-multiarch --install=check:CAGEfightR.install-out.txt --library=F:\biocbuild\bbs-3.20-bioc\R\library --no-vignettes --timings CAGEfightR_1.26.0.tar.gz | 
| StartedAt: 2025-03-31 23:40:13 -0400 (Mon, 31 Mar 2025) | 
| EndedAt: 2025-03-31 23:49:00 -0400 (Mon, 31 Mar 2025) | 
| EllapsedTime: 527.2 seconds | 
| RetCode: 0 | 
| Status: OK | 
| CheckDir: CAGEfightR.Rcheck | 
| Warnings: 0 | 
##############################################################################
##############################################################################
###
### Running command:
###
###   F:\biocbuild\bbs-3.20-bioc\R\bin\R.exe CMD check --no-multiarch --install=check:CAGEfightR.install-out.txt --library=F:\biocbuild\bbs-3.20-bioc\R\library --no-vignettes --timings CAGEfightR_1.26.0.tar.gz
###
##############################################################################
##############################################################################
* using log directory 'F:/biocbuild/bbs-3.20-bioc/meat/CAGEfightR.Rcheck'
* using R version 4.4.3 (2025-02-28 ucrt)
* using platform: x86_64-w64-mingw32
* R was compiled by
    gcc.exe (GCC) 13.3.0
    GNU Fortran (GCC) 13.3.0
* running under: Windows Server 2022 x64 (build 20348)
* using session charset: UTF-8
* using option '--no-vignettes'
* checking for file 'CAGEfightR/DESCRIPTION' ... OK
* checking extension type ... Package
* this is package 'CAGEfightR' version '1.26.0'
* package encoding: UTF-8
* checking package namespace information ... OK
* checking package dependencies ... OK
* checking if this is a source package ... OK
* checking if there is a namespace ... OK
* checking for hidden files and directories ... OK
* checking for portable file names ... OK
* checking whether package 'CAGEfightR' can be installed ... OK
* checking installed package size ... OK
* checking package directory ... OK
* checking 'build' directory ... OK
* checking DESCRIPTION meta-information ... OK
* checking top-level files ... OK
* checking for left-over files ... OK
* checking index information ... OK
* checking package subdirectories ... OK
* checking code files for non-ASCII characters ... OK
* checking R files for syntax errors ... OK
* checking whether the package can be loaded ... OK
* checking whether the package can be loaded with stated dependencies ... OK
* checking whether the package can be unloaded cleanly ... OK
* checking whether the namespace can be loaded with stated dependencies ... OK
* checking whether the namespace can be unloaded cleanly ... OK
* checking whether startup messages can be suppressed ... OK
* checking dependencies in R code ... OK
* checking S3 generic/method consistency ... OK
* checking replacement functions ... OK
* checking foreign function calls ... OK
* checking R code for possible problems ... OK
* checking Rd files ... OK
* checking Rd metadata ... OK
* checking Rd cross-references ... OK
* checking for missing documentation entries ... OK
* checking for code/documentation mismatches ... OK
* checking Rd \usage sections ... OK
* checking Rd contents ... OK
* checking for unstated dependencies in examples ... OK
* checking contents of 'data' directory ... OK
* checking data for non-ASCII characters ... OK
* checking LazyData ... OK
* checking data for ASCII and uncompressed saves ... OK
* checking files in 'vignettes' ... OK
* checking examples ... OK
Examples with CPU (user + system) or elapsed time > 5s
             user system elapsed
findLinks    7.00   0.22   54.27
assignGeneID 4.19   0.23    7.70
trackLinks   2.58   0.09   27.28
* checking for unstated dependencies in vignettes ... OK
* checking package vignettes ... OK
* checking running R code from vignettes ... SKIPPED
* checking re-building of vignette outputs ... SKIPPED
* checking PDF version of manual ... OK
* DONE
Status: OK
CAGEfightR.Rcheck/00install.out
############################################################################## ############################################################################## ### ### Running command: ### ### F:\biocbuild\bbs-3.20-bioc\R\bin\R.exe CMD INSTALL CAGEfightR ### ############################################################################## ############################################################################## * installing to library 'F:/biocbuild/bbs-3.20-bioc/R/library' * installing *source* package 'CAGEfightR' ... ** using staged installation ** R ** data *** moving datasets to lazyload DB ** inst ** byte-compile and prepare package for lazy loading ** help *** installing help indices ** building package indices ** installing vignettes ** testing if installed package can be loaded from temporary location ** testing if installed package can be loaded from final location ** testing if installed package keeps a record of temporary installation path * DONE (CAGEfightR)
CAGEfightR.Rcheck/CAGEfightR-Ex.timings
| name | user | system | elapsed | |
| assignGeneID | 4.19 | 0.23 | 7.70 | |
| assignMissingID | 1.33 | 0.08 | 1.40 | |
| assignTxID | 1.11 | 0.03 | 1.14 | |
| assignTxType | 0 | 0 | 0 | |
| balanceBC | 0 | 0 | 0 | |
| balanceD | 0 | 0 | 0 | |
| bwCommonGenome | 0 | 0 | 0 | |
| bwGenomeCompatibility | 0 | 0 | 0 | |
| bwValid | 0.02 | 0.00 | 0.01 | |
| calcBidirectionality | 0.42 | 0.00 | 0.42 | |
| calcComposition | 2.82 | 0.08 | 2.89 | |
| calcPooled | 0.10 | 0.00 | 0.09 | |
| calcShape | 2.15 | 0.14 | 2.30 | |
| calcSupport | 0.10 | 0.01 | 0.11 | |
| calcTPM | 0.15 | 0.02 | 0.17 | |
| calcTotalTags | 0.09 | 0.00 | 0.10 | |
| checkCTSSs | 0 | 0 | 0 | |
| checkPeaked | 0.10 | 0.00 | 0.09 | |
| checkPooled | 0.06 | 0.01 | 0.07 | |
| clusterBidirectionally | 0 | 0 | 0 | |
| clusterUnidirectionally | 1.56 | 0.03 | 1.60 | |
| combineClusters | 1.00 | 0.07 | 1.06 | |
| convertBAM2BigWig | 0 | 0 | 0 | |
| convertBED2BigWig | 0 | 0 | 0 | |
| convertGRanges2GPos | 0.17 | 0.00 | 0.17 | |
| exampleDesign | 0.00 | 0.04 | 0.05 | |
| findLinks | 7.00 | 0.22 | 54.27 | |
| findStretches | 0.42 | 0.03 | 0.45 | |
| quantifyCTSSs | 0 | 0 | 0 | |
| quantifyCTSSs2 | 0 | 0 | 0 | |
| quantifyClusters | 0.59 | 0.05 | 0.64 | |
| quantifyGenes | 1.39 | 0.05 | 1.44 | |
| quickEnhancers | 0 | 0 | 0 | |
| quickGenes | 0 | 0 | 0 | |
| quickTSSs | 0 | 0 | 0 | |
| shapeEntropy | 0 | 0 | 0 | |
| shapeIQR | 0 | 0 | 0 | |
| shapeMean | 0 | 0 | 0 | |
| shapeMultimodality | 0 | 0 | 0 | |
| subsetByBidirectionality | 0.44 | 0.04 | 0.47 | |
| subsetByComposition | 1.51 | 0.02 | 1.53 | |
| subsetBySupport | 0.11 | 0.00 | 0.11 | |
| swapRanges | 0.22 | 0.00 | 0.22 | |
| swapScores | 0.09 | 0.00 | 0.09 | |
| trackBalance | 0 | 0 | 0 | |
| trackCTSS | 4.02 | 0.02 | 4.03 | |
| trackClusters | 2.87 | 0.05 | 2.92 | |
| trackLinks | 2.58 | 0.09 | 27.28 | |
| trimToPeak | 0.89 | 0.03 | 0.92 | |
| trimToPercentiles | 2.65 | 0.03 | 2.69 | |
| tuneTagClustering | 0 | 0 | 0 | |
| utilsAggregateRows | 0.64 | 0.30 | 0.93 | |
| utilsDeStrand | 0.17 | 0.00 | 0.17 | |
| utilsScoreOverlaps | 0.08 | 0.00 | 0.08 | |
| utilsSimplifyTxDb | 0 | 0 | 0 | |