| Back to Multiple platform build/check report for BioC 3.20: simplified long | 
 | 
This page was generated on 2024-11-20 12:05 -0500 (Wed, 20 Nov 2024).
| Hostname | OS | Arch (*) | R version | Installed pkgs | 
|---|---|---|---|---|
| teran2 | Linux (Ubuntu 24.04.1 LTS) | x86_64 | 4.4.2 (2024-10-31) -- "Pile of Leaves" | 4481 | 
| nebbiolo2 | Linux (Ubuntu 24.04.1 LTS) | x86_64 | 4.4.2 (2024-10-31) -- "Pile of Leaves" | 4479 | 
| palomino8 | Windows Server 2022 Datacenter | x64 | 4.4.2 (2024-10-31 ucrt) -- "Pile of Leaves" | 4359 | 
| lconway | macOS 12.7.1 Monterey | x86_64 | 4.4.1 (2024-06-14) -- "Race for Your Life" | 4539 | 
| kunpeng2 | Linux (openEuler 22.03 LTS-SP1) | aarch64 | 4.4.1 (2024-06-14) -- "Race for Your Life" | 4493 | 
| Click on any hostname to see more info about the system (e.g. compilers) (*) as reported by 'uname -p', except on Windows and Mac OS X | ||||
| Package 264/2289 | Hostname | OS / Arch | INSTALL | BUILD | CHECK | BUILD BIN | ||||||||
| CAGEfightR 1.26.0  (landing page) Malte Thodberg 
 | teran2 | Linux (Ubuntu 24.04.1 LTS) / x86_64 | OK | OK | OK |  | ||||||||
| nebbiolo2 | Linux (Ubuntu 24.04.1 LTS) / x86_64 | OK | OK | OK | ||||||||||
| palomino8 | Windows Server 2022 Datacenter / x64 | OK | OK | OK | OK |  | ||||||||
| lconway | macOS 12.7.1 Monterey / x86_64 | OK | OK | OK | OK |  | ||||||||
| kunpeng2 | Linux (openEuler 22.03 LTS-SP1) / aarch64 | OK | OK | OK | ||||||||||
| To the developers/maintainers of the CAGEfightR package: - Allow up to 24 hours (and sometimes 48 hours) for your latest push to git@git.bioconductor.org:packages/CAGEfightR.git to reflect on this report. See Troubleshooting Build Report for more information. - Use the following Renviron settings to reproduce errors and warnings. - If 'R CMD check' started to fail recently on the Linux builder(s) over a missing dependency, add the missing dependency to 'Suggests:' in your DESCRIPTION file. See Renviron.bioc for more information. | 
| Package: CAGEfightR | 
| Version: 1.26.0 | 
| Command: /Library/Frameworks/R.framework/Resources/bin/R CMD check --install=check:CAGEfightR.install-out.txt --library=/Library/Frameworks/R.framework/Resources/library --no-vignettes --timings CAGEfightR_1.26.0.tar.gz | 
| StartedAt: 2024-11-19 20:12:40 -0500 (Tue, 19 Nov 2024) | 
| EndedAt: 2024-11-19 20:21:47 -0500 (Tue, 19 Nov 2024) | 
| EllapsedTime: 547.0 seconds | 
| RetCode: 0 | 
| Status: OK | 
| CheckDir: CAGEfightR.Rcheck | 
| Warnings: 0 | 
##############################################################################
##############################################################################
###
### Running command:
###
###   /Library/Frameworks/R.framework/Resources/bin/R CMD check --install=check:CAGEfightR.install-out.txt --library=/Library/Frameworks/R.framework/Resources/library --no-vignettes --timings CAGEfightR_1.26.0.tar.gz
###
##############################################################################
##############################################################################
* using log directory ‘/Users/biocbuild/bbs-3.20-bioc/meat/CAGEfightR.Rcheck’
* using R version 4.4.1 (2024-06-14)
* using platform: x86_64-apple-darwin20
* R was compiled by
    Apple clang version 14.0.0 (clang-1400.0.29.202)
    GNU Fortran (GCC) 12.2.0
* running under: macOS Monterey 12.7.6
* using session charset: UTF-8
* using option ‘--no-vignettes’
* checking for file ‘CAGEfightR/DESCRIPTION’ ... OK
* checking extension type ... Package
* this is package ‘CAGEfightR’ version ‘1.26.0’
* package encoding: UTF-8
* checking package namespace information ... OK
* checking package dependencies ...Warning: unable to access index for repository https://CRAN.R-project.org/src/contrib:
  cannot open URL 'https://CRAN.R-project.org/src/contrib/PACKAGES'
 OK
* checking if this is a source package ... OK
* checking if there is a namespace ... OK
* checking for hidden files and directories ... OK
* checking for portable file names ... OK
* checking for sufficient/correct file permissions ... OK
* checking whether package ‘CAGEfightR’ can be installed ... OK
* checking installed package size ... OK
* checking package directory ... OK
* checking ‘build’ directory ... OK
* checking DESCRIPTION meta-information ... OK
* checking top-level files ... OK
* checking for left-over files ... OK
* checking index information ... OK
* checking package subdirectories ... OK
* checking code files for non-ASCII characters ... OK
* checking R files for syntax errors ... OK
* checking whether the package can be loaded ... OK
* checking whether the package can be loaded with stated dependencies ... OK
* checking whether the package can be unloaded cleanly ... OK
* checking whether the namespace can be loaded with stated dependencies ... OK
* checking whether the namespace can be unloaded cleanly ... OK
* checking whether startup messages can be suppressed ... OK
* checking dependencies in R code ... OK
* checking S3 generic/method consistency ... OK
* checking replacement functions ... OK
* checking foreign function calls ... OK
* checking R code for possible problems ... OK
* checking Rd files ... OK
* checking Rd metadata ... OK
* checking Rd cross-references ... OK
* checking for missing documentation entries ... OK
* checking for code/documentation mismatches ... OK
* checking Rd \usage sections ... OK
* checking Rd contents ... OK
* checking for unstated dependencies in examples ... OK
* checking contents of ‘data’ directory ... OK
* checking data for non-ASCII characters ... OK
* checking LazyData ... OK
* checking data for ASCII and uncompressed saves ... OK
* checking files in ‘vignettes’ ... OK
* checking examples ... OK
Examples with CPU (user + system) or elapsed time > 5s
           user system elapsed
findLinks 4.973  0.658   5.227
* checking for unstated dependencies in vignettes ... OK
* checking package vignettes ... OK
* checking running R code from vignettes ... SKIPPED
* checking re-building of vignette outputs ... SKIPPED
* checking PDF version of manual ... OK
* DONE
Status: OK
CAGEfightR.Rcheck/00install.out
############################################################################## ############################################################################## ### ### Running command: ### ### /Library/Frameworks/R.framework/Resources/bin/R CMD INSTALL CAGEfightR ### ############################################################################## ############################################################################## * installing to library ‘/Library/Frameworks/R.framework/Versions/4.4-x86_64/Resources/library’ * installing *source* package ‘CAGEfightR’ ... ** using staged installation ** R ** data *** moving datasets to lazyload DB ** inst ** byte-compile and prepare package for lazy loading ** help *** installing help indices ** building package indices ** installing vignettes ** testing if installed package can be loaded from temporary location ** testing if installed package can be loaded from final location ** testing if installed package keeps a record of temporary installation path * DONE (CAGEfightR)
CAGEfightR.Rcheck/CAGEfightR-Ex.timings
| name | user | system | elapsed | |
| assignGeneID | 2.992 | 0.091 | 3.116 | |
| assignMissingID | 0.852 | 0.033 | 0.887 | |
| assignTxID | 0.753 | 0.027 | 0.783 | |
| assignTxType | 0.000 | 0.001 | 0.001 | |
| balanceBC | 0.001 | 0.000 | 0.000 | |
| balanceD | 0 | 0 | 0 | |
| bwCommonGenome | 0.031 | 0.004 | 0.037 | |
| bwGenomeCompatibility | 0.015 | 0.002 | 0.017 | |
| bwValid | 0.007 | 0.002 | 0.010 | |
| calcBidirectionality | 0.353 | 0.011 | 0.366 | |
| calcComposition | 1.103 | 0.030 | 1.136 | |
| calcPooled | 0.071 | 0.005 | 0.077 | |
| calcShape | 2.759 | 0.149 | 2.912 | |
| calcSupport | 0.077 | 0.002 | 0.079 | |
| calcTPM | 0.101 | 0.003 | 0.104 | |
| calcTotalTags | 0.050 | 0.002 | 0.052 | |
| checkCTSSs | 0.204 | 0.006 | 0.225 | |
| checkPeaked | 0.051 | 0.004 | 0.055 | |
| checkPooled | 0.050 | 0.002 | 0.052 | |
| clusterBidirectionally | 0.000 | 0.000 | 0.001 | |
| clusterUnidirectionally | 1.116 | 0.032 | 1.155 | |
| combineClusters | 0.615 | 0.009 | 0.627 | |
| convertBAM2BigWig | 0 | 0 | 0 | |
| convertBED2BigWig | 0 | 0 | 0 | |
| convertGRanges2GPos | 0.057 | 0.001 | 0.057 | |
| exampleDesign | 0.003 | 0.007 | 0.010 | |
| findLinks | 4.973 | 0.658 | 5.227 | |
| findStretches | 0.308 | 0.048 | 0.357 | |
| quantifyCTSSs | 0.000 | 0.001 | 0.000 | |
| quantifyCTSSs2 | 0 | 0 | 0 | |
| quantifyClusters | 0.329 | 0.038 | 0.369 | |
| quantifyGenes | 1.062 | 0.099 | 1.165 | |
| quickEnhancers | 0.000 | 0.001 | 0.000 | |
| quickGenes | 0.001 | 0.000 | 0.000 | |
| quickTSSs | 0 | 0 | 0 | |
| shapeEntropy | 0.001 | 0.000 | 0.000 | |
| shapeIQR | 0.001 | 0.000 | 0.001 | |
| shapeMean | 0.000 | 0.000 | 0.001 | |
| shapeMultimodality | 0 | 0 | 0 | |
| subsetByBidirectionality | 0.353 | 0.033 | 0.387 | |
| subsetByComposition | 0.975 | 0.036 | 1.014 | |
| subsetBySupport | 0.053 | 0.004 | 0.057 | |
| swapRanges | 0.138 | 0.006 | 0.144 | |
| swapScores | 0.076 | 0.004 | 0.081 | |
| trackBalance | 0.000 | 0.001 | 0.001 | |
| trackCTSS | 2.703 | 0.178 | 2.890 | |
| trackClusters | 1.777 | 0.026 | 1.808 | |
| trackLinks | 0.788 | 0.355 | 0.964 | |
| trimToPeak | 0.644 | 0.074 | 0.720 | |
| trimToPercentiles | 1.430 | 0.028 | 1.461 | |
| tuneTagClustering | 0.000 | 0.001 | 0.000 | |
| utilsAggregateRows | 0.296 | 0.328 | 0.631 | |
| utilsDeStrand | 0.101 | 0.003 | 0.104 | |
| utilsScoreOverlaps | 0.057 | 0.001 | 0.058 | |
| utilsSimplifyTxDb | 0.000 | 0.000 | 0.001 | |