| Back to Multiple platform build/check report for BioC 3.20: simplified long |
|
This page was generated on 2024-07-16 11:40 -0400 (Tue, 16 Jul 2024).
| Hostname | OS | Arch (*) | R version | Installed pkgs |
|---|---|---|---|---|
| nebbiolo2 | Linux (Ubuntu 22.04.3 LTS) | x86_64 | 4.4.1 (2024-06-14) -- "Race for Your Life" | 4677 |
| palomino6 | Windows Server 2022 Datacenter | x64 | 4.4.1 (2024-06-14 ucrt) -- "Race for Your Life" | 4416 |
| lconway | macOS 12.7.1 Monterey | x86_64 | 4.4.1 (2024-06-14) -- "Race for Your Life" | 4444 |
| kjohnson3 | macOS 13.6.5 Ventura | arm64 | 4.4.1 (2024-06-14) -- "Race for Your Life" | 4393 |
| palomino8 | Windows Server 2022 Datacenter | x64 | 4.4.1 (2024-06-14 ucrt) -- "Race for Your Life" | 4373 |
| Click on any hostname to see more info about the system (e.g. compilers) (*) as reported by 'uname -p', except on Windows and Mac OS X | ||||
| Package 259/2243 | Hostname | OS / Arch | INSTALL | BUILD | CHECK | BUILD BIN | ||||||||
| CAGEfightR 1.25.0 (landing page) Malte Thodberg
| nebbiolo2 | Linux (Ubuntu 22.04.3 LTS) / x86_64 | OK | OK | OK | |||||||||
| palomino6 | Windows Server 2022 Datacenter / x64 | OK | OK | OK | OK | |||||||||
| lconway | macOS 12.7.1 Monterey / x86_64 | OK | OK | OK | OK | |||||||||
| kjohnson3 | macOS 13.6.5 Ventura / arm64 | OK | OK | OK | OK | |||||||||
| palomino8 | Windows Server 2022 Datacenter / x64 | OK | OK | OK | OK | |||||||||
|
To the developers/maintainers of the CAGEfightR package: - Allow up to 24 hours (and sometimes 48 hours) for your latest push to git@git.bioconductor.org:packages/CAGEfightR.git to reflect on this report. See Troubleshooting Build Report for more information. - Use the following Renviron settings to reproduce errors and warnings. - If 'R CMD check' started to fail recently on the Linux builder(s) over a missing dependency, add the missing dependency to 'Suggests:' in your DESCRIPTION file. See Renviron.bioc for more information. |
| Package: CAGEfightR |
| Version: 1.25.0 |
| Command: C:\Users\biocbuild\bbs-3.20-bioc\R\bin\R.exe CMD check --no-multiarch --install=check:CAGEfightR.install-out.txt --library=C:\Users\biocbuild\bbs-3.20-bioc\R\library --no-vignettes --timings CAGEfightR_1.25.0.tar.gz |
| StartedAt: 2024-07-15 22:21:56 -0400 (Mon, 15 Jul 2024) |
| EndedAt: 2024-07-15 22:29:46 -0400 (Mon, 15 Jul 2024) |
| EllapsedTime: 469.8 seconds |
| RetCode: 0 |
| Status: OK |
| CheckDir: CAGEfightR.Rcheck |
| Warnings: 0 |
##############################################################################
##############################################################################
###
### Running command:
###
### C:\Users\biocbuild\bbs-3.20-bioc\R\bin\R.exe CMD check --no-multiarch --install=check:CAGEfightR.install-out.txt --library=C:\Users\biocbuild\bbs-3.20-bioc\R\library --no-vignettes --timings CAGEfightR_1.25.0.tar.gz
###
##############################################################################
##############################################################################
* using log directory 'C:/Users/biocbuild/bbs-3.20-bioc/meat/CAGEfightR.Rcheck'
* using R version 4.4.1 (2024-06-14 ucrt)
* using platform: x86_64-w64-mingw32
* R was compiled by
gcc.exe (GCC) 13.2.0
GNU Fortran (GCC) 13.2.0
* running under: Windows Server 2022 x64 (build 20348)
* using session charset: UTF-8
* using option '--no-vignettes'
* checking for file 'CAGEfightR/DESCRIPTION' ... OK
* checking extension type ... Package
* this is package 'CAGEfightR' version '1.25.0'
* package encoding: UTF-8
* checking package namespace information ... OK
* checking package dependencies ... OK
* checking if this is a source package ... OK
* checking if there is a namespace ... OK
* checking for hidden files and directories ... OK
* checking for portable file names ... OK
* checking whether package 'CAGEfightR' can be installed ... OK
* checking installed package size ... OK
* checking package directory ... OK
* checking 'build' directory ... OK
* checking DESCRIPTION meta-information ... OK
* checking top-level files ... OK
* checking for left-over files ... OK
* checking index information ... OK
* checking package subdirectories ... OK
* checking code files for non-ASCII characters ... OK
* checking R files for syntax errors ... OK
* checking whether the package can be loaded ... OK
* checking whether the package can be loaded with stated dependencies ... OK
* checking whether the package can be unloaded cleanly ... OK
* checking whether the namespace can be loaded with stated dependencies ... OK
* checking whether the namespace can be unloaded cleanly ... OK
* checking whether startup messages can be suppressed ... OK
* checking dependencies in R code ... OK
* checking S3 generic/method consistency ... OK
* checking replacement functions ... OK
* checking foreign function calls ... OK
* checking R code for possible problems ... OK
* checking Rd files ... OK
* checking Rd metadata ... OK
* checking Rd cross-references ... OK
* checking for missing documentation entries ... OK
* checking for code/documentation mismatches ... OK
* checking Rd \usage sections ... OK
* checking Rd contents ... OK
* checking for unstated dependencies in examples ... OK
* checking contents of 'data' directory ... OK
* checking data for non-ASCII characters ... OK
* checking LazyData ... OK
* checking data for ASCII and uncompressed saves ... OK
* checking files in 'vignettes' ... OK
* checking examples ... OK
Examples with CPU (user + system) or elapsed time > 5s
user system elapsed
findLinks 7.92 0.14 50.22
clusterUnidirectionally 6.12 0.08 4.09
trackLinks 2.00 0.08 22.25
* checking for unstated dependencies in vignettes ... OK
* checking package vignettes ... OK
* checking running R code from vignettes ... SKIPPED
* checking re-building of vignette outputs ... SKIPPED
* checking PDF version of manual ... OK
* DONE
Status: OK
CAGEfightR.Rcheck/00install.out
############################################################################## ############################################################################## ### ### Running command: ### ### C:\Users\biocbuild\bbs-3.20-bioc\R\bin\R.exe CMD INSTALL CAGEfightR ### ############################################################################## ############################################################################## * installing to library 'C:/Users/biocbuild/bbs-3.20-bioc/R/library' * installing *source* package 'CAGEfightR' ... ** using staged installation ** R ** data *** moving datasets to lazyload DB ** inst ** byte-compile and prepare package for lazy loading ** help *** installing help indices ** building package indices ** installing vignettes ** testing if installed package can be loaded from temporary location ** testing if installed package can be loaded from final location ** testing if installed package keeps a record of temporary installation path * DONE (CAGEfightR)
CAGEfightR.Rcheck/CAGEfightR-Ex.timings
| name | user | system | elapsed | |
| assignGeneID | 3.89 | 0.11 | 3.76 | |
| assignMissingID | 0.83 | 0.05 | 0.88 | |
| assignTxID | 0.70 | 0.03 | 0.74 | |
| assignTxType | 0 | 0 | 0 | |
| balanceBC | 0 | 0 | 0 | |
| balanceD | 0 | 0 | 0 | |
| bwCommonGenome | 0 | 0 | 0 | |
| bwGenomeCompatibility | 0 | 0 | 0 | |
| bwValid | 0.02 | 0.00 | 0.02 | |
| calcBidirectionality | 0.38 | 0.00 | 0.38 | |
| calcComposition | 1.10 | 0.05 | 1.16 | |
| calcPooled | 0.10 | 0.00 | 0.09 | |
| calcShape | 1.90 | 0.19 | 2.09 | |
| calcSupport | 0.11 | 0.01 | 0.13 | |
| calcTPM | 0.11 | 0.00 | 0.11 | |
| calcTotalTags | 0.03 | 0.02 | 0.04 | |
| checkCTSSs | 0 | 0 | 0 | |
| checkPeaked | 0.05 | 0.00 | 0.05 | |
| checkPooled | 0.05 | 0.02 | 0.06 | |
| clusterBidirectionally | 0 | 0 | 0 | |
| clusterUnidirectionally | 6.12 | 0.08 | 4.09 | |
| combineClusters | 1.85 | 0.01 | 1.86 | |
| convertBAM2BigWig | 0 | 0 | 0 | |
| convertBED2BigWig | 0 | 0 | 0 | |
| convertGRanges2GPos | 0.07 | 0.00 | 0.06 | |
| exampleDesign | 0.01 | 0.02 | 0.06 | |
| findLinks | 7.92 | 0.14 | 50.22 | |
| findStretches | 0.25 | 0.00 | 0.27 | |
| quantifyCTSSs | 0 | 0 | 0 | |
| quantifyCTSSs2 | 0 | 0 | 0 | |
| quantifyClusters | 0.32 | 0.08 | 0.42 | |
| quantifyGenes | 2.73 | 0.08 | 3.00 | |
| quickEnhancers | 0 | 0 | 0 | |
| quickGenes | 0 | 0 | 0 | |
| quickTSSs | 0 | 0 | 0 | |
| shapeEntropy | 0 | 0 | 0 | |
| shapeIQR | 0 | 0 | 0 | |
| shapeMean | 0 | 0 | 0 | |
| shapeMultimodality | 0 | 0 | 0 | |
| subsetByBidirectionality | 0.31 | 0.01 | 0.32 | |
| subsetByComposition | 0.94 | 0.01 | 0.94 | |
| subsetBySupport | 0.06 | 0.00 | 0.06 | |
| swapRanges | 0.11 | 0.02 | 0.12 | |
| swapScores | 0.08 | 0.01 | 0.10 | |
| trackBalance | 0 | 0 | 0 | |
| trackCTSS | 3.90 | 0.08 | 3.95 | |
| trackClusters | 1.94 | 0.02 | 1.95 | |
| trackLinks | 2.00 | 0.08 | 22.25 | |
| trimToPeak | 0.55 | 0.03 | 0.57 | |
| trimToPercentiles | 2.37 | 0.03 | 2.41 | |
| tuneTagClustering | 0 | 0 | 0 | |
| utilsAggregateRows | 0.35 | 0.20 | 0.55 | |
| utilsDeStrand | 0.08 | 0.00 | 0.08 | |
| utilsScoreOverlaps | 0.05 | 0.00 | 0.04 | |
| utilsSimplifyTxDb | 0 | 0 | 0 | |