| Back to Multiple platform build/check report for BioC 3.18: simplified long |
|
This page was generated on 2024-03-04 11:37:36 -0500 (Mon, 04 Mar 2024).
| Hostname | OS | Arch (*) | R version | Installed pkgs |
|---|---|---|---|---|
| nebbiolo2 | Linux (Ubuntu 22.04.3 LTS) | x86_64 | 4.3.2 Patched (2023-11-13 r85521) -- "Eye Holes" | 4692 |
| palomino4 | Windows Server 2022 Datacenter | x64 | 4.3.2 (2023-10-31 ucrt) -- "Eye Holes" | 4445 |
| lconway | macOS 12.7.1 Monterey | x86_64 | 4.3.2 Patched (2023-11-01 r85457) -- "Eye Holes" | 4466 |
| Click on any hostname to see more info about the system (e.g. compilers) (*) as reported by 'uname -p', except on Windows and Mac OS X | ||||
| Package 1375/2266 | Hostname | OS / Arch | INSTALL | BUILD | CHECK | BUILD BIN | ||||||||
| musicatk 1.12.0 (landing page) Aaron Chevalier
| nebbiolo2 | Linux (Ubuntu 22.04.3 LTS) / x86_64 | OK | OK | OK | |||||||||
| palomino4 | Windows Server 2022 Datacenter / x64 | OK | OK | OK | OK | |||||||||
| lconway | macOS 12.7.1 Monterey / x86_64 | OK | OK | OK | OK | |||||||||
| kjohnson1 | macOS 13.6.1 Ventura / arm64 | see weekly results here | ||||||||||||
|
To the developers/maintainers of the musicatk package: - Allow up to 24 hours (and sometimes 48 hours) for your latest push to git@git.bioconductor.org:packages/musicatk.git to reflect on this report. See Troubleshooting Build Report for more information. - Use the following Renviron settings to reproduce errors and warnings. - If 'R CMD check' started to fail recently on the Linux builder(s) over a missing dependency, add the missing dependency to 'Suggests:' in your DESCRIPTION file. See Renviron.bioc for more information. |
| Package: musicatk |
| Version: 1.12.0 |
| Command: /Library/Frameworks/R.framework/Resources/bin/R CMD check --install=check:musicatk.install-out.txt --library=/Library/Frameworks/R.framework/Resources/library --no-vignettes --timings musicatk_1.12.0.tar.gz |
| StartedAt: 2024-03-03 22:07:03 -0500 (Sun, 03 Mar 2024) |
| EndedAt: 2024-03-03 22:14:32 -0500 (Sun, 03 Mar 2024) |
| EllapsedTime: 449.5 seconds |
| RetCode: 0 |
| Status: OK |
| CheckDir: musicatk.Rcheck |
| Warnings: 0 |
##############################################################################
##############################################################################
###
### Running command:
###
### /Library/Frameworks/R.framework/Resources/bin/R CMD check --install=check:musicatk.install-out.txt --library=/Library/Frameworks/R.framework/Resources/library --no-vignettes --timings musicatk_1.12.0.tar.gz
###
##############################################################################
##############################################################################
* using log directory ‘/Users/biocbuild/bbs-3.18-bioc/meat/musicatk.Rcheck’
* using R version 4.3.2 Patched (2023-11-01 r85457)
* using platform: x86_64-apple-darwin20 (64-bit)
* R was compiled by
Apple clang version 14.0.3 (clang-1403.0.22.14.1)
GNU Fortran (GCC) 12.2.0
* running under: macOS Monterey 12.7.1
* using session charset: UTF-8
* using option ‘--no-vignettes’
* checking for file ‘musicatk/DESCRIPTION’ ... OK
* checking extension type ... Package
* this is package ‘musicatk’ version ‘1.12.0’
* package encoding: UTF-8
* checking package namespace information ... OK
* checking package dependencies ... OK
* checking if this is a source package ... OK
* checking if there is a namespace ... OK
* checking for hidden files and directories ... OK
* checking for portable file names ... OK
* checking for sufficient/correct file permissions ... OK
* checking whether package ‘musicatk’ can be installed ... OK
* checking installed package size ... OK
* checking package directory ... OK
* checking ‘build’ directory ... OK
* checking DESCRIPTION meta-information ... OK
* checking top-level files ... OK
* checking for left-over files ... OK
* checking index information ... OK
* checking package subdirectories ... OK
* checking R files for non-ASCII characters ... OK
* checking R files for syntax errors ... OK
* checking whether the package can be loaded ... OK
* checking whether the package can be loaded with stated dependencies ... OK
* checking whether the package can be unloaded cleanly ... OK
* checking whether the namespace can be loaded with stated dependencies ... OK
* checking whether the namespace can be unloaded cleanly ... OK
* checking dependencies in R code ... OK
* checking S3 generic/method consistency ... OK
* checking replacement functions ... OK
* checking foreign function calls ... OK
* checking R code for possible problems ... OK
* checking Rd files ... OK
* checking Rd metadata ... OK
* checking Rd cross-references ... OK
* checking for missing documentation entries ... OK
* checking for code/documentation mismatches ... OK
* checking Rd \usage sections ... OK
* checking Rd contents ... OK
* checking for unstated dependencies in examples ... OK
* checking contents of ‘data’ directory ... OK
* checking data for non-ASCII characters ... OK
* checking LazyData ... OK
* checking data for ASCII and uncompressed saves ... OK
* checking files in ‘vignettes’ ... OK
* checking examples ... OK
Examples with CPU (user + system) or elapsed time > 5s
user system elapsed
build_standard_table 8.967 1.097 10.286
plot_cluster 5.290 0.224 5.564
extract_variants 5.309 0.102 5.462
create_umap 5.182 0.091 5.315
* checking for unstated dependencies in ‘tests’ ... OK
* checking tests ...
Running ‘testthat.R’
OK
* checking for unstated dependencies in vignettes ... OK
* checking package vignettes in ‘inst/doc’ ... OK
* checking running R code from vignettes ... SKIPPED
* checking re-building of vignette outputs ... SKIPPED
* checking PDF version of manual ... OK
* DONE
Status: OK
musicatk.Rcheck/00install.out
############################################################################## ############################################################################## ### ### Running command: ### ### /Library/Frameworks/R.framework/Resources/bin/R CMD INSTALL musicatk ### ############################################################################## ############################################################################## * installing to library ‘/Library/Frameworks/R.framework/Versions/4.3-x86_64/Resources/library’ * installing *source* package ‘musicatk’ ... ** using staged installation ** R ** data *** moving datasets to lazyload DB ** inst ** byte-compile and prepare package for lazy loading ** help *** installing help indices ** building package indices ** installing vignettes ** testing if installed package can be loaded from temporary location ** testing if installed package can be loaded from final location ** testing if installed package keeps a record of temporary installation path * DONE (musicatk)
musicatk.Rcheck/tests/testthat.Rout
R version 4.3.2 Patched (2023-11-01 r85457) -- "Eye Holes"
Copyright (C) 2023 The R Foundation for Statistical Computing
Platform: x86_64-apple-darwin20 (64-bit)
R is free software and comes with ABSOLUTELY NO WARRANTY.
You are welcome to redistribute it under certain conditions.
Type 'license()' or 'licence()' for distribution details.
R is a collaborative project with many contributors.
Type 'contributors()' for more information and
'citation()' on how to cite R or R packages in publications.
Type 'demo()' for some demos, 'help()' for on-line help, or
'help.start()' for an HTML browser interface to help.
Type 'q()' to quit R.
> library("testthat")
> library("musicatk")
Loading required package: NMF
Loading required package: registry
Loading required package: rngtools
Loading required package: cluster
NMF - BioConductor layer [OK] | Shared memory capabilities [NO: synchronicity] | Cores 2/2
To enable shared memory capabilities, try: install.extras('
NMF
')
Attaching package: 'NMF'
The following object is masked from 'package:testthat':
compare
>
> test_check("musicatk")
[ FAIL 0 | WARN 5 | SKIP 0 | PASS 42 ]
[ FAIL 0 | WARN 5 | SKIP 0 | PASS 42 ]
>
> proc.time()
user system elapsed
24.333 1.375 25.982
musicatk.Rcheck/musicatk-Ex.timings
| name | user | system | elapsed | |
| add_flank_to_variants | 3.645 | 0.311 | 4.021 | |
| add_variant_type | 0.017 | 0.005 | 0.022 | |
| annotate_replication_strand | 0.149 | 0.019 | 0.170 | |
| annotate_transcript_strand | 1.457 | 0.061 | 1.531 | |
| annotate_variant_length | 0.016 | 0.003 | 0.020 | |
| annotate_variant_type | 0.003 | 0.001 | 0.003 | |
| auto_predict_grid | 1.868 | 0.087 | 1.969 | |
| build_custom_table | 2.224 | 0.031 | 2.266 | |
| build_standard_table | 8.967 | 1.097 | 10.286 | |
| built_tables | 0.002 | 0.002 | 0.004 | |
| cluster_exposure | 0.018 | 0.005 | 0.026 | |
| combine_count_tables | 3.033 | 0.373 | 3.538 | |
| combine_predict_grid | 2.009 | 0.067 | 2.129 | |
| compare_cosmic_v2 | 2.917 | 0.049 | 2.989 | |
| compare_cosmic_v3 | 1.736 | 0.027 | 1.782 | |
| compare_results | 2.099 | 0.029 | 2.145 | |
| cosmic_v2_subtype_map | 0.002 | 0.000 | 0.002 | |
| create_musica | 1.053 | 0.268 | 1.484 | |
| create_umap | 5.182 | 0.091 | 5.315 | |
| discover_signatures | 0.884 | 0.141 | 1.050 | |
| drop_annotation | 0.002 | 0.001 | 0.004 | |
| exposure_differential_analysis | 0.013 | 0.004 | 0.022 | |
| exposures | 0.003 | 0.004 | 0.008 | |
| extract_count_tables | 0.004 | 0.002 | 0.006 | |
| extract_variants | 5.309 | 0.102 | 5.462 | |
| extract_variants_from_maf | 0.127 | 0.004 | 0.132 | |
| extract_variants_from_maf_file | 0.111 | 0.004 | 0.116 | |
| extract_variants_from_matrix | 0.129 | 0.006 | 0.136 | |
| extract_variants_from_vcf | 0.939 | 0.039 | 0.991 | |
| extract_variants_from_vcf_file | 0.589 | 0.011 | 0.606 | |
| generate_result_grid | 0.190 | 0.005 | 0.204 | |
| get_musica | 0.011 | 0.005 | 0.021 | |
| k_select | 0.975 | 0.027 | 1.025 | |
| musicatk | 0.000 | 0.000 | 0.001 | |
| name_signatures | 0.003 | 0.002 | 0.005 | |
| pipe | 0.003 | 0.002 | 0.005 | |
| plot_cluster | 5.290 | 0.224 | 5.564 | |
| plot_differential_analysis | 0.305 | 0.005 | 0.315 | |
| plot_exposures | 0.206 | 0.008 | 0.216 | |
| plot_heatmap | 0.810 | 0.023 | 0.845 | |
| plot_sample_counts | 0.628 | 0.009 | 0.645 | |
| plot_sample_reconstruction_error | 0.899 | 0.011 | 0.917 | |
| plot_signatures | 0.879 | 0.014 | 0.905 | |
| plot_umap | 4.683 | 0.076 | 4.794 | |
| predict_exposure | 1.286 | 0.143 | 1.446 | |
| rc | 0.002 | 0.000 | 0.003 | |
| samp_annot | 0.010 | 0.005 | 0.016 | |
| sample_names | 0.004 | 0.002 | 0.006 | |
| select_genome | 0 | 0 | 0 | |
| signatures | 0.005 | 0.006 | 0.010 | |
| subset_musica_by_annotation | 0.007 | 0.003 | 0.010 | |
| subset_musica_by_counts | 0.010 | 0.004 | 0.013 | |
| subset_variant_by_type | 0.007 | 0.003 | 0.010 | |
| subset_variants_by_samples | 0.007 | 0.003 | 0.009 | |
| table_selected | 0.002 | 0.002 | 0.004 | |
| tables | 0.009 | 0.004 | 0.013 | |
| umap | 0.004 | 0.003 | 0.008 | |
| variants | 0.010 | 0.004 | 0.015 | |