| Back to Multiple platform build/check report for BioC 3.18: simplified long |
|
This page was generated on 2024-04-17 11:37:02 -0400 (Wed, 17 Apr 2024).
| Hostname | OS | Arch (*) | R version | Installed pkgs |
|---|---|---|---|---|
| nebbiolo2 | Linux (Ubuntu 22.04.3 LTS) | x86_64 | 4.3.3 (2024-02-29) -- "Angel Food Cake" | 4676 |
| palomino4 | Windows Server 2022 Datacenter | x64 | 4.3.3 (2024-02-29 ucrt) -- "Angel Food Cake" | 4414 |
| merida1 | macOS 12.7.1 Monterey | x86_64 | 4.3.3 (2024-02-29) -- "Angel Food Cake" | 4437 |
| Click on any hostname to see more info about the system (e.g. compilers) (*) as reported by 'uname -p', except on Windows and Mac OS X | ||||
| Package 1375/2266 | Hostname | OS / Arch | INSTALL | BUILD | CHECK | BUILD BIN | ||||||||
| musicatk 1.12.0 (landing page) Aaron Chevalier
| nebbiolo2 | Linux (Ubuntu 22.04.3 LTS) / x86_64 | OK | OK | OK | |||||||||
| palomino4 | Windows Server 2022 Datacenter / x64 | OK | OK | OK | OK | |||||||||
| merida1 | macOS 12.7.1 Monterey / x86_64 | OK | OK | OK | OK | |||||||||
| kjohnson1 | macOS 13.6.1 Ventura / arm64 | see weekly results here | ||||||||||||
|
To the developers/maintainers of the musicatk package: - Allow up to 24 hours (and sometimes 48 hours) for your latest push to git@git.bioconductor.org:packages/musicatk.git to reflect on this report. See Troubleshooting Build Report for more information. - Use the following Renviron settings to reproduce errors and warnings. - If 'R CMD check' started to fail recently on the Linux builder(s) over a missing dependency, add the missing dependency to 'Suggests:' in your DESCRIPTION file. See Renviron.bioc for more information. |
| Package: musicatk |
| Version: 1.12.0 |
| Command: F:\biocbuild\bbs-3.18-bioc\R\bin\R.exe CMD check --no-multiarch --install=check:musicatk.install-out.txt --library=F:\biocbuild\bbs-3.18-bioc\R\library --no-vignettes --timings musicatk_1.12.0.tar.gz |
| StartedAt: 2024-04-16 03:07:13 -0400 (Tue, 16 Apr 2024) |
| EndedAt: 2024-04-16 03:14:24 -0400 (Tue, 16 Apr 2024) |
| EllapsedTime: 430.7 seconds |
| RetCode: 0 |
| Status: OK |
| CheckDir: musicatk.Rcheck |
| Warnings: 0 |
##############################################################################
##############################################################################
###
### Running command:
###
### F:\biocbuild\bbs-3.18-bioc\R\bin\R.exe CMD check --no-multiarch --install=check:musicatk.install-out.txt --library=F:\biocbuild\bbs-3.18-bioc\R\library --no-vignettes --timings musicatk_1.12.0.tar.gz
###
##############################################################################
##############################################################################
* using log directory 'F:/biocbuild/bbs-3.18-bioc/meat/musicatk.Rcheck'
* using R version 4.3.3 (2024-02-29 ucrt)
* using platform: x86_64-w64-mingw32 (64-bit)
* R was compiled by
gcc.exe (GCC) 12.3.0
GNU Fortran (GCC) 12.3.0
* running under: Windows Server 2022 x64 (build 20348)
* using session charset: UTF-8
* using option '--no-vignettes'
* checking for file 'musicatk/DESCRIPTION' ... OK
* checking extension type ... Package
* this is package 'musicatk' version '1.12.0'
* package encoding: UTF-8
* checking package namespace information ... OK
* checking package dependencies ... OK
* checking if this is a source package ... OK
* checking if there is a namespace ... OK
* checking for hidden files and directories ... OK
* checking for portable file names ... OK
* checking whether package 'musicatk' can be installed ... OK
* checking installed package size ... OK
* checking package directory ... OK
* checking 'build' directory ... OK
* checking DESCRIPTION meta-information ... OK
* checking top-level files ... OK
* checking for left-over files ... OK
* checking index information ... OK
* checking package subdirectories ... OK
* checking R files for non-ASCII characters ... OK
* checking R files for syntax errors ... OK
* checking whether the package can be loaded ... OK
* checking whether the package can be loaded with stated dependencies ... OK
* checking whether the package can be unloaded cleanly ... OK
* checking whether the namespace can be loaded with stated dependencies ... OK
* checking whether the namespace can be unloaded cleanly ... OK
* checking dependencies in R code ... OK
* checking S3 generic/method consistency ... OK
* checking replacement functions ... OK
* checking foreign function calls ... OK
* checking R code for possible problems ... OK
* checking Rd files ... OK
* checking Rd metadata ... OK
* checking Rd cross-references ... OK
* checking for missing documentation entries ... OK
* checking for code/documentation mismatches ... OK
* checking Rd \usage sections ... OK
* checking Rd contents ... OK
* checking for unstated dependencies in examples ... OK
* checking contents of 'data' directory ... OK
* checking data for non-ASCII characters ... OK
* checking LazyData ... OK
* checking data for ASCII and uncompressed saves ... OK
* checking files in 'vignettes' ... OK
* checking examples ... OK
Examples with CPU (user + system) or elapsed time > 5s
user system elapsed
build_standard_table 9.49 1.66 11.17
extract_variants 6.10 0.14 6.28
plot_cluster 5.44 0.22 7.18
create_umap 5.27 0.08 5.50
plot_umap 5.00 0.08 5.08
* checking for unstated dependencies in 'tests' ... OK
* checking tests ...
Running 'testthat.R'
OK
* checking for unstated dependencies in vignettes ... OK
* checking package vignettes in 'inst/doc' ... OK
* checking running R code from vignettes ... SKIPPED
* checking re-building of vignette outputs ... SKIPPED
* checking PDF version of manual ... OK
* DONE
Status: OK
musicatk.Rcheck/00install.out
############################################################################## ############################################################################## ### ### Running command: ### ### F:\biocbuild\bbs-3.18-bioc\R\bin\R.exe CMD INSTALL musicatk ### ############################################################################## ############################################################################## * installing to library 'F:/biocbuild/bbs-3.18-bioc/R/library' * installing *source* package 'musicatk' ... ** using staged installation ** R ** data *** moving datasets to lazyload DB ** inst ** byte-compile and prepare package for lazy loading ** help *** installing help indices ** building package indices ** installing vignettes ** testing if installed package can be loaded from temporary location ** testing if installed package can be loaded from final location ** testing if installed package keeps a record of temporary installation path * DONE (musicatk)
musicatk.Rcheck/tests/testthat.Rout
R version 4.3.3 (2024-02-29 ucrt) -- "Angel Food Cake"
Copyright (C) 2024 The R Foundation for Statistical Computing
Platform: x86_64-w64-mingw32/x64 (64-bit)
R is free software and comes with ABSOLUTELY NO WARRANTY.
You are welcome to redistribute it under certain conditions.
Type 'license()' or 'licence()' for distribution details.
R is a collaborative project with many contributors.
Type 'contributors()' for more information and
'citation()' on how to cite R or R packages in publications.
Type 'demo()' for some demos, 'help()' for on-line help, or
'help.start()' for an HTML browser interface to help.
Type 'q()' to quit R.
> library("testthat")
> library("musicatk")
Loading required package: NMF
Loading required package: registry
Loading required package: rngtools
Loading required package: cluster
NMF - BioConductor layer [OK] | Shared memory capabilities [NO: windows] | Cores 2/2
Attaching package: 'NMF'
The following object is masked from 'package:testthat':
compare
>
> test_check("musicatk")
[ FAIL 0 | WARN 5 | SKIP 0 | PASS 42 ]
[ FAIL 0 | WARN 5 | SKIP 0 | PASS 42 ]
>
> proc.time()
user system elapsed
24.03 2.10 25.06
musicatk.Rcheck/musicatk-Ex.timings
| name | user | system | elapsed | |
| add_flank_to_variants | 3.09 | 0.31 | 3.44 | |
| add_variant_type | 0.02 | 0.00 | 0.02 | |
| annotate_replication_strand | 0.11 | 0.00 | 0.11 | |
| annotate_transcript_strand | 1.17 | 0.06 | 1.24 | |
| annotate_variant_length | 0.03 | 0.00 | 0.03 | |
| annotate_variant_type | 0 | 0 | 0 | |
| auto_predict_grid | 3.33 | 0.03 | 3.47 | |
| build_custom_table | 0.89 | 0.03 | 0.92 | |
| build_standard_table | 9.49 | 1.66 | 11.17 | |
| built_tables | 0.00 | 0.01 | 0.02 | |
| cluster_exposure | 0.00 | 0.02 | 0.12 | |
| combine_count_tables | 2.36 | 0.48 | 2.84 | |
| combine_predict_grid | 2.39 | 0.02 | 2.43 | |
| compare_cosmic_v2 | 2.32 | 0.03 | 2.37 | |
| compare_cosmic_v3 | 2.02 | 0.02 | 2.03 | |
| compare_results | 1.79 | 0.01 | 1.81 | |
| cosmic_v2_subtype_map | 0 | 0 | 0 | |
| create_musica | 1.01 | 0.27 | 1.81 | |
| create_umap | 5.27 | 0.08 | 5.50 | |
| discover_signatures | 0.84 | 0.14 | 1.25 | |
| drop_annotation | 0 | 0 | 0 | |
| exposure_differential_analysis | 0.01 | 0.00 | 0.02 | |
| exposures | 0.00 | 0.01 | 0.02 | |
| extract_count_tables | 0.00 | 0.02 | 0.01 | |
| extract_variants | 6.10 | 0.14 | 6.28 | |
| extract_variants_from_maf | 0.14 | 0.01 | 0.16 | |
| extract_variants_from_maf_file | 0.14 | 0.00 | 0.14 | |
| extract_variants_from_matrix | 0.09 | 0.02 | 0.11 | |
| extract_variants_from_vcf | 1.02 | 0.06 | 1.08 | |
| extract_variants_from_vcf_file | 0.61 | 0.02 | 0.63 | |
| generate_result_grid | 0.34 | 0.00 | 0.35 | |
| get_musica | 0.02 | 0.00 | 0.01 | |
| k_select | 0.75 | 0.01 | 0.77 | |
| musicatk | 0 | 0 | 0 | |
| name_signatures | 0 | 0 | 0 | |
| pipe | 0.01 | 0.00 | 0.01 | |
| plot_cluster | 5.44 | 0.22 | 7.18 | |
| plot_differential_analysis | 0.41 | 0.02 | 0.42 | |
| plot_exposures | 0.19 | 0.00 | 0.18 | |
| plot_heatmap | 0.91 | 0.51 | 0.78 | |
| plot_sample_counts | 0.92 | 0.36 | 0.77 | |
| plot_sample_reconstruction_error | 0.92 | 0.00 | 0.92 | |
| plot_signatures | 0.72 | 0.03 | 0.75 | |
| plot_umap | 5.00 | 0.08 | 5.08 | |
| predict_exposure | 1.2 | 0.3 | 1.5 | |
| rc | 0 | 0 | 0 | |
| samp_annot | 0.02 | 0.00 | 0.01 | |
| sample_names | 0 | 0 | 0 | |
| select_genome | 0 | 0 | 0 | |
| signatures | 0.00 | 0.02 | 0.01 | |
| subset_musica_by_annotation | 0.02 | 0.00 | 0.04 | |
| subset_musica_by_counts | 0.02 | 0.00 | 0.01 | |
| subset_variant_by_type | 0.01 | 0.00 | 0.02 | |
| subset_variants_by_samples | 0 | 0 | 0 | |
| table_selected | 0.00 | 0.01 | 0.01 | |
| tables | 0.02 | 0.02 | 0.03 | |
| umap | 0.01 | 0.00 | 0.02 | |
| variants | 0.00 | 0.03 | 0.03 | |