| Back to Mac ARM64 build report for BioC 3.16 |
|
This page was generated on 2023-04-19 11:01:52 -0400 (Wed, 19 Apr 2023).
| Hostname | OS | Arch (*) | R version | Installed pkgs |
|---|---|---|---|---|
| kjohnson | macOS 13.0 Ventura | arm64 | 4.2.2 (2022-10-31) -- "Innocent and Trusting" | 4256 |
| Click on any hostname to see more info about the system (e.g. compilers) (*) as reported by 'uname -p', except on Windows and Mac OS X | ||||
|
To the developers/maintainers of the SummarizedExperiment package: Make sure to use the following settings in order to reproduce any error or warning you see on this page. |
| Package 1992/2183 | Hostname | OS / Arch | INSTALL | BUILD | BUILD BIN | ||||||||
| SummarizedExperiment 1.28.0 (landing page) Hervé Pagès
| kjohnson | macOS 13.0 Ventura / arm64 | OK | OK | OK | ||||||||
| QUICK STATS | OS / Arch | INSTALL | BUILD | BUILD BIN | |||||||||||||
| kjohnson | macOS 13.0 Ventura / arm64 |
|
|
| |||||||||||||
| Package 1/494 | Hostname | OS / Arch | INSTALL | BUILD | BUILD BIN | ||||||||||||
| ADAM 1.14.0 (landing page) Jose Luiz Rybarczyk Filho
| kjohnson | macOS 13.0 Ventura / arm64 | OK | OK | OK | ||||||||||||
| Package 2/494 | Hostname | OS / Arch | INSTALL | BUILD | BUILD BIN | ||||||||||||
| ADImpute 1.8.0 (landing page) Ana Carolina Leote
| kjohnson | macOS 13.0 Ventura / arm64 | OK | OK | OK | ||||||||||||
| Package 3/494 | Hostname | OS / Arch | INSTALL | BUILD | BUILD BIN | ||||||||||||
| AffiXcan 1.16.0 (landing page) Alessandro Lussana
| kjohnson | macOS 13.0 Ventura / arm64 | OK | OK | OK | ||||||||||||
| Package 4/494 | Hostname | OS / Arch | INSTALL | BUILD | BUILD BIN | ||||||||||||
| aggregateBioVar 1.8.0 (landing page) Jason Ratcliff
| kjohnson | macOS 13.0 Ventura / arm64 | OK | OK | OK | ||||||||||||
| Package 5/494 | Hostname | OS / Arch | INSTALL | BUILD | BUILD BIN | ||||||||||||
| airpart 1.6.0 (landing page) Wancen Mu
| kjohnson | macOS 13.0 Ventura / arm64 | OK | OK | OK | ||||||||||||
| Package 6/494 | Hostname | OS / Arch | INSTALL | BUILD | BUILD BIN | ||||||||||||
| ALDEx2 1.30.0 (landing page) Greg Gloor
| kjohnson | macOS 13.0 Ventura / arm64 | OK | OK | OK | ||||||||||||
| Package 7/494 | Hostname | OS / Arch | INSTALL | BUILD | BUILD BIN | ||||||||||||
| AllelicImbalance 1.36.0 (landing page) Jesper R Gadin
| kjohnson | macOS 13.0 Ventura / arm64 | OK | OK | OK | ||||||||||||
| Package 8/494 | Hostname | OS / Arch | INSTALL | BUILD | BUILD BIN | ||||||||||||
| alpine 1.24.0 (landing page) Michael Love
| kjohnson | macOS 13.0 Ventura / arm64 | OK | OK | OK | ||||||||||||
| Package 9/494 | Hostname | OS / Arch | INSTALL | BUILD | BUILD BIN | ||||||||||||
| ANCOMBC 2.0.3 (landing page) Huang Lin
| kjohnson | macOS 13.0 Ventura / arm64 | OK | OK | OK | ||||||||||||
| Package 10/494 | Hostname | OS / Arch | INSTALL | BUILD | BUILD BIN | ||||||||||||
| animalcules 1.14.0 (landing page) Yue Zhao
| kjohnson | macOS 13.0 Ventura / arm64 | OK | OK | OK | ||||||||||||
| Package 11/494 | Hostname | OS / Arch | INSTALL | BUILD | BUILD BIN | ||||||||||||
| anota2seq 1.20.0 (landing page) Christian Oertlin
| kjohnson | macOS 13.0 Ventura / arm64 | OK | OK | OK | ||||||||||||
| Package 12/494 | Hostname | OS / Arch | INSTALL | BUILD | BUILD BIN | ||||||||||||
| APAlyzer 1.12.0 (landing page) Ruijia Wang
| kjohnson | macOS 13.0 Ventura / arm64 | OK | OK | OK | ||||||||||||
| Package 13/494 | Hostname | OS / Arch | INSTALL | BUILD | BUILD BIN | ||||||||||||
| apeglm 1.20.0 (landing page) Anqi Zhu
| kjohnson | macOS 13.0 Ventura / arm64 | OK | OK | OK | ||||||||||||
| Package 14/494 | Hostname | OS / Arch | INSTALL | BUILD | BUILD BIN | ||||||||||||
| APL 1.2.0 (landing page) Elzbieta Gralinska
| kjohnson | macOS 13.0 Ventura / arm64 | OK | ERROR | skipped | ||||||||||||
| Package 15/494 | Hostname | OS / Arch | INSTALL | BUILD | BUILD BIN | ||||||||||||
| appreci8R 1.16.0 (landing page) Sarah Sandmann
| kjohnson | macOS 13.0 Ventura / arm64 | OK | OK | OK | ||||||||||||
| Package 16/494 | Hostname | OS / Arch | INSTALL | BUILD | BUILD BIN | ||||||||||||
| ASICS 2.14.0 (landing page) Gaëlle Lefort
| kjohnson | macOS 13.0 Ventura / arm64 | OK | OK | OK | ||||||||||||
| Package 17/494 | Hostname | OS / Arch | INSTALL | BUILD | BUILD BIN | ||||||||||||
| ASpediaFI 1.12.0 (landing page) Doyeong Yu
| kjohnson | macOS 13.0 Ventura / arm64 | ERROR | ERROR | skipped | ||||||||||||
| Package 18/494 | Hostname | OS / Arch | INSTALL | BUILD | BUILD BIN | ||||||||||||
| ASURAT 1.2.0 (landing page) Keita Iida
| kjohnson | macOS 13.0 Ventura / arm64 | OK | OK | OK | ||||||||||||
| Package 19/494 | Hostname | OS / Arch | INSTALL | BUILD | BUILD BIN | ||||||||||||
| ATACseqTFEA 1.0.1 (landing page) Jianhong Ou
| kjohnson | macOS 13.0 Ventura / arm64 | OK | OK | OK | ||||||||||||
| Package 20/494 | Hostname | OS / Arch | INSTALL | BUILD | BUILD BIN | ||||||||||||
| atena 1.4.1 (landing page) Beatriz Calvo-Serra
| kjohnson | macOS 13.0 Ventura / arm64 | OK | OK | OK | ||||||||||||
| Package 21/494 | Hostname | OS / Arch | INSTALL | BUILD | BUILD BIN | ||||||||||||
| AUCell 1.20.2 (landing page) Sara Aibar
| kjohnson | macOS 13.0 Ventura / arm64 | OK | OK | OK | ||||||||||||
| Package 22/494 | Hostname | OS / Arch | INSTALL | BUILD | BUILD BIN | ||||||||||||
| autonomics 1.6.0 (landing page) Aditya Bhagwat
| kjohnson | macOS 13.0 Ventura / arm64 | OK | OK | OK | ||||||||||||
| Package 23/494 | Hostname | OS / Arch | INSTALL | BUILD | BUILD BIN | ||||||||||||
| awst 1.6.0 (landing page) Davide Risso
| kjohnson | macOS 13.0 Ventura / arm64 | OK | OK | OK | ||||||||||||
| Package 24/494 | Hostname | OS / Arch | INSTALL | BUILD | BUILD BIN | ||||||||||||
| bambu 3.0.8 (landing page) Ying Chen
| kjohnson | macOS 13.0 Ventura / arm64 | OK | OK | OK | ||||||||||||
| Package 25/494 | Hostname | OS / Arch | INSTALL | BUILD | BUILD BIN | ||||||||||||
| barcodetrackR 1.6.0 (landing page) Diego Alexander Espinoza
| kjohnson | macOS 13.0 Ventura / arm64 | OK | OK | OK | ||||||||||||
| Package 26/494 | Hostname | OS / Arch | INSTALL | BUILD | BUILD BIN | ||||||||||||
| BASiCS 2.10.5 (landing page) Catalina Vallejos
| kjohnson | macOS 13.0 Ventura / arm64 | OK | OK | OK | ||||||||||||
| Package 27/494 | Hostname | OS / Arch | INSTALL | BUILD | BUILD BIN | ||||||||||||
| BASiCStan 1.0.0 (landing page) Alan O'Callaghan
| kjohnson | macOS 13.0 Ventura / arm64 | OK | OK | OK | ||||||||||||
| Package 28/494 | Hostname | OS / Arch | INSTALL | BUILD | BUILD BIN | ||||||||||||
| batchelor 1.14.1 (landing page) Aaron Lun
| kjohnson | macOS 13.0 Ventura / arm64 | OK | OK | OK | ||||||||||||
| Package 29/494 | Hostname | OS / Arch | INSTALL | BUILD | BUILD BIN | ||||||||||||
| BayesSpace 1.8.2 (landing page) Matt Stone
| kjohnson | macOS 13.0 Ventura / arm64 | OK | OK | OK | ||||||||||||
| Package 30/494 | Hostname | OS / Arch | INSTALL | BUILD | BUILD BIN | ||||||||||||
| bayNorm 1.16.2 (landing page) Wenhao Tang
| kjohnson | macOS 13.0 Ventura / arm64 | OK | OK | OK | ||||||||||||
| Package 31/494 | Hostname | OS / Arch | INSTALL | BUILD | BUILD BIN | ||||||||||||
| BBCAnalyzer 1.28.0 (landing page) Sarah Sandmann
| kjohnson | macOS 13.0 Ventura / arm64 | OK | OK | OK | ||||||||||||
| Package 32/494 | Hostname | OS / Arch | INSTALL | BUILD | BUILD BIN | ||||||||||||
| BDMMAcorrect 1.16.2 (landing page) ZHENWEI DAI
| kjohnson | macOS 13.0 Ventura / arm64 | OK | OK | OK | ||||||||||||
| Package 33/494 | Hostname | OS / Arch | INSTALL | BUILD | BUILD BIN | ||||||||||||
| beer 1.2.0 (landing page) Athena Chen
| kjohnson | macOS 13.0 Ventura / arm64 | OK | OK | OK | ||||||||||||
| Package 34/494 | Hostname | OS / Arch | INSTALL | BUILD | BUILD BIN | ||||||||||||
| benchdamic 1.4.0 (landing page) Matteo Calgaro
| kjohnson | macOS 13.0 Ventura / arm64 | OK | OK | OK | ||||||||||||
| Package 35/494 | Hostname | OS / Arch | INSTALL | BUILD | BUILD BIN | ||||||||||||
| bigPint 1.14.0 (landing page) Lindsay Rutter
| kjohnson | macOS 13.0 Ventura / arm64 | OK | OK | OK | ||||||||||||
| Package 36/494 | Hostname | OS / Arch | INSTALL | BUILD | BUILD BIN | ||||||||||||
| BiocOncoTK 1.18.0 (landing page) VJ Carey
| kjohnson | macOS 13.0 Ventura / arm64 | OK | OK | OK | ||||||||||||
| Package 37/494 | Hostname | OS / Arch | INSTALL | BUILD | BUILD BIN | ||||||||||||
| BiocSklearn 1.20.1 (landing page) Vince Carey
| kjohnson | macOS 13.0 Ventura / arm64 | OK | ERROR | skipped | ||||||||||||
| Package 38/494 | Hostname | OS / Arch | INSTALL | BUILD | BUILD BIN | ||||||||||||
| BioNERO 1.6.1 (landing page) Fabricio Almeida-Silva
| kjohnson | macOS 13.0 Ventura / arm64 | OK | OK | OK | ||||||||||||
| Package 39/494 | Hostname | OS / Arch | INSTALL | BUILD | BUILD BIN | ||||||||||||
| biosigner 1.26.0 (landing page) Etienne A. Thevenot
| kjohnson | macOS 13.0 Ventura / arm64 | OK | OK | OK | ||||||||||||
| Package 40/494 | Hostname | OS / Arch | INSTALL | BUILD | BUILD BIN | ||||||||||||
| biotmle 1.22.0 (landing page) Nima Hejazi
| kjohnson | macOS 13.0 Ventura / arm64 | OK | OK | OK | ||||||||||||
| Package 41/494 | Hostname | OS / Arch | INSTALL | BUILD | BUILD BIN | ||||||||||||
| biovizBase 1.46.0 (landing page) Michael Lawrence
| kjohnson | macOS 13.0 Ventura / arm64 | OK | OK | OK | ||||||||||||
| Package 42/494 | Hostname | OS / Arch | INSTALL | BUILD | BUILD BIN | ||||||||||||
| biscuiteer 1.12.0 (landing page) Jacob Morrison
| kjohnson | macOS 13.0 Ventura / arm64 | OK | OK | OK | ||||||||||||
| Package 43/494 | Hostname | OS / Arch | INSTALL | BUILD | BUILD BIN | ||||||||||||
| BiSeq 1.38.0 (landing page) Katja Hebestreit
| kjohnson | macOS 13.0 Ventura / arm64 | OK | OK | OK | ||||||||||||
| Package 44/494 | Hostname | OS / Arch | INSTALL | BUILD | BUILD BIN | ||||||||||||
| blacksheepr 1.12.0 (landing page) RugglesLab
| kjohnson | macOS 13.0 Ventura / arm64 | OK | OK | OK | ||||||||||||
| Package 45/494 | Hostname | OS / Arch | INSTALL | BUILD | BUILD BIN | ||||||||||||
| BloodGen3Module 1.6.0 (landing page) Darawan Rinchai
| kjohnson | macOS 13.0 Ventura / arm64 | OK | OK | OK | ||||||||||||
| Package 46/494 | Hostname | OS / Arch | INSTALL | BUILD | BUILD BIN | ||||||||||||
| bnbc 1.20.0 (landing page) Kipper Fletez-Brant
| kjohnson | macOS 13.0 Ventura / arm64 | OK | OK | OK | ||||||||||||
| Package 47/494 | Hostname | OS / Arch | INSTALL | BUILD | BUILD BIN | ||||||||||||
USD Biomedical Engineering
| kjohnson | macOS 13.0 Ventura / arm64 | OK | OK | OK | ||||||||||||
| Package 48/494 | Hostname | OS / Arch | INSTALL | BUILD | BUILD BIN | ||||||||||||
| BRGenomics 1.10.0 (landing page) Mike DeBerardine
| kjohnson | macOS 13.0 Ventura / arm64 | OK | OK | OK | ||||||||||||
| Package 49/494 | Hostname | OS / Arch | INSTALL | BUILD | BUILD BIN | ||||||||||||
| bsseq 1.34.0 (landing page) Kasper Daniel Hansen
| kjohnson | macOS 13.0 Ventura / arm64 | OK | OK | OK | ||||||||||||
| Package 50/494 | Hostname | OS / Arch | INSTALL | BUILD | BUILD BIN | ||||||||||||
| BUMHMM 1.22.0 (landing page) Alina Selega
| kjohnson | macOS 13.0 Ventura / arm64 | OK | OK | OK | ||||||||||||
| Package 51/494 | Hostname | OS / Arch | INSTALL | BUILD | BUILD BIN | ||||||||||||
| BUScorrect 1.16.0 (landing page) Xiangyu Luo
| kjohnson | macOS 13.0 Ventura / arm64 | OK | OK | OK | ||||||||||||
| Package 52/494 | Hostname | OS / Arch | INSTALL | BUILD | BUILD BIN | ||||||||||||
| BUSseq 1.4.2 (landing page) Fangda Song
| kjohnson | macOS 13.0 Ventura / arm64 | OK | OK | OK | ||||||||||||
| Package 53/494 | Hostname | OS / Arch | INSTALL | BUILD | BUILD BIN | ||||||||||||
| CAEN 1.6.0 (landing page) Zhou Yan
| kjohnson | macOS 13.0 Ventura / arm64 | OK | OK | OK | ||||||||||||
| Package 54/494 | Hostname | OS / Arch | INSTALL | BUILD | BUILD BIN | ||||||||||||
| CAGEfightR 1.18.0 (landing page) Malte Thodberg
| kjohnson | macOS 13.0 Ventura / arm64 | OK | OK | OK | ||||||||||||
| Package 55/494 | Hostname | OS / Arch | INSTALL | BUILD | BUILD BIN | ||||||||||||
| CAGEr 2.4.0 (landing page) Charles Plessy
| kjohnson | macOS 13.0 Ventura / arm64 | OK | OK | OK | ||||||||||||
| Package 56/494 | Hostname | OS / Arch | INSTALL | BUILD | BUILD BIN | ||||||||||||
| CATALYST 1.22.0 (landing page) Helena L. Crowell
| kjohnson | macOS 13.0 Ventura / arm64 | OK | OK | OK | ||||||||||||
| Package 57/494 | Hostname | OS / Arch | INSTALL | BUILD | BUILD BIN | ||||||||||||
| CBEA 1.2.0 (landing page) Quang Nguyen
| kjohnson | macOS 13.0 Ventura / arm64 | OK | OK | OK | ||||||||||||
| Package 58/494 | Hostname | OS / Arch | INSTALL | BUILD | BUILD BIN | ||||||||||||
| cBioPortalData 2.10.3 (landing page) Marcel Ramos
| kjohnson | macOS 13.0 Ventura / arm64 | OK | OK | OK | ||||||||||||
| Package 59/494 | Hostname | OS / Arch | INSTALL | BUILD | BUILD BIN | ||||||||||||
| ccfindR 1.18.0 (landing page) Jun Woo
| kjohnson | macOS 13.0 Ventura / arm64 | OK | OK | OK | ||||||||||||
| Package 60/494 | Hostname | OS / Arch | INSTALL | BUILD | BUILD BIN | ||||||||||||
| celaref 1.16.0 (landing page) Sarah Williams
| kjohnson | macOS 13.0 Ventura / arm64 | OK | OK | OK | ||||||||||||
| Package 61/494 | Hostname | OS / Arch | INSTALL | BUILD | BUILD BIN | ||||||||||||
| celda 1.14.2 (landing page) Joshua Campbell
| kjohnson | macOS 13.0 Ventura / arm64 | OK | OK | OK | ||||||||||||
| Package 62/494 | Hostname | OS / Arch | INSTALL | BUILD | BUILD BIN | ||||||||||||
| CelliD 1.6.2 (landing page) Akira Cortal
| kjohnson | macOS 13.0 Ventura / arm64 | OK | OK | OK | ||||||||||||
| Package 63/494 | Hostname | OS / Arch | INSTALL | BUILD | BUILD BIN | ||||||||||||
| CellMixS 1.14.0 (landing page) Almut Lütge
| kjohnson | macOS 13.0 Ventura / arm64 | OK | OK | OK | ||||||||||||
| Package 64/494 | Hostname | OS / Arch | INSTALL | BUILD | BUILD BIN | ||||||||||||
| CellTrails 1.16.0 (landing page) Daniel Ellwanger
| kjohnson | macOS 13.0 Ventura / arm64 | OK | OK | OK | ||||||||||||
| Package 65/494 | Hostname | OS / Arch | INSTALL | BUILD | BUILD BIN | ||||||||||||
| censcyt 1.6.1 (landing page) Reto Gerber
| kjohnson | macOS 13.0 Ventura / arm64 | OK | OK | OK | ||||||||||||
| Package 66/494 | Hostname | OS / Arch | INSTALL | BUILD | BUILD BIN | ||||||||||||
| Cepo 1.4.0 (landing page) Hani Jieun Kim
| kjohnson | macOS 13.0 Ventura / arm64 | OK | OK | OK | ||||||||||||
| Package 67/494 | Hostname | OS / Arch | INSTALL | BUILD | BUILD BIN | ||||||||||||
| CeTF 1.10.2 (landing page) Carlos Alberto Oliveira de Biagi Junior
| kjohnson | macOS 13.0 Ventura / arm64 | OK | OK | OK | ||||||||||||
| Package 68/494 | Hostname | OS / Arch | INSTALL | BUILD | BUILD BIN | ||||||||||||
| CHETAH 1.14.0 (landing page) Jurrian de Kanter
| kjohnson | macOS 13.0 Ventura / arm64 | OK | OK | OK | ||||||||||||
| Package 69/494 | Hostname | OS / Arch | INSTALL | BUILD | BUILD BIN | ||||||||||||
| ChIPpeakAnno 3.32.0 (landing page) Jianhong Ou
| kjohnson | macOS 13.0 Ventura / arm64 | OK | OK | OK | ||||||||||||
| Package 70/494 | Hostname | OS / Arch | INSTALL | BUILD | BUILD BIN | ||||||||||||
| ChromSCape 1.8.0 (landing page) Pacome Prompsy
| kjohnson | macOS 13.0 Ventura / arm64 | OK | OK | OK | ||||||||||||
| Package 71/494 | Hostname | OS / Arch | INSTALL | BUILD | BUILD BIN | ||||||||||||
| chromVAR 1.20.2 (landing page) Alicia Schep
| kjohnson | macOS 13.0 Ventura / arm64 | OK | OK | OK | ||||||||||||
| Package 72/494 | Hostname | OS / Arch | INSTALL | BUILD | BUILD BIN | ||||||||||||
| CiteFuse 1.10.0 (landing page) Yingxin Lin
| kjohnson | macOS 13.0 Ventura / arm64 | OK | OK | OK | ||||||||||||
| Package 73/494 | Hostname | OS / Arch | INSTALL | BUILD | BUILD BIN | ||||||||||||
| clusterExperiment 2.18.2 (landing page) Elizabeth Purdom
| kjohnson | macOS 13.0 Ventura / arm64 | OK | OK | OK | ||||||||||||
| Package 74/494 | Hostname | OS / Arch | INSTALL | BUILD | BUILD BIN | ||||||||||||
| clustifyr 1.10.0 (landing page) Kent Riemondy
| kjohnson | macOS 13.0 Ventura / arm64 | OK | OK | OK | ||||||||||||
| Package 75/494 | Hostname | OS / Arch | INSTALL | BUILD | BUILD BIN | ||||||||||||
| cmapR 1.10.0 (landing page) Ted Natoli
| kjohnson | macOS 13.0 Ventura / arm64 | OK | OK | OK | ||||||||||||
| Package 76/494 | Hostname | OS / Arch | INSTALL | BUILD | BUILD BIN | ||||||||||||
| CNVfilteR 1.12.2 (landing page) Jose Marcos Moreno-Cabrera
| kjohnson | macOS 13.0 Ventura / arm64 | OK | OK | OK | ||||||||||||
| Package 77/494 | Hostname | OS / Arch | INSTALL | BUILD | BUILD BIN | ||||||||||||
| CNVRanger 1.14.0 (landing page) Ludwig Geistlinger
| kjohnson | macOS 13.0 Ventura / arm64 | OK | OK | OK | ||||||||||||
| Package 78/494 | Hostname | OS / Arch | INSTALL | BUILD | BUILD BIN | ||||||||||||
Juan David Henao
| kjohnson | macOS 13.0 Ventura / arm64 | OK | OK | OK | ||||||||||||
| Package 79/494 | Hostname | OS / Arch | INSTALL | BUILD | BUILD BIN | ||||||||||||
| CoGAPS 3.18.0 (landing page) Elana J. Fertig
| kjohnson | macOS 13.0 Ventura / arm64 | ERROR | ERROR | skipped | ||||||||||||
| Package 80/494 | Hostname | OS / Arch | INSTALL | BUILD | BUILD BIN | ||||||||||||
| comapr 1.2.0 (landing page) Ruqian Lyu
| kjohnson | macOS 13.0 Ventura / arm64 | OK | OK | OK | ||||||||||||
| Package 81/494 | Hostname | OS / Arch | INSTALL | BUILD | BUILD BIN | ||||||||||||
| combi 1.10.0 (landing page) Stijn Hawinkel
| kjohnson | macOS 13.0 Ventura / arm64 | OK | OK | OK | ||||||||||||
| Package 82/494 | Hostname | OS / Arch | INSTALL | BUILD | BUILD BIN | ||||||||||||
| compartmap 1.16.0 (landing page) Benjamin Johnson
| kjohnson | macOS 13.0 Ventura / arm64 | OK | OK | OK | ||||||||||||
| Package 83/494 | Hostname | OS / Arch | INSTALL | BUILD | BUILD BIN | ||||||||||||
Ilyess Rachedi
| kjohnson | macOS 13.0 Ventura / arm64 | OK | ERROR | skipped | ||||||||||||
| Package 84/494 | Hostname | OS / Arch | INSTALL | BUILD | BUILD BIN | ||||||||||||
| condiments 1.6.0 (landing page) Hector Roux de Bezieux
| kjohnson | macOS 13.0 Ventura / arm64 | OK | OK | OK | ||||||||||||
| Package 85/494 | Hostname | OS / Arch | INSTALL | BUILD | BUILD BIN | ||||||||||||
| consensusDE 1.16.0 (landing page) Ashley J. Waardenberg
| kjohnson | macOS 13.0 Ventura / arm64 | OK | OK | OK | ||||||||||||
| Package 86/494 | Hostname | OS / Arch | INSTALL | BUILD | BUILD BIN | ||||||||||||
| consICA 1.0.0 (landing page) Petr V. Nazarov
| kjohnson | macOS 13.0 Ventura / arm64 | OK | OK | OK | ||||||||||||
| Package 87/494 | Hostname | OS / Arch | INSTALL | BUILD | BUILD BIN | ||||||||||||
| CopyNumberPlots 1.14.0 (landing page) Bernat Gel
| kjohnson | macOS 13.0 Ventura / arm64 | OK | OK | OK | ||||||||||||
| Package 88/494 | Hostname | OS / Arch | INSTALL | BUILD | BUILD BIN | ||||||||||||
| CoreGx 2.2.0 (landing page) Benjamin Haibe-Kains
| kjohnson | macOS 13.0 Ventura / arm64 | OK | OK | OK | ||||||||||||
| Package 89/494 | Hostname | OS / Arch | INSTALL | BUILD | BUILD BIN | ||||||||||||
| corral 1.8.0 (landing page) Lauren Hsu
| kjohnson | macOS 13.0 Ventura / arm64 | OK | OK | OK | ||||||||||||
| Package 90/494 | Hostname | OS / Arch | INSTALL | BUILD | BUILD BIN | ||||||||||||
| coseq 1.22.0 (landing page) Andrea Rau
| kjohnson | macOS 13.0 Ventura / arm64 | OK | OK | OK | ||||||||||||
| Package 91/494 | Hostname | OS / Arch | INSTALL | BUILD | BUILD BIN | ||||||||||||
| countsimQC 1.16.1 (landing page) Charlotte Soneson
| kjohnson | macOS 13.0 Ventura / arm64 | OK | OK | OK | ||||||||||||
| Package 92/494 | Hostname | OS / Arch | INSTALL | BUILD | BUILD BIN | ||||||||||||
| csaw 1.32.0 (landing page) Aaron Lun
| kjohnson | macOS 13.0 Ventura / arm64 | OK | OK | OK | ||||||||||||
| Package 93/494 | Hostname | OS / Arch | INSTALL | BUILD | BUILD BIN | ||||||||||||
| CSSQ 1.10.0 (landing page) Fan Lab at Georgia Institute of Technology
| kjohnson | macOS 13.0 Ventura / arm64 | OK | OK | OK | ||||||||||||
| Package 94/494 | Hostname | OS / Arch | INSTALL | BUILD | BUILD BIN | ||||||||||||
USD Biomedical Engineering
| kjohnson | macOS 13.0 Ventura / arm64 | ERROR | ERROR | skipped | ||||||||||||
| Package 95/494 | Hostname | OS / Arch | INSTALL | BUILD | BUILD BIN | ||||||||||||
| CTSV 1.0.0 (landing page) Jinge Yu Developer
| kjohnson | macOS 13.0 Ventura / arm64 | OK | OK | OK | ||||||||||||
| Package 96/494 | Hostname | OS / Arch | INSTALL | BUILD | BUILD BIN | ||||||||||||
| cydar 1.22.0 (landing page) Aaron Lun
| kjohnson | macOS 13.0 Ventura / arm64 | OK | OK | OK | ||||||||||||
| Package 97/494 | Hostname | OS / Arch | INSTALL | BUILD | BUILD BIN | ||||||||||||
| CyTOFpower 1.4.0 (landing page) Anne-Maud Ferreira
| kjohnson | macOS 13.0 Ventura / arm64 | OK | OK | OK | ||||||||||||
| Package 98/494 | Hostname | OS / Arch | INSTALL | BUILD | BUILD BIN | ||||||||||||
| cytoKernel 1.4.0 (landing page) Tusharkanti Ghosh
| kjohnson | macOS 13.0 Ventura / arm64 | OK | OK | OK | ||||||||||||
| Package 99/494 | Hostname | OS / Arch | INSTALL | BUILD | BUILD BIN | ||||||||||||
| cytomapper 1.10.1 (landing page) Nils Eling
| kjohnson | macOS 13.0 Ventura / arm64 | OK | OK | OK | ||||||||||||
| Package 100/494 | Hostname | OS / Arch | INSTALL | BUILD | BUILD BIN | ||||||||||||
| DAMEfinder 1.10.1 (landing page) Stephany Orjuela
| kjohnson | macOS 13.0 Ventura / arm64 | OK | OK | OK | ||||||||||||
| Package 101/494 | Hostname | OS / Arch | INSTALL | BUILD | BUILD BIN | ||||||||||||
| DaMiRseq 2.10.0 (landing page) Mattia Chiesa
| kjohnson | macOS 13.0 Ventura / arm64 | OK | OK | OK | ||||||||||||
| Package 102/494 | Hostname | OS / Arch | INSTALL | BUILD | BUILD BIN | ||||||||||||
| dasper 1.8.0 (landing page) David Zhang
| kjohnson | macOS 13.0 Ventura / arm64 | OK | ERROR | skipped | ||||||||||||
| Package 103/494 | Hostname | OS / Arch | INSTALL | BUILD | BUILD BIN | ||||||||||||
| debCAM 1.16.0 (landing page) Lulu Chen
| kjohnson | macOS 13.0 Ventura / arm64 | OK | OK | OK | ||||||||||||
| Package 104/494 | Hostname | OS / Arch | INSTALL | BUILD | BUILD BIN | ||||||||||||
| debrowser 1.26.3 (landing page) Alper Kucukural
| kjohnson | macOS 13.0 Ventura / arm64 | OK | OK | OK | ||||||||||||
| Package 105/494 | Hostname | OS / Arch | INSTALL | BUILD | BUILD BIN | ||||||||||||
| deco 1.14.0 (landing page) Francisco Jose Campos Laborie
| kjohnson | macOS 13.0 Ventura / arm64 | OK | OK | OK | ||||||||||||
| Package 106/494 | Hostname | OS / Arch | INSTALL | BUILD | BUILD BIN | ||||||||||||
Guofeng Meng
| kjohnson | macOS 13.0 Ventura / arm64 | OK | ERROR | skipped | ||||||||||||
| Package 107/494 | Hostname | OS / Arch | INSTALL | BUILD | BUILD BIN | ||||||||||||
| decompTumor2Sig 2.14.0 (landing page) Rosario M. Piro
| kjohnson | macOS 13.0 Ventura / arm64 | OK | TIMEOUT | skipped | ||||||||||||
| Package 108/494 | Hostname | OS / Arch | INSTALL | BUILD | BUILD BIN | ||||||||||||
| deepSNV 1.44.0 (landing page) Moritz Gerstung
| kjohnson | macOS 13.0 Ventura / arm64 | OK | OK | OK | ||||||||||||
| Package 109/494 | Hostname | OS / Arch | INSTALL | BUILD | BUILD BIN | ||||||||||||
| DEFormats 1.26.0 (landing page) Andrzej Oleś
| kjohnson | macOS 13.0 Ventura / arm64 | OK | OK | OK | ||||||||||||
| Package 110/494 | Hostname | OS / Arch | INSTALL | BUILD | BUILD BIN | ||||||||||||
| DEGreport 1.34.0 (landing page) Lorena Pantano
| kjohnson | macOS 13.0 Ventura / arm64 | OK | OK | OK | ||||||||||||
| Package 111/494 | Hostname | OS / Arch | INSTALL | BUILD | BUILD BIN | ||||||||||||
| deltaCaptureC 1.12.0 (landing page) Michael Shapiro
| kjohnson | macOS 13.0 Ventura / arm64 | OK | OK | OK | ||||||||||||
| Package 112/494 | Hostname | OS / Arch | INSTALL | BUILD | BUILD BIN | ||||||||||||
| DeMixT 1.14.0 (landing page) Shuai Guo
| kjohnson | macOS 13.0 Ventura / arm64 | OK | OK | OK | ||||||||||||
| Package 113/494 | Hostname | OS / Arch | INSTALL | BUILD | BUILD BIN | ||||||||||||
| DEP 1.20.0 (landing page) Arne Smits
| kjohnson | macOS 13.0 Ventura / arm64 | OK | OK | OK | ||||||||||||
| Package 114/494 | Hostname | OS / Arch | INSTALL | BUILD | BUILD BIN | ||||||||||||
| DEScan2 1.18.2 (landing page) Dario Righelli
| kjohnson | macOS 13.0 Ventura / arm64 | OK | OK | OK | ||||||||||||
| Package 115/494 | Hostname | OS / Arch | INSTALL | BUILD | BUILD BIN | ||||||||||||
| DESeq2 1.38.3 (landing page) Michael Love
| kjohnson | macOS 13.0 Ventura / arm64 | OK | OK | OK | ||||||||||||
| Package 116/494 | Hostname | OS / Arch | INSTALL | BUILD | BUILD BIN | ||||||||||||
| destiny 3.12.0 (landing page) Philipp Angerer
| kjohnson | macOS 13.0 Ventura / arm64 | OK | OK | OK | ||||||||||||
| Package 117/494 | Hostname | OS / Arch | INSTALL | BUILD | BUILD BIN | ||||||||||||
| DEWSeq 1.12.0 (landing page) bioinformatics team Hentze
| kjohnson | macOS 13.0 Ventura / arm64 | OK | OK | OK | ||||||||||||
| Package 118/494 | Hostname | OS / Arch | INSTALL | BUILD | BUILD BIN | ||||||||||||
| DEXSeq 1.44.0 (landing page) Alejandro Reyes
| kjohnson | macOS 13.0 Ventura / arm64 | OK | OK | OK | ||||||||||||
| Package 119/494 | Hostname | OS / Arch | INSTALL | BUILD | BUILD BIN | ||||||||||||
| DiffBind 3.8.4 (landing page) Rory Stark
| kjohnson | macOS 13.0 Ventura / arm64 | OK | OK | OK | ||||||||||||
| Package 120/494 | Hostname | OS / Arch | INSTALL | BUILD | BUILD BIN | ||||||||||||
| diffcoexp 1.18.0 (landing page) Wenbin Wei
| kjohnson | macOS 13.0 Ventura / arm64 | OK | OK | OK | ||||||||||||
| Package 121/494 | Hostname | OS / Arch | INSTALL | BUILD | BUILD BIN | ||||||||||||
| diffcyt 1.18.0 (landing page) Lukas M. Weber
| kjohnson | macOS 13.0 Ventura / arm64 | OK | OK | OK | ||||||||||||
| Package 122/494 | Hostname | OS / Arch | INSTALL | BUILD | BUILD BIN | ||||||||||||
| DifferentialRegulation 1.2.2 (landing page) Simone Tiberi
| kjohnson | macOS 13.0 Ventura / arm64 | OK | OK | OK | ||||||||||||
| Package 123/494 | Hostname | OS / Arch | INSTALL | BUILD | BUILD BIN | ||||||||||||
| diffHic 1.30.0 (landing page) Aaron Lun
| kjohnson | macOS 13.0 Ventura / arm64 | OK | OK | OK | ||||||||||||
| Package 124/494 | Hostname | OS / Arch | INSTALL | BUILD | BUILD BIN | ||||||||||||
| diffUTR 1.6.0 (landing page) Pierre-Luc Germain
| kjohnson | macOS 13.0 Ventura / arm64 | OK | OK | OK | ||||||||||||
| Package 125/494 | Hostname | OS / Arch | INSTALL | BUILD | BUILD BIN | ||||||||||||
| Dino 1.4.0 (landing page) Jared Brown
| kjohnson | macOS 13.0 Ventura / arm64 | OK | OK | OK | ||||||||||||
| Package 126/494 | Hostname | OS / Arch | INSTALL | BUILD | BUILD BIN | ||||||||||||
| DiscoRhythm 1.14.0 (landing page) Matthew Carlucci
| kjohnson | macOS 13.0 Ventura / arm64 | OK | OK | OK | ||||||||||||
| Package 127/494 | Hostname | OS / Arch | INSTALL | BUILD | BUILD BIN | ||||||||||||
| distinct 1.10.2 (landing page) Simone Tiberi
| kjohnson | macOS 13.0 Ventura / arm64 | OK | OK | OK | ||||||||||||
| Package 128/494 | Hostname | OS / Arch | INSTALL | BUILD | BUILD BIN | ||||||||||||
| dittoSeq 1.10.0 (landing page) Daniel Bunis
| kjohnson | macOS 13.0 Ventura / arm64 | OK | OK | OK | ||||||||||||
| Package 129/494 | Hostname | OS / Arch | INSTALL | BUILD | BUILD BIN | ||||||||||||
| divergence 1.14.0 (landing page) Wikum Dinalankara
| kjohnson | macOS 13.0 Ventura / arm64 | OK | OK | OK | ||||||||||||
| Package 130/494 | Hostname | OS / Arch | INSTALL | BUILD | BUILD BIN | ||||||||||||
| DMCFB 1.12.0 (landing page) Farhad Shokoohi
| kjohnson | macOS 13.0 Ventura / arm64 | OK | OK | OK | ||||||||||||
| Package 131/494 | Hostname | OS / Arch | INSTALL | BUILD | BUILD BIN | ||||||||||||
| DMCHMM 1.20.0 (landing page) Farhad Shokoohi
| kjohnson | macOS 13.0 Ventura / arm64 | OK | OK | OK | ||||||||||||
| Package 132/494 | Hostname | OS / Arch | INSTALL | BUILD | BUILD BIN | ||||||||||||
| DMRcate 2.12.0 (landing page) Tim Peters
| kjohnson | macOS 13.0 Ventura / arm64 | OK | OK | OK | ||||||||||||
| Package 133/494 | Hostname | OS / Arch | INSTALL | BUILD | BUILD BIN | ||||||||||||
| DominoEffect 1.18.0 (landing page) Marija Buljan
| kjohnson | macOS 13.0 Ventura / arm64 | OK | OK | OK | ||||||||||||
| Package 134/494 | Hostname | OS / Arch | INSTALL | BUILD | BUILD BIN | ||||||||||||
| doppelgangR 1.26.0 (landing page) Levi Waldron
| kjohnson | macOS 13.0 Ventura / arm64 | OK | OK | OK | ||||||||||||
| Package 135/494 | Hostname | OS / Arch | INSTALL | BUILD | BUILD BIN | ||||||||||||
| doseR 1.14.0 (landing page) ake.vastermark
| kjohnson | macOS 13.0 Ventura / arm64 | OK | OK | OK | ||||||||||||
| Package 136/494 | Hostname | OS / Arch | INSTALL | BUILD | BUILD BIN | ||||||||||||
| DropletUtils 1.18.1 (landing page) Jonathan Griffiths
| kjohnson | macOS 13.0 Ventura / arm64 | OK | OK | OK | ||||||||||||
| Package 137/494 | Hostname | OS / Arch | INSTALL | BUILD | BUILD BIN | ||||||||||||
| Dune 1.10.0 (landing page) Hector Roux de Bezieux
| kjohnson | macOS 13.0 Ventura / arm64 | OK | OK | OK | ||||||||||||
| Package 138/494 | Hostname | OS / Arch | INSTALL | BUILD | BUILD BIN | ||||||||||||
| easyRNASeq 2.34.0 (landing page) Nicolas Delhomme
| kjohnson | macOS 13.0 Ventura / arm64 | OK | OK | OK | ||||||||||||
| Package 139/494 | Hostname | OS / Arch | INSTALL | BUILD | BUILD BIN | ||||||||||||
| eisaR 1.10.0 (landing page) Michael Stadler
| kjohnson | macOS 13.0 Ventura / arm64 | OK | OK | OK | ||||||||||||
| Package 140/494 | Hostname | OS / Arch | INSTALL | BUILD | BUILD BIN | ||||||||||||
| ELMER 2.22.0 (landing page) Tiago Chedraoui Silva
| kjohnson | macOS 13.0 Ventura / arm64 | OK | OK | OK | ||||||||||||
| Package 141/494 | Hostname | OS / Arch | INSTALL | BUILD | BUILD BIN | ||||||||||||
| ENmix 1.34.02 (landing page) Zongli Xu
| kjohnson | macOS 13.0 Ventura / arm64 | OK | OK | OK | ||||||||||||
| Package 142/494 | Hostname | OS / Arch | INSTALL | BUILD | BUILD BIN | ||||||||||||
| EnrichmentBrowser 2.28.2 (landing page) Ludwig Geistlinger
| kjohnson | macOS 13.0 Ventura / arm64 | OK | OK | OK | ||||||||||||
| Package 143/494 | Hostname | OS / Arch | INSTALL | BUILD | BUILD BIN | ||||||||||||
| ensemblVEP 1.40.0 (landing page) Bioconductor Package Maintainer
| kjohnson | macOS 13.0 Ventura / arm64 | OK | ERROR | skipped | ||||||||||||
| Package 144/494 | Hostname | OS / Arch | INSTALL | BUILD | BUILD BIN | ||||||||||||
| epialleleR 1.6.1 (landing page) Oleksii Nikolaienko
| kjohnson | macOS 13.0 Ventura / arm64 | OK | OK | OK | ||||||||||||
| Package 145/494 | Hostname | OS / Arch | INSTALL | BUILD | BUILD BIN | ||||||||||||
| epigenomix 1.38.0 (landing page) Hans-Ulrich Klein
| kjohnson | macOS 13.0 Ventura / arm64 | OK | OK | OK | ||||||||||||
| Package 146/494 | Hostname | OS / Arch | INSTALL | BUILD | BUILD BIN | ||||||||||||
| epigraHMM 1.6.4 (landing page) Pedro Baldoni
| kjohnson | macOS 13.0 Ventura / arm64 | OK | OK | OK | ||||||||||||
| Package 147/494 | Hostname | OS / Arch | INSTALL | BUILD | BUILD BIN | ||||||||||||
| EpiMix 1.0.2 (landing page) Yuanning Zheng
| kjohnson | macOS 13.0 Ventura / arm64 | OK | ERROR | skipped | ||||||||||||
| Package 148/494 | Hostname | OS / Arch | INSTALL | BUILD | BUILD BIN | ||||||||||||
| epimutacions 1.2.0 (landing page) Dolors Pelegri-Siso
| kjohnson | macOS 13.0 Ventura / arm64 | OK | OK | OK | ||||||||||||
| Package 149/494 | Hostname | OS / Arch | INSTALL | BUILD | BUILD BIN | ||||||||||||
| epistack 1.4.0 (landing page) DEVAILLY Guillaume
| kjohnson | macOS 13.0 Ventura / arm64 | OK | OK | OK | ||||||||||||
| Package 150/494 | Hostname | OS / Arch | INSTALL | BUILD | BUILD BIN | ||||||||||||
| epivizrData 1.26.0 (landing page) Hector Corrada Bravo
| kjohnson | macOS 13.0 Ventura / arm64 | OK | OK | OK | ||||||||||||
| Package 151/494 | Hostname | OS / Arch | INSTALL | BUILD | BUILD BIN | ||||||||||||
| erma 1.14.0 (landing page) VJ Carey
| kjohnson | macOS 13.0 Ventura / arm64 | OK | OK | OK | ||||||||||||
| Package 152/494 | Hostname | OS / Arch | INSTALL | BUILD | BUILD BIN | ||||||||||||
| escape 1.8.0 (landing page) Nick Borcherding
| kjohnson | macOS 13.0 Ventura / arm64 | OK | OK | OK | ||||||||||||
| Package 153/494 | Hostname | OS / Arch | INSTALL | BUILD | BUILD BIN | ||||||||||||
| evaluomeR 1.14.0 (landing page) José Antonio Bernabé-Díaz
| kjohnson | macOS 13.0 Ventura / arm64 | OK | OK | OK | ||||||||||||
| Package 154/494 | Hostname | OS / Arch | INSTALL | BUILD | BUILD BIN | ||||||||||||
| EventPointer 3.6.0 (landing page) Juan A. Ferrer-Bonsoms
| kjohnson | macOS 13.0 Ventura / arm64 | OK | OK | OK | ||||||||||||
| Package 155/494 | Hostname | OS / Arch | INSTALL | BUILD | BUILD BIN | ||||||||||||
| EWCE 1.6.0 (landing page) Alan Murphy
| kjohnson | macOS 13.0 Ventura / arm64 | OK | OK | OK | ||||||||||||
| Package 156/494 | Hostname | OS / Arch | INSTALL | BUILD | BUILD BIN | ||||||||||||
| exomePeak2 1.10.0 (landing page) Zhen Wei
| kjohnson | macOS 13.0 Ventura / arm64 | OK | OK | OK | ||||||||||||
| Package 157/494 | Hostname | OS / Arch | INSTALL | BUILD | BUILD BIN | ||||||||||||
| ExperimentSubset 1.8.0 (landing page) Irzam Sarfraz
| kjohnson | macOS 13.0 Ventura / arm64 | OK | OK | OK | ||||||||||||
| Package 158/494 | Hostname | OS / Arch | INSTALL | BUILD | BUILD BIN | ||||||||||||
| ExpressionAtlas 1.26.0 (landing page) Pedro Madrigal
| kjohnson | macOS 13.0 Ventura / arm64 | OK | OK | OK | ||||||||||||
| Package 159/494 | Hostname | OS / Arch | INSTALL | BUILD | BUILD BIN | ||||||||||||
| extraChIPs 1.2.4 (landing page) Stephen Pederson
| kjohnson | macOS 13.0 Ventura / arm64 | OK | OK | OK | ||||||||||||
| Package 160/494 | Hostname | OS / Arch | INSTALL | BUILD | BUILD BIN | ||||||||||||
| FCBF 2.6.0 (landing page) Tiago Lubiana
| kjohnson | macOS 13.0 Ventura / arm64 | OK | OK | OK | ||||||||||||
| Package 161/494 | Hostname | OS / Arch | INSTALL | BUILD | BUILD BIN | ||||||||||||
| fcScan 1.12.0 (landing page) Pierre Khoueiry
| kjohnson | macOS 13.0 Ventura / arm64 | OK | OK | OK | ||||||||||||
| Package 162/494 | Hostname | OS / Arch | INSTALL | BUILD | BUILD BIN | ||||||||||||
| FEAST 1.6.0 (landing page) Kenong Su
| kjohnson | macOS 13.0 Ventura / arm64 | OK | OK | OK | ||||||||||||
| Package 163/494 | Hostname | OS / Arch | INSTALL | BUILD | BUILD BIN | ||||||||||||
| FindIT2 1.4.0 (landing page) Guandong Shang
| kjohnson | macOS 13.0 Ventura / arm64 | OK | OK | OK | ||||||||||||
| Package 164/494 | Hostname | OS / Arch | INSTALL | BUILD | BUILD BIN | ||||||||||||
| fishpond 2.4.1 (landing page) Michael Love
| kjohnson | macOS 13.0 Ventura / arm64 | OK | OK | OK | ||||||||||||
| Package 165/494 | Hostname | OS / Arch | INSTALL | BUILD | BUILD BIN | ||||||||||||
| FLAMES 1.4.3 (landing page) Oliver Voogd
| kjohnson | macOS 13.0 Ventura / arm64 | OK | OK | OK | ||||||||||||
| Package 166/494 | Hostname | OS / Arch | INSTALL | BUILD | BUILD BIN | ||||||||||||
| FRASER 1.10.2 (landing page) Christian Mertes
| kjohnson | macOS 13.0 Ventura / arm64 | OK | OK | OK | ||||||||||||
| Package 167/494 | Hostname | OS / Arch | INSTALL | BUILD | BUILD BIN | ||||||||||||
| FuseSOM 1.0.1 (landing page) Elijah Willie
| kjohnson | macOS 13.0 Ventura / arm64 | OK | OK | OK | ||||||||||||
| Package 168/494 | Hostname | OS / Arch | INSTALL | BUILD | BUILD BIN | ||||||||||||
| GARS 1.18.0 (landing page) Mattia Chiesa
| kjohnson | macOS 13.0 Ventura / arm64 | OK | OK | OK | ||||||||||||
| Package 169/494 | Hostname | OS / Arch | INSTALL | BUILD | BUILD BIN | ||||||||||||
| gCrisprTools 2.4.0 (landing page) Russell Bainer
| kjohnson | macOS 13.0 Ventura / arm64 | OK | OK | OK | ||||||||||||
| Package 170/494 | Hostname | OS / Arch | INSTALL | BUILD | BUILD BIN | ||||||||||||
| gemma.R 1.0.1 (landing page) Ogan Mancarci
| kjohnson | macOS 13.0 Ventura / arm64 | OK | OK | OK | ||||||||||||
| Package 171/494 | Hostname | OS / Arch | INSTALL | BUILD | BUILD BIN | ||||||||||||
| GeneTonic 2.2.0 (landing page) Federico Marini
| kjohnson | macOS 13.0 Ventura / arm64 | OK | OK | OK | ||||||||||||
| Package 172/494 | Hostname | OS / Arch | INSTALL | BUILD | BUILD BIN | ||||||||||||
| GenomicAlignments 1.34.1 (landing page) Hervé Pagès
| kjohnson | macOS 13.0 Ventura / arm64 | OK | OK | OK | ||||||||||||
| Package 173/494 | Hostname | OS / Arch | INSTALL | BUILD | BUILD BIN | ||||||||||||
| GenomicFiles 1.34.0 (landing page) Bioconductor Package Maintainer
| kjohnson | macOS 13.0 Ventura / arm64 | OK | OK | OK | ||||||||||||
| Package 174/494 | Hostname | OS / Arch | INSTALL | BUILD | BUILD BIN | ||||||||||||
| genomicInstability 1.4.0 (landing page) Mariano Alvarez
| kjohnson | macOS 13.0 Ventura / arm64 | OK | OK | OK | ||||||||||||
| Package 175/494 | Hostname | OS / Arch | INSTALL | BUILD | BUILD BIN | ||||||||||||
| GenomicSuperSignature 1.6.0 (landing page) Sehyun Oh
| kjohnson | macOS 13.0 Ventura / arm64 | OK | OK | OK | ||||||||||||
| Package 176/494 | Hostname | OS / Arch | INSTALL | BUILD | BUILD BIN | ||||||||||||
| getDEE2 1.8.0 (landing page) Mark Ziemann
| kjohnson | macOS 13.0 Ventura / arm64 | OK | OK | OK | ||||||||||||
| Package 177/494 | Hostname | OS / Arch | INSTALL | BUILD | BUILD BIN | ||||||||||||
| ggbio 1.46.0 (landing page) Michael Lawrence
| kjohnson | macOS 13.0 Ventura / arm64 | OK | OK | OK | ||||||||||||
| Package 178/494 | Hostname | OS / Arch | INSTALL | BUILD | BUILD BIN | ||||||||||||
| ggspavis 1.4.0 (landing page) Lukas M. Weber
| kjohnson | macOS 13.0 Ventura / arm64 | OK | OK | OK | ||||||||||||
| Package 179/494 | Hostname | OS / Arch | INSTALL | BUILD | BUILD BIN | ||||||||||||
| Glimma 2.8.0 (landing page) Shian Su
| kjohnson | macOS 13.0 Ventura / arm64 | OK | OK | OK | ||||||||||||
| Package 180/494 | Hostname | OS / Arch | INSTALL | BUILD | BUILD BIN | ||||||||||||
| glmGamPoi 1.10.2 (landing page) Constantin Ahlmann-Eltze
| kjohnson | macOS 13.0 Ventura / arm64 | OK | OK | OK | ||||||||||||
| Package 181/494 | Hostname | OS / Arch | INSTALL | BUILD | BUILD BIN | ||||||||||||
| glmSparseNet 1.16.0 (landing page) André Veríssimo
| kjohnson | macOS 13.0 Ventura / arm64 | OK | OK | OK | ||||||||||||
| Package 182/494 | Hostname | OS / Arch | INSTALL | BUILD | BUILD BIN | ||||||||||||
| GNET2 1.14.0 (landing page) Chen Chen
| kjohnson | macOS 13.0 Ventura / arm64 | OK | OK | OK | ||||||||||||
| Package 183/494 | Hostname | OS / Arch | INSTALL | BUILD | BUILD BIN | ||||||||||||
| GRaNIE 1.2.7 (landing page) Christian Arnold
| kjohnson | macOS 13.0 Ventura / arm64 | OK | OK | OK | ||||||||||||
| Package 184/494 | Hostname | OS / Arch | INSTALL | BUILD | BUILD BIN | ||||||||||||
| GreyListChIP 1.30.0 (landing page) Rory Stark
| kjohnson | macOS 13.0 Ventura / arm64 | OK | OK | OK | ||||||||||||
| Package 185/494 | Hostname | OS / Arch | INSTALL | BUILD | BUILD BIN | ||||||||||||
| GRmetrics 1.24.0 (landing page) Nicholas Clark
| kjohnson | macOS 13.0 Ventura / arm64 | OK | OK | OK | ||||||||||||
| Package 186/494 | Hostname | OS / Arch | INSTALL | BUILD | BUILD BIN | ||||||||||||
| gscreend 1.12.0 (landing page) Katharina Imkeller
| kjohnson | macOS 13.0 Ventura / arm64 | OK | OK | OK | ||||||||||||
| Package 187/494 | Hostname | OS / Arch | INSTALL | BUILD | BUILD BIN | ||||||||||||
| GSEABenchmarkeR 1.18.0 (landing page) Ludwig Geistlinger
| kjohnson | macOS 13.0 Ventura / arm64 | OK | OK | OK | ||||||||||||
| Package 188/494 | Hostname | OS / Arch | INSTALL | BUILD | BUILD BIN | ||||||||||||
| GSVA 1.46.0 (landing page) Robert Castelo
| kjohnson | macOS 13.0 Ventura / arm64 | OK | OK | OK | ||||||||||||
| Package 189/494 | Hostname | OS / Arch | INSTALL | BUILD | BUILD BIN | ||||||||||||
| gwasurvivr 1.16.0 (landing page) Abbas Rizvi
| kjohnson | macOS 13.0 Ventura / arm64 | OK | OK | OK | ||||||||||||
| Package 190/494 | Hostname | OS / Arch | INSTALL | BUILD | BUILD BIN | ||||||||||||
| GWENA 1.8.0 (landing page) Gwenaëlle Lemoine
| kjohnson | macOS 13.0 Ventura / arm64 | OK | OK | OK | ||||||||||||
| Package 191/494 | Hostname | OS / Arch | INSTALL | BUILD | BUILD BIN | ||||||||||||
| HelloRanges 1.24.0 (landing page) Michael Lawrence
| kjohnson | macOS 13.0 Ventura / arm64 | OK | OK | OK | ||||||||||||
| Package 192/494 | Hostname | OS / Arch | INSTALL | BUILD | BUILD BIN | ||||||||||||
| hermes 1.2.0 (landing page) Daniel Sabanés Bové
| kjohnson | macOS 13.0 Ventura / arm64 | OK | OK | OK | ||||||||||||
| Package 193/494 | Hostname | OS / Arch | INSTALL | BUILD | BUILD BIN | ||||||||||||
| HiCDOC 1.0.0 (landing page) Maigné Élise
| kjohnson | macOS 13.0 Ventura / arm64 | OK | OK | OK | ||||||||||||
| Package 194/494 | Hostname | OS / Arch | INSTALL | BUILD | BUILD BIN | ||||||||||||
| hipathia 2.14.0 (landing page) Marta R. Hidalgo
| kjohnson | macOS 13.0 Ventura / arm64 | OK | OK | OK | ||||||||||||
| Package 195/494 | Hostname | OS / Arch | INSTALL | BUILD | BUILD BIN | ||||||||||||
| HumanTranscriptomeCompendium 1.14.0 (landing page) VJ Carey
| kjohnson | macOS 13.0 Ventura / arm64 | OK | OK | OK | ||||||||||||
| Package 196/494 | Hostname | OS / Arch | INSTALL | BUILD | BUILD BIN | ||||||||||||
| hummingbird 1.8.0 (landing page) Eleni Adam
| kjohnson | macOS 13.0 Ventura / arm64 | OK | OK | OK | ||||||||||||
| Package 197/494 | Hostname | OS / Arch | INSTALL | BUILD | BUILD BIN | ||||||||||||
| iasva 1.16.0 (landing page) Donghyung Lee
| kjohnson | macOS 13.0 Ventura / arm64 | OK | OK | OK | ||||||||||||
| Package 198/494 | Hostname | OS / Arch | INSTALL | BUILD | BUILD BIN | ||||||||||||
| icetea 1.16.0 (landing page) Vivek Bhardwaj
| kjohnson | macOS 13.0 Ventura / arm64 | OK | OK | OK | ||||||||||||
| Package 199/494 | Hostname | OS / Arch | INSTALL | BUILD | BUILD BIN | ||||||||||||
| ideal 1.22.0 (landing page) Federico Marini
| kjohnson | macOS 13.0 Ventura / arm64 | OK | OK | OK | ||||||||||||
| Package 200/494 | Hostname | OS / Arch | INSTALL | BUILD | BUILD BIN | ||||||||||||
| IgGeneUsage 1.12.0 (landing page) Simo Kitanovski
| kjohnson | macOS 13.0 Ventura / arm64 | OK | OK | OK | ||||||||||||
| Package 201/494 | Hostname | OS / Arch | INSTALL | BUILD | BUILD BIN | ||||||||||||
| ILoReg 1.8.0 (landing page) Johannes Smolander
| kjohnson | macOS 13.0 Ventura / arm64 | OK | OK | OK | ||||||||||||
| Package 202/494 | Hostname | OS / Arch | INSTALL | BUILD | BUILD BIN | ||||||||||||
| imcRtools 1.4.2 (landing page) Nils Eling
| kjohnson | macOS 13.0 Ventura / arm64 | OK | OK | OK | ||||||||||||
| Package 203/494 | Hostname | OS / Arch | INSTALL | BUILD | BUILD BIN | ||||||||||||
| infercnv 1.14.2 (landing page) Christophe Georgescu
| kjohnson | macOS 13.0 Ventura / arm64 | OK | OK | OK | ||||||||||||
| Package 204/494 | Hostname | OS / Arch | INSTALL | BUILD | BUILD BIN | ||||||||||||
| INSPEcT 1.28.0 (landing page) Stefano de Pretis
| kjohnson | macOS 13.0 Ventura / arm64 | OK | OK | OK | ||||||||||||
| Package 205/494 | Hostname | OS / Arch | INSTALL | BUILD | BUILD BIN | ||||||||||||
| InTAD 1.18.0 (landing page) Konstantin Okonechnikov
| kjohnson | macOS 13.0 Ventura / arm64 | OK | OK | OK | ||||||||||||
| Package 206/494 | Hostname | OS / Arch | INSTALL | BUILD | BUILD BIN | ||||||||||||
| InteractionSet 1.26.1 (landing page) Aaron Lun
| kjohnson | macOS 13.0 Ventura / arm64 | OK | OK | OK | ||||||||||||
| Package 207/494 | Hostname | OS / Arch | INSTALL | BUILD | BUILD BIN | ||||||||||||
| IntEREst 1.22.2 (landing page) Ali Oghabian
| kjohnson | macOS 13.0 Ventura / arm64 | OK | OK | OK | ||||||||||||
| Package 208/494 | Hostname | OS / Arch | INSTALL | BUILD | BUILD BIN | ||||||||||||
| InterMineR 1.20.0 (landing page) InterMine Team
| kjohnson | macOS 13.0 Ventura / arm64 | OK | OK | OK | ||||||||||||
| Package 209/494 | Hostname | OS / Arch | INSTALL | BUILD | BUILD BIN | ||||||||||||
| iSEE 2.10.0 (landing page) Kevin Rue-Albrecht
| kjohnson | macOS 13.0 Ventura / arm64 | OK | OK | OK | ||||||||||||
| Package 210/494 | Hostname | OS / Arch | INSTALL | BUILD | BUILD BIN | ||||||||||||
| iSEEhex 1.0.0 (landing page) Kevin Rue-Albrecht
| kjohnson | macOS 13.0 Ventura / arm64 | OK | OK | OK | ||||||||||||
| Package 211/494 | Hostname | OS / Arch | INSTALL | BUILD | BUILD BIN | ||||||||||||
| iSEEhub 1.0.0 (landing page) Kevin Rue-Albrecht
| kjohnson | macOS 13.0 Ventura / arm64 | OK | OK | OK | ||||||||||||
| Package 212/494 | Hostname | OS / Arch | INSTALL | BUILD | BUILD BIN | ||||||||||||
| iSEEu 1.10.1 (landing page) Kevin Rue-Albrecht
| kjohnson | macOS 13.0 Ventura / arm64 | OK | OK | OK | ||||||||||||
| Package 213/494 | Hostname | OS / Arch | INSTALL | BUILD | BUILD BIN | ||||||||||||
| ISLET 1.0.0 (landing page) Hao Feng
| kjohnson | macOS 13.0 Ventura / arm64 | OK | OK | OK | ||||||||||||
| Package 214/494 | Hostname | OS / Arch | INSTALL | BUILD | BUILD BIN | ||||||||||||
| isomiRs 1.26.0 (landing page) Lorena Pantano
| kjohnson | macOS 13.0 Ventura / arm64 | OK | OK | OK | ||||||||||||
| Package 215/494 | Hostname | OS / Arch | INSTALL | BUILD | BUILD BIN | ||||||||||||
Jiacheng Chuan
| kjohnson | macOS 13.0 Ventura / arm64 | OK | ERROR | skipped | ||||||||||||
| Package 216/494 | Hostname | OS / Arch | INSTALL | BUILD | BUILD BIN | ||||||||||||
| ivygapSE 1.20.0 (landing page) VJ Carey
| kjohnson | macOS 13.0 Ventura / arm64 | OK | OK | OK | ||||||||||||
| Package 217/494 | Hostname | OS / Arch | INSTALL | BUILD | BUILD BIN | ||||||||||||
| LACE 2.2.0 (landing page) Davide Maspero
| kjohnson | macOS 13.0 Ventura / arm64 | OK | OK | OK | ||||||||||||
| Package 218/494 | Hostname | OS / Arch | INSTALL | BUILD | BUILD BIN | ||||||||||||
| lefser 1.8.0 (landing page) Asya Khleborodova
| kjohnson | macOS 13.0 Ventura / arm64 | OK | OK | OK | ||||||||||||
| Package 219/494 | Hostname | OS / Arch | INSTALL | BUILD | BUILD BIN | ||||||||||||
| LineagePulse 1.18.0 (landing page) David S Fischer
| kjohnson | macOS 13.0 Ventura / arm64 | OK | OK | OK | ||||||||||||
| Package 220/494 | Hostname | OS / Arch | INSTALL | BUILD | BUILD BIN | ||||||||||||
| lineagespot 1.2.0 (landing page) Nikolaos Pechlivanis
| kjohnson | macOS 13.0 Ventura / arm64 | OK | OK | OK | ||||||||||||
| Package 221/494 | Hostname | OS / Arch | INSTALL | BUILD | BUILD BIN | ||||||||||||
| lionessR 1.12.0 (landing page) Ping-Han Hsieh
| kjohnson | macOS 13.0 Ventura / arm64 | OK | OK | OK | ||||||||||||
| Package 222/494 | Hostname | OS / Arch | INSTALL | BUILD | BUILD BIN | ||||||||||||
| lipidr 2.12.0 (landing page) Ahmed Mohamed
| kjohnson | macOS 13.0 Ventura / arm64 | OK | OK | OK | ||||||||||||
| Package 223/494 | Hostname | OS / Arch | INSTALL | BUILD | BUILD BIN | ||||||||||||
| lisaClust 1.6.3 (landing page) Ellis Patrick
| kjohnson | macOS 13.0 Ventura / arm64 | OK | OK | OK | ||||||||||||
| Package 224/494 | Hostname | OS / Arch | INSTALL | BUILD | BUILD BIN | ||||||||||||
| LoomExperiment 1.16.0 (landing page) Bioconductor Package Maintainer
| kjohnson | macOS 13.0 Ventura / arm64 | OK | OK | OK | ||||||||||||
| Package 225/494 | Hostname | OS / Arch | INSTALL | BUILD | BUILD BIN | ||||||||||||
| Macarron 1.2.0 (landing page) Sagun Maharjan
| kjohnson | macOS 13.0 Ventura / arm64 | OK | OK | OK | ||||||||||||
| Package 226/494 | Hostname | OS / Arch | INSTALL | BUILD | BUILD BIN | ||||||||||||
| made4 1.72.0 (landing page) Aedin Culhane
| kjohnson | macOS 13.0 Ventura / arm64 | OK | OK | OK | ||||||||||||
| Package 227/494 | Hostname | OS / Arch | INSTALL | BUILD | BUILD BIN | ||||||||||||
| MADSEQ 1.24.0 (landing page) Yu Kong
| kjohnson | macOS 13.0 Ventura / arm64 | OK | OK | OK | ||||||||||||
| Package 228/494 | Hostname | OS / Arch | INSTALL | BUILD | BUILD BIN | ||||||||||||
| MAI 1.4.0 (landing page) Jonathan Dekermanjian
| kjohnson | macOS 13.0 Ventura / arm64 | OK | OK | OK | ||||||||||||
| Package 229/494 | Hostname | OS / Arch | INSTALL | BUILD | BUILD BIN | ||||||||||||
| marr 1.8.0 (landing page) Tusharkanti Ghosh
| kjohnson | macOS 13.0 Ventura / arm64 | OK | OK | OK | ||||||||||||
| Package 230/494 | Hostname | OS / Arch | INSTALL | BUILD | BUILD BIN | ||||||||||||
| MAST 1.24.1 (landing page) Andrew McDavid
| kjohnson | macOS 13.0 Ventura / arm64 | OK | OK | OK | ||||||||||||
| Package 231/494 | Hostname | OS / Arch | INSTALL | BUILD | BUILD BIN | ||||||||||||
| MatrixQCvis 1.6.1 (landing page) Thomas Naake
| kjohnson | macOS 13.0 Ventura / arm64 | OK | OK | OK | ||||||||||||
| Package 232/494 | Hostname | OS / Arch | INSTALL | BUILD | BUILD BIN | ||||||||||||
| MBASED 1.32.0 (landing page) Oleg Mayba
| kjohnson | macOS 13.0 Ventura / arm64 | OK | OK | OK | ||||||||||||
| Package 233/494 | Hostname | OS / Arch | INSTALL | BUILD | BUILD BIN | ||||||||||||
| mbkmeans 1.14.0 (landing page) Davide Risso
| kjohnson | macOS 13.0 Ventura / arm64 | OK | OK | OK | ||||||||||||
| Package 234/494 | Hostname | OS / Arch | INSTALL | BUILD | BUILD BIN | ||||||||||||
| MBQN 2.10.0 (landing page) Eva Brombacher
| kjohnson | macOS 13.0 Ventura / arm64 | OK | OK | OK | ||||||||||||
| Package 235/494 | Hostname | OS / Arch | INSTALL | BUILD | BUILD BIN | ||||||||||||
| mCSEA 1.18.0 (landing page) Jordi Martorell-Marugán
| kjohnson | macOS 13.0 Ventura / arm64 | OK | OK | OK | ||||||||||||
| Package 236/494 | Hostname | OS / Arch | INSTALL | BUILD | BUILD BIN | ||||||||||||
| MEAL 1.28.0 (landing page) Xavier Escribà Montagut
| kjohnson | macOS 13.0 Ventura / arm64 | OK | OK | OK | ||||||||||||
| Package 237/494 | Hostname | OS / Arch | INSTALL | BUILD | BUILD BIN | ||||||||||||
| MEAT 1.10.0 (landing page) Sarah Voisin
| kjohnson | macOS 13.0 Ventura / arm64 | OK | OK | OK | ||||||||||||
| Package 238/494 | Hostname | OS / Arch | INSTALL | BUILD | BUILD BIN | ||||||||||||
| MEB 1.12.0 (landing page) Jiadi Zhu
| kjohnson | macOS 13.0 Ventura / arm64 | OK | OK | OK | ||||||||||||
| Package 239/494 | Hostname | OS / Arch | INSTALL | BUILD | BUILD BIN | ||||||||||||
| MetaboAnnotation 1.2.0 (landing page) Johannes Rainer
| kjohnson | macOS 13.0 Ventura / arm64 | OK | OK | OK | ||||||||||||
| Package 240/494 | Hostname | OS / Arch | INSTALL | BUILD | BUILD BIN | ||||||||||||
| metabolomicsWorkbenchR 1.8.0 (landing page) Gavin Rhys Lloyd
| kjohnson | macOS 13.0 Ventura / arm64 | OK | OK | OK | ||||||||||||
| Package 241/494 | Hostname | OS / Arch | INSTALL | BUILD | BUILD BIN | ||||||||||||
| MetaNeighbor 1.18.0 (landing page) Stephan Fischer
| kjohnson | macOS 13.0 Ventura / arm64 | OK | OK | OK | ||||||||||||
| Package 242/494 | Hostname | OS / Arch | INSTALL | BUILD | BUILD BIN | ||||||||||||
| metaseqR2 1.10.0 (landing page) Panagiotis Moulos
| kjohnson | macOS 13.0 Ventura / arm64 | OK | OK | OK | ||||||||||||
| Package 243/494 | Hostname | OS / Arch | INSTALL | BUILD | BUILD BIN | ||||||||||||
| MethReg 1.8.0 (landing page) Tiago Silva
| kjohnson | macOS 13.0 Ventura / arm64 | OK | OK | OK | ||||||||||||
| Package 244/494 | Hostname | OS / Arch | INSTALL | BUILD | BUILD BIN | ||||||||||||
| methrix 1.12.0 (landing page) Anand Mayakonda
| kjohnson | macOS 13.0 Ventura / arm64 | OK | OK | OK | ||||||||||||
| Package 245/494 | Hostname | OS / Arch | INSTALL | BUILD | BUILD BIN | ||||||||||||
| MethylAid 1.32.0 (landing page) L.J.Sinke
| kjohnson | macOS 13.0 Ventura / arm64 | OK | OK | OK | ||||||||||||
| Package 246/494 | Hostname | OS / Arch | INSTALL | BUILD | BUILD BIN | ||||||||||||
| methylPipe 1.32.0 (landing page) Kamal Kishore
| kjohnson | macOS 13.0 Ventura / arm64 | OK | OK | OK | ||||||||||||
| Package 247/494 | Hostname | OS / Arch | INSTALL | BUILD | BUILD BIN | ||||||||||||
| methylscaper 1.6.0 (landing page) Bacher Rhonda
| kjohnson | macOS 13.0 Ventura / arm64 | OK | OK | OK | ||||||||||||
| Package 248/494 | Hostname | OS / Arch | INSTALL | BUILD | BUILD BIN | ||||||||||||
| methylumi 2.44.0 (landing page) Sean Davis
| kjohnson | macOS 13.0 Ventura / arm64 | OK | OK | OK | ||||||||||||
| Package 249/494 | Hostname | OS / Arch | INSTALL | BUILD | BUILD BIN | ||||||||||||
| MetNet 1.16.0 (landing page) Thomas Naake
| kjohnson | macOS 13.0 Ventura / arm64 | OK | OK | OK | ||||||||||||
| Package 250/494 | Hostname | OS / Arch | INSTALL | BUILD | BUILD BIN | ||||||||||||
| mia 1.6.0 (landing page) Tuomas Borman
| kjohnson | macOS 13.0 Ventura / arm64 | OK | OK | OK | ||||||||||||
| Package 251/494 | Hostname | OS / Arch | INSTALL | BUILD | BUILD BIN | ||||||||||||
| miaSim 1.4.0 (landing page) Yagmur Simsek
| kjohnson | macOS 13.0 Ventura / arm64 | OK | OK | OK | ||||||||||||
| Package 252/494 | Hostname | OS / Arch | INSTALL | BUILD | BUILD BIN | ||||||||||||
| miaViz 1.6.0 (landing page) Tuomas Borman
| kjohnson | macOS 13.0 Ventura / arm64 | OK | OK | OK | ||||||||||||
| Package 253/494 | Hostname | OS / Arch | INSTALL | BUILD | BUILD BIN | ||||||||||||
| MicrobiotaProcess 1.10.3 (landing page) Shuangbin Xu
| kjohnson | macOS 13.0 Ventura / arm64 | OK | OK | OK | ||||||||||||
| Package 254/494 | Hostname | OS / Arch | INSTALL | BUILD | BUILD BIN | ||||||||||||
| midasHLA 1.6.0 (landing page) Maciej Migdał
| kjohnson | macOS 13.0 Ventura / arm64 | OK | OK | OK | ||||||||||||
| Package 255/494 | Hostname | OS / Arch | INSTALL | BUILD | BUILD BIN | ||||||||||||
| miloR 1.6.0 (landing page) Mike Morgan
| kjohnson | macOS 13.0 Ventura / arm64 | OK | OK | OK | ||||||||||||
| Package 256/494 | Hostname | OS / Arch | INSTALL | BUILD | BUILD BIN | ||||||||||||
| minfi 1.44.0 (landing page) Kasper Daniel Hansen
| kjohnson | macOS 13.0 Ventura / arm64 | OK | OK | OK | ||||||||||||
| Package 257/494 | Hostname | OS / Arch | INSTALL | BUILD | BUILD BIN | ||||||||||||
| MinimumDistance 1.42.0 (landing page) Robert Scharpf
| kjohnson | macOS 13.0 Ventura / arm64 | OK | OK | OK | ||||||||||||
| Package 258/494 | Hostname | OS / Arch | INSTALL | BUILD | BUILD BIN | ||||||||||||
| miRLAB 1.28.0 (landing page) Thuc Duy Le
| kjohnson | macOS 13.0 Ventura / arm64 | OK | OK | OK | ||||||||||||
| Package 259/494 | Hostname | OS / Arch | INSTALL | BUILD | BUILD BIN | ||||||||||||
| miRmine 1.20.0 (landing page) Dusan Randjelovic
| kjohnson | macOS 13.0 Ventura / arm64 | OK | OK | OK | ||||||||||||
| Package 260/494 | Hostname | OS / Arch | INSTALL | BUILD | BUILD BIN | ||||||||||||
| miRSM 1.16.0 (landing page) Junpeng Zhang
| kjohnson | macOS 13.0 Ventura / arm64 | OK | OK | OK | ||||||||||||
| Package 261/494 | Hostname | OS / Arch | INSTALL | BUILD | BUILD BIN | ||||||||||||
| missMethyl 1.32.1 (landing page) Belinda Phipson
| kjohnson | macOS 13.0 Ventura / arm64 | OK | OK | OK | ||||||||||||
| Package 262/494 | Hostname | OS / Arch | INSTALL | BUILD | BUILD BIN | ||||||||||||
| MLInterfaces 1.78.0 (landing page) V. Carey
| kjohnson | macOS 13.0 Ventura / arm64 | OK | OK | OK | ||||||||||||
| Package 263/494 | Hostname | OS / Arch | INSTALL | BUILD | BUILD BIN | ||||||||||||
| MLSeq 2.16.0 (landing page) Gokmen Zararsiz
| kjohnson | macOS 13.0 Ventura / arm64 | OK | OK | OK | ||||||||||||
| Package 264/494 | Hostname | OS / Arch | INSTALL | BUILD | BUILD BIN | ||||||||||||
| moanin 1.6.0 (landing page) Nelle Varoquaux
| kjohnson | macOS 13.0 Ventura / arm64 | OK | OK | OK | ||||||||||||
| Package 265/494 | Hostname | OS / Arch | INSTALL | BUILD | BUILD BIN | ||||||||||||
| monaLisa 1.4.0 (landing page) Michael Stadler
| kjohnson | macOS 13.0 Ventura / arm64 | OK | OK | OK | ||||||||||||
| Package 266/494 | Hostname | OS / Arch | INSTALL | BUILD | BUILD BIN | ||||||||||||
| MoonlightR 1.24.0 (landing page) Matteo Tiberti
| kjohnson | macOS 13.0 Ventura / arm64 | OK | OK | OK | ||||||||||||
| Package 267/494 | Hostname | OS / Arch | INSTALL | BUILD | BUILD BIN | ||||||||||||
| motifbreakR 2.12.4 (landing page) Simon Gert Coetzee
| kjohnson | macOS 13.0 Ventura / arm64 | OK | TIMEOUT | skipped | ||||||||||||
| Package 268/494 | Hostname | OS / Arch | INSTALL | BUILD | BUILD BIN | ||||||||||||
| motifmatchr 1.20.0 (landing page) Alicia Schep
| kjohnson | macOS 13.0 Ventura / arm64 | OK | OK | OK | ||||||||||||
| Package 269/494 | Hostname | OS / Arch | INSTALL | BUILD | BUILD BIN | ||||||||||||
| mpra 1.20.0 (landing page) Leslie Myint
| kjohnson | macOS 13.0 Ventura / arm64 | OK | OK | OK | ||||||||||||
| Package 270/494 | Hostname | OS / Arch | INSTALL | BUILD | BUILD BIN | ||||||||||||
| MPRAnalyze 1.16.0 (landing page) Tal Ashuach
| kjohnson | macOS 13.0 Ventura / arm64 | OK | OK | OK | ||||||||||||
| Package 271/494 | Hostname | OS / Arch | INSTALL | BUILD | BUILD BIN | ||||||||||||
| MsExperiment 1.0.0 (landing page) Laurent Gatto
| kjohnson | macOS 13.0 Ventura / arm64 | OK | OK | OK | ||||||||||||
| Package 272/494 | Hostname | OS / Arch | INSTALL | BUILD | BUILD BIN | ||||||||||||
| MsFeatures 1.6.0 (landing page) Johannes Rainer
| kjohnson | macOS 13.0 Ventura / arm64 | OK | OK | OK | ||||||||||||
| Package 273/494 | Hostname | OS / Arch | INSTALL | BUILD | BUILD BIN | ||||||||||||
| msgbsR 1.22.0 (landing page) Benjamin Mayne
| kjohnson | macOS 13.0 Ventura / arm64 | OK | OK | OK | ||||||||||||
| Package 274/494 | Hostname | OS / Arch | INSTALL | BUILD | BUILD BIN | ||||||||||||
| MSPrep 1.8.0 (landing page) Max McGrath
| kjohnson | macOS 13.0 Ventura / arm64 | OK | OK | OK | ||||||||||||
| Package 275/494 | Hostname | OS / Arch | INSTALL | BUILD | BUILD BIN | ||||||||||||
| msqrob2 1.6.1 (landing page) Lieven Clement
| kjohnson | macOS 13.0 Ventura / arm64 | OK | OK | OK | ||||||||||||
| Package 276/494 | Hostname | OS / Arch | INSTALL | BUILD | BUILD BIN | ||||||||||||
| MuData 1.2.0 (landing page) Danila Bredikhin
| kjohnson | macOS 13.0 Ventura / arm64 | OK | OK | OK | ||||||||||||
| Package 277/494 | Hostname | OS / Arch | INSTALL | BUILD | BUILD BIN | ||||||||||||
| MultiAssayExperiment 1.24.0 (landing page) Marcel Ramos
| kjohnson | macOS 13.0 Ventura / arm64 | OK | OK | OK | ||||||||||||
| Package 278/494 | Hostname | OS / Arch | INSTALL | BUILD | BUILD BIN | ||||||||||||
| MultiDataSet 1.26.0 (landing page) Xavier Escribà Montagut
| kjohnson | macOS 13.0 Ventura / arm64 | OK | OK | OK | ||||||||||||
| Package 279/494 | Hostname | OS / Arch | INSTALL | BUILD | BUILD BIN | ||||||||||||
| multiOmicsViz 1.22.0 (landing page) Jing Wang
| kjohnson | macOS 13.0 Ventura / arm64 | OK | OK | OK | ||||||||||||
| Package 280/494 | Hostname | OS / Arch | INSTALL | BUILD | BUILD BIN | ||||||||||||
| mumosa 1.6.0 (landing page) Aaron Lun
| kjohnson | macOS 13.0 Ventura / arm64 | OK | OK | OK | ||||||||||||
| Package 281/494 | Hostname | OS / Arch | INSTALL | BUILD | BUILD BIN | ||||||||||||
| muscat 1.12.1 (landing page) Helena L. Crowell
| kjohnson | macOS 13.0 Ventura / arm64 | OK | ERROR | skipped | ||||||||||||
| Package 282/494 | Hostname | OS / Arch | INSTALL | BUILD | BUILD BIN | ||||||||||||
| musicatk 1.8.0 (landing page) Aaron Chevalier
| kjohnson | macOS 13.0 Ventura / arm64 | OK | OK | OK | ||||||||||||
| Package 283/494 | Hostname | OS / Arch | INSTALL | BUILD | BUILD BIN | ||||||||||||
| MWASTools 1.22.0 (landing page) Andrea Rodriguez-Martinez
| kjohnson | macOS 13.0 Ventura / arm64 | OK | OK | OK | ||||||||||||
| Package 284/494 | Hostname | OS / Arch | INSTALL | BUILD | BUILD BIN | ||||||||||||
| NADfinder 1.22.0 (landing page) Jianhong Ou
| kjohnson | macOS 13.0 Ventura / arm64 | OK | OK | OK | ||||||||||||
| Package 285/494 | Hostname | OS / Arch | INSTALL | BUILD | BUILD BIN | ||||||||||||
| NanoMethViz 2.4.2 (landing page) Shian Su
| kjohnson | macOS 13.0 Ventura / arm64 | OK | OK | OK | ||||||||||||
| Package 286/494 | Hostname | OS / Arch | INSTALL | BUILD | BUILD BIN | ||||||||||||
| NBAMSeq 1.14.0 (landing page) Xu Ren
| kjohnson | macOS 13.0 Ventura / arm64 | OK | OK | OK | ||||||||||||
| Package 287/494 | Hostname | OS / Arch | INSTALL | BUILD | BUILD BIN | ||||||||||||
| Nebulosa 1.8.0 (landing page) Jose Alquicira-Hernandez
| kjohnson | macOS 13.0 Ventura / arm64 | OK | OK | OK | ||||||||||||
| Package 288/494 | Hostname | OS / Arch | INSTALL | BUILD | BUILD BIN | ||||||||||||
| NetActivity 1.0.0 (landing page) Carlos Ruiz-Arenas
| kjohnson | macOS 13.0 Ventura / arm64 | OK | OK | OK | ||||||||||||
| Package 289/494 | Hostname | OS / Arch | INSTALL | BUILD | BUILD BIN | ||||||||||||
| netSmooth 1.18.0 (landing page) Jonathan Ronen
| kjohnson | macOS 13.0 Ventura / arm64 | OK | OK | OK | ||||||||||||
| Package 290/494 | Hostname | OS / Arch | INSTALL | BUILD | BUILD BIN | ||||||||||||
| NewWave 1.8.0 (landing page) Federico Agostinis
| kjohnson | macOS 13.0 Ventura / arm64 | OK | OK | OK | ||||||||||||
| Package 291/494 | Hostname | OS / Arch | INSTALL | BUILD | BUILD BIN | ||||||||||||
| nnSVG 1.2.0 (landing page) Lukas M. Weber
| kjohnson | macOS 13.0 Ventura / arm64 | OK | OK | OK | ||||||||||||
| Package 292/494 | Hostname | OS / Arch | INSTALL | BUILD | BUILD BIN | ||||||||||||
| NoRCE 1.10.0 (landing page) Gulden Olgun
| kjohnson | macOS 13.0 Ventura / arm64 | OK | OK | OK | ||||||||||||
| Package 293/494 | Hostname | OS / Arch | INSTALL | BUILD | BUILD BIN | ||||||||||||
| NormalyzerDE 1.16.0 (landing page) Jakob Willforss
| kjohnson | macOS 13.0 Ventura / arm64 | OK | OK | OK | ||||||||||||
| Package 294/494 | Hostname | OS / Arch | INSTALL | BUILD | BUILD BIN | ||||||||||||
| NxtIRFcore 1.4.0 (landing page) Alex Chit Hei Wong
| kjohnson | macOS 13.0 Ventura / arm64 | OK | OK | OK | ||||||||||||
| Package 295/494 | Hostname | OS / Arch | INSTALL | BUILD | BUILD BIN | ||||||||||||
| oligoClasses 1.60.0 (landing page) Benilton Carvalho
| kjohnson | macOS 13.0 Ventura / arm64 | OK | OK | OK | ||||||||||||
| Package 296/494 | Hostname | OS / Arch | INSTALL | BUILD | BUILD BIN | ||||||||||||
| omicRexposome 1.20.0 (landing page) Xavier Escribà Montagut
| kjohnson | macOS 13.0 Ventura / arm64 | OK | OK | OK | ||||||||||||
| Package 297/494 | Hostname | OS / Arch | INSTALL | BUILD | BUILD BIN | ||||||||||||
| OmicsLonDA 1.14.0 (landing page) Ahmed A. Metwally
| kjohnson | macOS 13.0 Ventura / arm64 | OK | OK | OK | ||||||||||||
| Package 298/494 | Hostname | OS / Arch | INSTALL | BUILD | BUILD BIN | ||||||||||||
| omicsPrint 1.18.0 (landing page) Davy Cats
| kjohnson | macOS 13.0 Ventura / arm64 | OK | OK | OK | ||||||||||||
| Package 299/494 | Hostname | OS / Arch | INSTALL | BUILD | BUILD BIN | ||||||||||||
| omicsViewer 1.2.0 (landing page) Chen Meng
| kjohnson | macOS 13.0 Ventura / arm64 | OK | OK | OK | ||||||||||||
| Package 300/494 | Hostname | OS / Arch | INSTALL | BUILD | BUILD BIN | ||||||||||||
| oncomix 1.20.0 (landing page) Daniel Pique
| kjohnson | macOS 13.0 Ventura / arm64 | OK | OK | OK | ||||||||||||
| Package 301/494 | Hostname | OS / Arch | INSTALL | BUILD | BUILD BIN | ||||||||||||
| ontoProc 1.20.0 (landing page) Vincent Carey
| kjohnson | macOS 13.0 Ventura / arm64 | OK | OK | OK | ||||||||||||
| Package 302/494 | Hostname | OS / Arch | INSTALL | BUILD | BUILD BIN | ||||||||||||
| ORFik 1.18.2 (landing page) Haakon Tjeldnes
| kjohnson | macOS 13.0 Ventura / arm64 | OK | OK | OK | ||||||||||||
| Package 303/494 | Hostname | OS / Arch | INSTALL | BUILD | BUILD BIN | ||||||||||||
| OUTRIDER 1.16.3 (landing page) Christian Mertes
| kjohnson | macOS 13.0 Ventura / arm64 | OK | TIMEOUT | skipped | ||||||||||||
| Package 304/494 | Hostname | OS / Arch | INSTALL | BUILD | BUILD BIN | ||||||||||||
| OVESEG 1.14.0 (landing page) Lulu Chen
| kjohnson | macOS 13.0 Ventura / arm64 | OK | OK | OK | ||||||||||||
| Package 305/494 | Hostname | OS / Arch | INSTALL | BUILD | BUILD BIN | ||||||||||||
| padma 1.8.0 (landing page) Andrea Rau
| kjohnson | macOS 13.0 Ventura / arm64 | OK | OK | OK | ||||||||||||
| Package 306/494 | Hostname | OS / Arch | INSTALL | BUILD | BUILD BIN | ||||||||||||
| PAIRADISE 1.14.0 (landing page) Qiang Hu
| kjohnson | macOS 13.0 Ventura / arm64 | OK | OK | OK | ||||||||||||
| Package 307/494 | Hostname | OS / Arch | INSTALL | BUILD | BUILD BIN | ||||||||||||
| pairkat 1.4.0 (landing page) Max McGrath
| kjohnson | macOS 13.0 Ventura / arm64 | OK | OK | OK | ||||||||||||
| Package 308/494 | Hostname | OS / Arch | INSTALL | BUILD | BUILD BIN | ||||||||||||
| pcaExplorer 2.24.0 (landing page) Federico Marini
| kjohnson | macOS 13.0 Ventura / arm64 | OK | OK | OK | ||||||||||||
| Package 309/494 | Hostname | OS / Arch | INSTALL | BUILD | BUILD BIN | ||||||||||||
| PDATK 1.6.0 (landing page) Benjamin Haibe-Kains
| kjohnson | macOS 13.0 Ventura / arm64 | OK | OK | OK | ||||||||||||
| Package 310/494 | Hostname | OS / Arch | INSTALL | BUILD | BUILD BIN | ||||||||||||
| peco 1.10.0 (landing page) Chiaowen Joyce Hsiao
| kjohnson | macOS 13.0 Ventura / arm64 | OK | OK | OK | ||||||||||||
| Package 311/494 | Hostname | OS / Arch | INSTALL | BUILD | BUILD BIN | ||||||||||||
| PharmacoGx 3.2.0 (landing page) Benjamin Haibe-Kains
| kjohnson | macOS 13.0 Ventura / arm64 | OK | OK | OK | ||||||||||||
| Package 312/494 | Hostname | OS / Arch | INSTALL | BUILD | BUILD BIN | ||||||||||||
| phemd 1.14.1 (landing page) William S Chen
| kjohnson | macOS 13.0 Ventura / arm64 | OK | OK | OK | ||||||||||||
| Package 313/494 | Hostname | OS / Arch | INSTALL | BUILD | BUILD BIN | ||||||||||||
| phenomis 1.0.2 (landing page) Etienne A. Thevenot
| kjohnson | macOS 13.0 Ventura / arm64 | OK | OK | OK | ||||||||||||
| Package 314/494 | Hostname | OS / Arch | INSTALL | BUILD | BUILD BIN | ||||||||||||
| phenopath 1.22.0 (landing page) Kieran Campbell
| kjohnson | macOS 13.0 Ventura / arm64 | OK | OK | OK | ||||||||||||
| Package 315/494 | Hostname | OS / Arch | INSTALL | BUILD | BUILD BIN | ||||||||||||
| PhIPData 1.6.0 (landing page) Athena Chen
| kjohnson | macOS 13.0 Ventura / arm64 | OK | OK | OK | ||||||||||||
| Package 316/494 | Hostname | OS / Arch | INSTALL | BUILD | BUILD BIN | ||||||||||||
| PhosR 1.8.0 (landing page) Taiyun Kim
| kjohnson | macOS 13.0 Ventura / arm64 | OK | OK | OK | ||||||||||||
| Package 317/494 | Hostname | OS / Arch | INSTALL | BUILD | BUILD BIN | ||||||||||||
| pipeComp 1.8.0 (landing page) Pierre-Luc Germain
| kjohnson | macOS 13.0 Ventura / arm64 | OK | OK | OK | ||||||||||||
| Package 318/494 | Hostname | OS / Arch | INSTALL | BUILD | BUILD BIN | ||||||||||||
| pmp 1.10.0 (landing page) Gavin Rhys Lloyd
| kjohnson | macOS 13.0 Ventura / arm64 | OK | OK | OK | ||||||||||||
| Package 319/494 | Hostname | OS / Arch | INSTALL | BUILD | BUILD BIN | ||||||||||||
| POMA 1.8.0 (landing page) Pol Castellano-Escuder
| kjohnson | macOS 13.0 Ventura / arm64 | OK | OK | OK | ||||||||||||
| Package 320/494 | Hostname | OS / Arch | INSTALL | BUILD | BUILD BIN | ||||||||||||
| POWSC 1.6.0 (landing page) Kenong Su
| kjohnson | macOS 13.0 Ventura / arm64 | OK | OK | OK | ||||||||||||
| Package 321/494 | Hostname | OS / Arch | INSTALL | BUILD | BUILD BIN | ||||||||||||
| proActiv 1.8.0 (landing page) Joseph Lee
| kjohnson | macOS 13.0 Ventura / arm64 | OK | OK | OK | ||||||||||||
| Package 322/494 | Hostname | OS / Arch | INSTALL | BUILD | BUILD BIN | ||||||||||||
| proDA 1.12.0 (landing page) Constantin Ahlmann-Eltze
| kjohnson | macOS 13.0 Ventura / arm64 | OK | OK | OK | ||||||||||||
| Package 323/494 | Hostname | OS / Arch | INSTALL | BUILD | BUILD BIN | ||||||||||||
| profileplyr 1.14.1 (landing page) Tom Carroll
| kjohnson | macOS 13.0 Ventura / arm64 | OK | OK | OK | ||||||||||||
| Package 324/494 | Hostname | OS / Arch | INSTALL | BUILD | BUILD BIN | ||||||||||||
| psichomics 1.24.0 (landing page) Nuno Saraiva-Agostinho
| kjohnson | macOS 13.0 Ventura / arm64 | OK | OK | OK | ||||||||||||
| Package 325/494 | Hostname | OS / Arch | INSTALL | BUILD | BUILD BIN | ||||||||||||
| pulsedSilac 1.12.0 (landing page) Marc Pagès-Gallego
| kjohnson | macOS 13.0 Ventura / arm64 | ERROR | ERROR | skipped | ||||||||||||
| Package 326/494 | Hostname | OS / Arch | INSTALL | BUILD | BUILD BIN | ||||||||||||
| PureCN 2.4.0 (landing page) Markus Riester
| kjohnson | macOS 13.0 Ventura / arm64 | OK | OK | OK | ||||||||||||
| Package 327/494 | Hostname | OS / Arch | INSTALL | BUILD | BUILD BIN | ||||||||||||
| QFeatures 1.8.0 (landing page) Laurent Gatto
| kjohnson | macOS 13.0 Ventura / arm64 | OK | OK | OK | ||||||||||||
| Package 328/494 | Hostname | OS / Arch | INSTALL | BUILD | BUILD BIN | ||||||||||||
| qmtools 1.2.0 (landing page) Jaehyun Joo
| kjohnson | macOS 13.0 Ventura / arm64 | OK | OK | OK | ||||||||||||
| Package 329/494 | Hostname | OS / Arch | INSTALL | BUILD | BUILD BIN | ||||||||||||
| qsmooth 1.14.0 (landing page) Stephanie C. Hicks
| kjohnson | macOS 13.0 Ventura / arm64 | OK | OK | OK | ||||||||||||
| Package 330/494 | Hostname | OS / Arch | INSTALL | BUILD | BUILD BIN | ||||||||||||
| qsvaR 1.2.0 (landing page) Joshua Stolz
| kjohnson | macOS 13.0 Ventura / arm64 | OK | OK | OK | ||||||||||||
| Package 331/494 | Hostname | OS / Arch | INSTALL | BUILD | BUILD BIN | ||||||||||||
| quantiseqr 1.6.0 (landing page) Federico Marini
| kjohnson | macOS 13.0 Ventura / arm64 | OK | ERROR | skipped | ||||||||||||
| Package 332/494 | Hostname | OS / Arch | INSTALL | BUILD | BUILD BIN | ||||||||||||
| R453Plus1Toolbox 1.48.0 (landing page) Hans-Ulrich Klein
| kjohnson | macOS 13.0 Ventura / arm64 | OK | OK | OK | ||||||||||||
| Package 333/494 | Hostname | OS / Arch | INSTALL | BUILD | BUILD BIN | ||||||||||||
| RadioGx 2.2.0 (landing page) Benjamin Haibe-Kains
| kjohnson | macOS 13.0 Ventura / arm64 | OK | OK | OK | ||||||||||||
| Package 334/494 | Hostname | OS / Arch | INSTALL | BUILD | BUILD BIN | ||||||||||||
| RaggedExperiment 1.22.0 (landing page) Marcel Ramos
| kjohnson | macOS 13.0 Ventura / arm64 | OK | OK | OK | ||||||||||||
| Package 335/494 | Hostname | OS / Arch | INSTALL | BUILD | BUILD BIN | ||||||||||||
| RareVariantVis 2.26.0 (landing page) Tomasz Stokowy
| kjohnson | macOS 13.0 Ventura / arm64 | OK | OK | OK | ||||||||||||
| Package 336/494 | Hostname | OS / Arch | INSTALL | BUILD | BUILD BIN | ||||||||||||
| RcisTarget 1.18.2 (landing page) Sara Aibar
| kjohnson | macOS 13.0 Ventura / arm64 | OK | OK | OK | ||||||||||||
| Package 337/494 | Hostname | OS / Arch | INSTALL | BUILD | BUILD BIN | ||||||||||||
| receptLoss 1.10.0 (landing page) Daniel Pique
| kjohnson | macOS 13.0 Ventura / arm64 | OK | OK | OK | ||||||||||||
| Package 338/494 | Hostname | OS / Arch | INSTALL | BUILD | BUILD BIN | ||||||||||||
| recount 1.24.1 (landing page) Leonardo Collado-Torres
| kjohnson | macOS 13.0 Ventura / arm64 | OK | ERROR | skipped | ||||||||||||
| Package 339/494 | Hostname | OS / Arch | INSTALL | BUILD | BUILD BIN | ||||||||||||
| recount3 1.8.0 (landing page) Leonardo Collado-Torres
| kjohnson | macOS 13.0 Ventura / arm64 | OK | OK | OK | ||||||||||||
| Package 340/494 | Hostname | OS / Arch | INSTALL | BUILD | BUILD BIN | ||||||||||||
| RegEnrich 1.8.0 (landing page) Weiyang Tao
| kjohnson | macOS 13.0 Ventura / arm64 | OK | OK | OK | ||||||||||||
| Package 341/494 | Hostname | OS / Arch | INSTALL | BUILD | BUILD BIN | ||||||||||||
| regionReport 1.32.0 (landing page) Leonardo Collado-Torres
| kjohnson | macOS 13.0 Ventura / arm64 | OK | OK | OK | ||||||||||||
| Package 342/494 | Hostname | OS / Arch | INSTALL | BUILD | BUILD BIN | ||||||||||||
| regsplice 1.24.0 (landing page) Lukas M. Weber
| kjohnson | macOS 13.0 Ventura / arm64 | OK | OK | OK | ||||||||||||
| Package 343/494 | Hostname | OS / Arch | INSTALL | BUILD | BUILD BIN | ||||||||||||
| REMP 1.22.0 (landing page) Yinan Zheng
| kjohnson | macOS 13.0 Ventura / arm64 | OK | OK | OK | ||||||||||||
| Package 344/494 | Hostname | OS / Arch | INSTALL | BUILD | BUILD BIN | ||||||||||||
| restfulSE 1.20.0 (landing page) Shweta Gopaulakrishnan
| kjohnson | macOS 13.0 Ventura / arm64 | OK | OK | OK | ||||||||||||
| Package 345/494 | Hostname | OS / Arch | INSTALL | BUILD | BUILD BIN | ||||||||||||
| rgsepd 1.30.0 (landing page) Karl Stamm
| kjohnson | macOS 13.0 Ventura / arm64 | OK | OK | OK | ||||||||||||
| Package 346/494 | Hostname | OS / Arch | INSTALL | BUILD | BUILD BIN | ||||||||||||
| rifi 1.2.2 (landing page) Jens Georg
| kjohnson | macOS 13.0 Ventura / arm64 | OK | OK | OK | ||||||||||||
| Package 347/494 | Hostname | OS / Arch | INSTALL | BUILD | BUILD BIN | ||||||||||||
| Rmmquant 1.16.2 (landing page) Zytnicki Matthias
| kjohnson | macOS 13.0 Ventura / arm64 | OK | OK | OK | ||||||||||||
| Package 348/494 | Hostname | OS / Arch | INSTALL | BUILD | BUILD BIN | ||||||||||||
| RNAAgeCalc 1.10.0 (landing page) Xu Ren
| kjohnson | macOS 13.0 Ventura / arm64 | OK | OK | OK | ||||||||||||
| Package 349/494 | Hostname | OS / Arch | INSTALL | BUILD | BUILD BIN | ||||||||||||
| RNAsense 1.12.0 (landing page) Marcus Rosenblatt
| kjohnson | macOS 13.0 Ventura / arm64 | OK | OK | OK | ||||||||||||
| Package 350/494 | Hostname | OS / Arch | INSTALL | BUILD | BUILD BIN | ||||||||||||
| RnaSeqSampleSize 2.8.0 (landing page) Shilin Zhao Developer
| kjohnson | macOS 13.0 Ventura / arm64 | OK | OK | OK | ||||||||||||
| Package 351/494 | Hostname | OS / Arch | INSTALL | BUILD | BUILD BIN | ||||||||||||
| roar 1.34.0 (landing page) Elena Grassi
| kjohnson | macOS 13.0 Ventura / arm64 | OK | OK | OK | ||||||||||||
| Package 352/494 | Hostname | OS / Arch | INSTALL | BUILD | BUILD BIN | ||||||||||||
| ROCpAI 1.10.0 (landing page) Juan-Pedro Garcia
| kjohnson | macOS 13.0 Ventura / arm64 | OK | OK | OK | ||||||||||||
| Package 353/494 | Hostname | OS / Arch | INSTALL | BUILD | BUILD BIN | ||||||||||||
| RolDE 1.2.0 (landing page) Tommi Valikangas
| kjohnson | macOS 13.0 Ventura / arm64 | OK | OK | OK | ||||||||||||
| Package 354/494 | Hostname | OS / Arch | INSTALL | BUILD | BUILD BIN | ||||||||||||
| ropls 1.30.0 (landing page) Etienne A. Thevenot
| kjohnson | macOS 13.0 Ventura / arm64 | OK | OK | OK | ||||||||||||
| Package 355/494 | Hostname | OS / Arch | INSTALL | BUILD | BUILD BIN | ||||||||||||
| rqt 1.24.0 (landing page) Ilya Y. Zhbannikov
| kjohnson | macOS 13.0 Ventura / arm64 | OK | OK | OK | ||||||||||||
| Package 356/494 | Hostname | OS / Arch | INSTALL | BUILD | BUILD BIN | ||||||||||||
| rScudo 1.14.0 (landing page) Matteo Ciciani
| kjohnson | macOS 13.0 Ventura / arm64 | OK | OK | OK | ||||||||||||
| Package 357/494 | Hostname | OS / Arch | INSTALL | BUILD | BUILD BIN | ||||||||||||
| RTCGAToolbox 2.28.4 (landing page) Marcel Ramos
| kjohnson | macOS 13.0 Ventura / arm64 | OK | OK | OK | ||||||||||||
| Package 358/494 | Hostname | OS / Arch | INSTALL | BUILD | BUILD BIN | ||||||||||||
| RTN 2.22.1 (landing page) Mauro Castro
| kjohnson | macOS 13.0 Ventura / arm64 | OK | OK | OK | ||||||||||||
| Package 359/494 | Hostname | OS / Arch | INSTALL | BUILD | BUILD BIN | ||||||||||||
runibic (landing page)
| kjohnson | macOS 13.0 Ventura / arm64 | ... NOT SUPPORTED ... | ||||||||||||||
| Package 360/494 | Hostname | OS / Arch | INSTALL | BUILD | BUILD BIN | ||||||||||||
| satuRn 1.6.0 (landing page) Jeroen Gilis
| kjohnson | macOS 13.0 Ventura / arm64 | OK | OK | OK | ||||||||||||
| Package 361/494 | Hostname | OS / Arch | INSTALL | BUILD | BUILD BIN | ||||||||||||
| SBGNview 1.12.0 (landing page) Weijun Luo
| kjohnson | macOS 13.0 Ventura / arm64 | OK | OK | OK | ||||||||||||
| Package 362/494 | Hostname | OS / Arch | INSTALL | BUILD | BUILD BIN | ||||||||||||
| SC3 1.26.2 (landing page) Vladimir Kiselev
| kjohnson | macOS 13.0 Ventura / arm64 | OK | OK | OK | ||||||||||||
| Package 363/494 | Hostname | OS / Arch | INSTALL | BUILD | BUILD BIN | ||||||||||||
| Scale4C 1.20.0 (landing page) Carolin Walter
| kjohnson | macOS 13.0 Ventura / arm64 | OK | OK | OK | ||||||||||||
| Package 364/494 | Hostname | OS / Arch | INSTALL | BUILD | BUILD BIN | ||||||||||||
| scAnnotatR 1.4.0 (landing page) Johannes Griss
| kjohnson | macOS 13.0 Ventura / arm64 | OK | OK | OK | ||||||||||||
| Package 365/494 | Hostname | OS / Arch | INSTALL | BUILD | BUILD BIN | ||||||||||||
| SCArray 1.6.0 (landing page) Xiuwen Zheng
| kjohnson | macOS 13.0 Ventura / arm64 | OK | OK | OK | ||||||||||||
| Package 366/494 | Hostname | OS / Arch | INSTALL | BUILD | BUILD BIN | ||||||||||||
| scater 1.26.1 (landing page) Alan O'Callaghan
| kjohnson | macOS 13.0 Ventura / arm64 | OK | OK | OK | ||||||||||||
| Package 367/494 | Hostname | OS / Arch | INSTALL | BUILD | BUILD BIN | ||||||||||||
| scBFA 1.12.0 (landing page) Ruoxin Li
| kjohnson | macOS 13.0 Ventura / arm64 | OK | OK | OK | ||||||||||||
| Package 368/494 | Hostname | OS / Arch | INSTALL | BUILD | BUILD BIN | ||||||||||||
| scCB2 1.8.0 (landing page) Zijian Ni
| kjohnson | macOS 13.0 Ventura / arm64 | OK | OK | OK | ||||||||||||
| Package 369/494 | Hostname | OS / Arch | INSTALL | BUILD | BUILD BIN | ||||||||||||
| scDblFinder 1.12.0 (landing page) Pierre-Luc Germain
| kjohnson | macOS 13.0 Ventura / arm64 | OK | OK | OK | ||||||||||||
| Package 370/494 | Hostname | OS / Arch | INSTALL | BUILD | BUILD BIN | ||||||||||||
| scDD 1.22.0 (landing page) Keegan Korthauer
| kjohnson | macOS 13.0 Ventura / arm64 | OK | OK | OK | ||||||||||||
| Package 371/494 | Hostname | OS / Arch | INSTALL | BUILD | BUILD BIN | ||||||||||||
| scDDboost 1.0.0 (landing page) Xiuyu Ma
| kjohnson | macOS 13.0 Ventura / arm64 | OK | OK | OK | ||||||||||||
| Package 372/494 | Hostname | OS / Arch | INSTALL | BUILD | BUILD BIN | ||||||||||||
| scds 1.14.0 (landing page) Dennis Kostka
| kjohnson | macOS 13.0 Ventura / arm64 | OK | OK | OK | ||||||||||||
| Package 373/494 | Hostname | OS / Arch | INSTALL | BUILD | BUILD BIN | ||||||||||||
| scGPS 1.12.2 (landing page) Quan Nguyen
| kjohnson | macOS 13.0 Ventura / arm64 | OK | OK | OK | ||||||||||||
| Package 374/494 | Hostname | OS / Arch | INSTALL | BUILD | BUILD BIN | ||||||||||||
| scHOT 1.10.0 (landing page) Shila Ghazanfar
| kjohnson | macOS 13.0 Ventura / arm64 | OK | OK | OK | ||||||||||||
| Package 375/494 | Hostname | OS / Arch | INSTALL | BUILD | BUILD BIN | ||||||||||||
| scmap 1.20.2 (landing page) Vladimir Kiselev
| kjohnson | macOS 13.0 Ventura / arm64 | OK | OK | OK | ||||||||||||
| Package 376/494 | Hostname | OS / Arch | INSTALL | BUILD | BUILD BIN | ||||||||||||
| scMerge 1.14.0 (landing page) Yingxin Lin
| kjohnson | macOS 13.0 Ventura / arm64 | OK | OK | OK | ||||||||||||
| Package 377/494 | Hostname | OS / Arch | INSTALL | BUILD | BUILD BIN | ||||||||||||
| scMET 1.0.0 (landing page) Andreas C. Kapourani
| kjohnson | macOS 13.0 Ventura / arm64 | OK | OK | OK | ||||||||||||
| Package 378/494 | Hostname | OS / Arch | INSTALL | BUILD | BUILD BIN | ||||||||||||
| scmeth 1.18.0 (landing page) Divy Kangeyan
| kjohnson | macOS 13.0 Ventura / arm64 | OK | OK | OK | ||||||||||||
| Package 379/494 | Hostname | OS / Arch | INSTALL | BUILD | BUILD BIN | ||||||||||||
| SCnorm 1.20.0 (landing page) Rhonda Bacher
| kjohnson | macOS 13.0 Ventura / arm64 | OK | OK | OK | ||||||||||||
| Package 380/494 | Hostname | OS / Arch | INSTALL | BUILD | BUILD BIN | ||||||||||||
| scone 1.22.0 (landing page) Davide Risso
| kjohnson | macOS 13.0 Ventura / arm64 | OK | OK | OK | ||||||||||||
| Package 381/494 | Hostname | OS / Arch | INSTALL | BUILD | BUILD BIN | ||||||||||||
| scoreInvHap 1.20.0 (landing page) Dolors Pelegri-Siso
| kjohnson | macOS 13.0 Ventura / arm64 | OK | OK | OK | ||||||||||||
| Package 382/494 | Hostname | OS / Arch | INSTALL | BUILD | BUILD BIN | ||||||||||||
| scp 1.8.0 (landing page) Christophe Vanderaa
| kjohnson | macOS 13.0 Ventura / arm64 | OK | OK | OK | ||||||||||||
| Package 383/494 | Hostname | OS / Arch | INSTALL | BUILD | BUILD BIN | ||||||||||||
| scPipe 1.20.6 (landing page) Shian Su
| kjohnson | macOS 13.0 Ventura / arm64 | OK | OK | OK | ||||||||||||
| Package 384/494 | Hostname | OS / Arch | INSTALL | BUILD | BUILD BIN | ||||||||||||
| scran 1.26.2 (landing page) Aaron Lun
| kjohnson | macOS 13.0 Ventura / arm64 | OK | OK | OK | ||||||||||||
| Package 385/494 | Hostname | OS / Arch | INSTALL | BUILD | BUILD BIN | ||||||||||||
| scReClassify 1.4.0 (landing page) Taiyun Kim
| kjohnson | macOS 13.0 Ventura / arm64 | OK | OK | OK | ||||||||||||
| Package 386/494 | Hostname | OS / Arch | INSTALL | BUILD | BUILD BIN | ||||||||||||
| scRepertoire 1.8.0 (landing page) Nick Borcherding
| kjohnson | macOS 13.0 Ventura / arm64 | OK | OK | OK | ||||||||||||
| Package 387/494 | Hostname | OS / Arch | INSTALL | BUILD | BUILD BIN | ||||||||||||
| scruff 1.16.0 (landing page) Zhe Wang
| kjohnson | macOS 13.0 Ventura / arm64 | OK | OK | OK | ||||||||||||
| Package 388/494 | Hostname | OS / Arch | INSTALL | BUILD | BUILD BIN | ||||||||||||
| scry 1.10.0 (landing page) Kelly Street
| kjohnson | macOS 13.0 Ventura / arm64 | OK | OK | OK | ||||||||||||
| Package 389/494 | Hostname | OS / Arch | INSTALL | BUILD | BUILD BIN | ||||||||||||
| scTensor 2.8.0 (landing page) Koki Tsuyuzaki
| kjohnson | macOS 13.0 Ventura / arm64 | OK | OK | OK | ||||||||||||
| Package 390/494 | Hostname | OS / Arch | INSTALL | BUILD | BUILD BIN | ||||||||||||
| scTGIF 1.12.0 (landing page) Koki Tsuyuzaki
| kjohnson | macOS 13.0 Ventura / arm64 | OK | OK | OK | ||||||||||||
| Package 391/494 | Hostname | OS / Arch | INSTALL | BUILD | BUILD BIN | ||||||||||||
| scTreeViz 1.4.0 (landing page) Jayaram Kancherla
| kjohnson | macOS 13.0 Ventura / arm64 | OK | OK | OK | ||||||||||||
| Package 392/494 | Hostname | OS / Arch | INSTALL | BUILD | BUILD BIN | ||||||||||||
| scuttle 1.8.4 (landing page) Aaron Lun
| kjohnson | macOS 13.0 Ventura / arm64 | OK | OK | OK | ||||||||||||
| Package 393/494 | Hostname | OS / Arch | INSTALL | BUILD | BUILD BIN | ||||||||||||
| SDAMS 1.18.0 (landing page) Yuntong Li
| kjohnson | macOS 13.0 Ventura / arm64 | OK | OK | OK | ||||||||||||
| Package 394/494 | Hostname | OS / Arch | INSTALL | BUILD | BUILD BIN | ||||||||||||
| sechm 1.6.0 (landing page) Pierre-Luc Germain
| kjohnson | macOS 13.0 Ventura / arm64 | OK | OK | OK | ||||||||||||
| Package 395/494 | Hostname | OS / Arch | INSTALL | BUILD | BUILD BIN | ||||||||||||
| segmenter 1.4.0 (landing page) Mahmoud Ahmed
| kjohnson | macOS 13.0 Ventura / arm64 | OK | OK | OK | ||||||||||||
| Package 396/494 | Hostname | OS / Arch | INSTALL | BUILD | BUILD BIN | ||||||||||||
| seqCAT 1.20.0 (landing page) Erik Fasterius
| kjohnson | macOS 13.0 Ventura / arm64 | OK | OK | OK | ||||||||||||
| Package 397/494 | Hostname | OS / Arch | INSTALL | BUILD | BUILD BIN | ||||||||||||
| SeqGate 1.8.0 (landing page) Stéphanie Rialle
| kjohnson | macOS 13.0 Ventura / arm64 | OK | OK | OK | ||||||||||||
| Package 398/494 | Hostname | OS / Arch | INSTALL | BUILD | BUILD BIN | ||||||||||||
| sesame 1.16.1 (landing page) Wanding Zhou
| kjohnson | macOS 13.0 Ventura / arm64 | OK | OK | OK | ||||||||||||
| Package 399/494 | Hostname | OS / Arch | INSTALL | BUILD | BUILD BIN | ||||||||||||
| SEtools 1.12.0 (landing page) Pierre-Luc Germain
| kjohnson | macOS 13.0 Ventura / arm64 | OK | OK | OK | ||||||||||||
| Package 400/494 | Hostname | OS / Arch | INSTALL | BUILD | BUILD BIN | ||||||||||||
| SGSeq 1.32.0 (landing page) Leonard Goldstein
| kjohnson | macOS 13.0 Ventura / arm64 | OK | OK | OK | ||||||||||||
| Package 401/494 | Hostname | OS / Arch | INSTALL | BUILD | BUILD BIN | ||||||||||||
| sigFeature 1.16.0 (landing page) Pijush Das Developer
| kjohnson | macOS 13.0 Ventura / arm64 | OK | OK | OK | ||||||||||||
| Package 402/494 | Hostname | OS / Arch | INSTALL | BUILD | BUILD BIN | ||||||||||||
| signatureSearch 1.12.0 (landing page) Brendan Gongol
| kjohnson | macOS 13.0 Ventura / arm64 | OK | OK | OK | ||||||||||||
| Package 403/494 | Hostname | OS / Arch | INSTALL | BUILD | BUILD BIN | ||||||||||||
| signifinder 1.0.0 (landing page) Stefania Pirrotta
| kjohnson | macOS 13.0 Ventura / arm64 | OK | OK | OK | ||||||||||||
| Package 404/494 | Hostname | OS / Arch | INSTALL | BUILD | BUILD BIN | ||||||||||||
| SigsPack 1.12.0 (landing page) Franziska Schumann
| kjohnson | macOS 13.0 Ventura / arm64 | OK | OK | OK | ||||||||||||
| Package 405/494 | Hostname | OS / Arch | INSTALL | BUILD | BUILD BIN | ||||||||||||
| SimBu 1.0.2 (landing page) Alexander Dietrich
| kjohnson | macOS 13.0 Ventura / arm64 | OK | OK | OK | ||||||||||||
| Package 406/494 | Hostname | OS / Arch | INSTALL | BUILD | BUILD BIN | ||||||||||||
| simpleSeg 1.0.2 (landing page) Ellis Patrick
| kjohnson | macOS 13.0 Ventura / arm64 | OK | OK | OK | ||||||||||||
| Package 407/494 | Hostname | OS / Arch | INSTALL | BUILD | BUILD BIN | ||||||||||||
| SingleCellExperiment 1.20.1 (landing page) Davide Risso
| kjohnson | macOS 13.0 Ventura / arm64 | OK | OK | OK | ||||||||||||
| Package 408/494 | Hostname | OS / Arch | INSTALL | BUILD | BUILD BIN | ||||||||||||
| singleCellTK 2.8.0 (landing page) Yichen Wang
| kjohnson | macOS 13.0 Ventura / arm64 | OK | OK | OK | ||||||||||||
| Package 409/494 | Hostname | OS / Arch | INSTALL | BUILD | BUILD BIN | ||||||||||||
| SingleR 2.0.0 (landing page) Aaron Lun
| kjohnson | macOS 13.0 Ventura / arm64 | OK | OK | OK | ||||||||||||
| Package 410/494 | Hostname | OS / Arch | INSTALL | BUILD | BUILD BIN | ||||||||||||
| singscore 1.18.0 (landing page) Dharmesh D. Bhuva
| kjohnson | macOS 13.0 Ventura / arm64 | OK | OK | OK | ||||||||||||
| Package 411/494 | Hostname | OS / Arch | INSTALL | BUILD | BUILD BIN | ||||||||||||
| slalom 1.20.2 (landing page) Davis McCarthy
| kjohnson | macOS 13.0 Ventura / arm64 | OK | OK | OK | ||||||||||||
| Package 412/494 | Hostname | OS / Arch | INSTALL | BUILD | BUILD BIN | ||||||||||||
| slingshot 2.6.0 (landing page) Kelly Street
| kjohnson | macOS 13.0 Ventura / arm64 | OK | OK | OK | ||||||||||||
| Package 413/494 | Hostname | OS / Arch | INSTALL | BUILD | BUILD BIN | ||||||||||||
| snapcount 1.10.0 (landing page) Rone Charles
| kjohnson | macOS 13.0 Ventura / arm64 | OK | OK | OK | ||||||||||||
| Package 414/494 | Hostname | OS / Arch | INSTALL | BUILD | BUILD BIN | ||||||||||||
| SNPhood 1.28.0 (landing page) Christian Arnold
| kjohnson | macOS 13.0 Ventura / arm64 | OK | OK | OK | ||||||||||||
| Package 415/494 | Hostname | OS / Arch | INSTALL | BUILD | BUILD BIN | ||||||||||||
| soGGi 1.30.0 (landing page) Tom Carroll
| kjohnson | macOS 13.0 Ventura / arm64 | OK | OK | OK | ||||||||||||
| Package 416/494 | Hostname | OS / Arch | INSTALL | BUILD | BUILD BIN | ||||||||||||
| Spaniel 1.12.0 (landing page) Rachel Queen
| kjohnson | macOS 13.0 Ventura / arm64 | OK | OK | OK | ||||||||||||
| Package 417/494 | Hostname | OS / Arch | INSTALL | BUILD | BUILD BIN | ||||||||||||
| spaSim 1.0.2 (landing page) Yuzhou Feng
| kjohnson | macOS 13.0 Ventura / arm64 | OK | OK | OK | ||||||||||||
| Package 418/494 | Hostname | OS / Arch | INSTALL | BUILD | BUILD BIN | ||||||||||||
| SpatialCPie 1.14.0 (landing page) Joseph Bergenstraahle
| kjohnson | macOS 13.0 Ventura / arm64 | OK | OK | OK | ||||||||||||
| Package 419/494 | Hostname | OS / Arch | INSTALL | BUILD | BUILD BIN | ||||||||||||
| spatialDE 1.4.3 (landing page) Gabriele Sales
| kjohnson | macOS 13.0 Ventura / arm64 | OK | ERROR | skipped | ||||||||||||
| Package 420/494 | Hostname | OS / Arch | INSTALL | BUILD | BUILD BIN | ||||||||||||
| SpatialExperiment 1.8.1 (landing page) Dario Righelli
| kjohnson | macOS 13.0 Ventura / arm64 | OK | OK | OK | ||||||||||||
| Package 421/494 | Hostname | OS / Arch | INSTALL | BUILD | BUILD BIN | ||||||||||||
| SpatialFeatureExperiment 1.0.3 (landing page) Lambda Moses
| kjohnson | macOS 13.0 Ventura / arm64 | OK | OK | OK | ||||||||||||
| Package 422/494 | Hostname | OS / Arch | INSTALL | BUILD | BUILD BIN | ||||||||||||
| spatialHeatmap 2.4.0 (landing page) Jianhai Zhang
| kjohnson | macOS 13.0 Ventura / arm64 | OK | OK | OK | ||||||||||||
| Package 423/494 | Hostname | OS / Arch | INSTALL | BUILD | BUILD BIN | ||||||||||||
| spatzie 1.4.0 (landing page) Jennifer Hammelman
| kjohnson | macOS 13.0 Ventura / arm64 | OK | OK | OK | ||||||||||||
| Package 424/494 | Hostname | OS / Arch | INSTALL | BUILD | BUILD BIN | ||||||||||||
| SPIAT 1.0.4 (landing page) Yuzhou Feng
| kjohnson | macOS 13.0 Ventura / arm64 | OK | OK | OK | ||||||||||||
| Package 425/494 | Hostname | OS / Arch | INSTALL | BUILD | BUILD BIN | ||||||||||||
| spicyR 1.10.7 (landing page) Ellis Patrick
| kjohnson | macOS 13.0 Ventura / arm64 | OK | OK | OK | ||||||||||||
| Package 426/494 | Hostname | OS / Arch | INSTALL | BUILD | BUILD BIN | ||||||||||||
| splatter 1.22.1 (landing page) Luke Zappia
| kjohnson | macOS 13.0 Ventura / arm64 | OK | OK | OK | ||||||||||||
| Package 427/494 | Hostname | OS / Arch | INSTALL | BUILD | BUILD BIN | ||||||||||||
| SpliceWiz 1.0.4 (landing page) Alex Chit Hei Wong
| kjohnson | macOS 13.0 Ventura / arm64 | OK | OK | OK | ||||||||||||
| Package 428/494 | Hostname | OS / Arch | INSTALL | BUILD | BUILD BIN | ||||||||||||
| SplicingFactory 1.6.0 (landing page) Endre Sebestyen
| kjohnson | macOS 13.0 Ventura / arm64 | OK | OK | OK | ||||||||||||
| Package 429/494 | Hostname | OS / Arch | INSTALL | BUILD | BUILD BIN | ||||||||||||
| SpotClean 1.0.1 (landing page) Zijian Ni
| kjohnson | macOS 13.0 Ventura / arm64 | OK | OK | OK | ||||||||||||
| Package 430/494 | Hostname | OS / Arch | INSTALL | BUILD | BUILD BIN | ||||||||||||
| spqn 1.10.0 (landing page) Yi Wang
| kjohnson | macOS 13.0 Ventura / arm64 | OK | OK | OK | ||||||||||||
| Package 431/494 | Hostname | OS / Arch | INSTALL | BUILD | BUILD BIN | ||||||||||||
| sRACIPE 1.14.0 (landing page) Vivek Kohar
| kjohnson | macOS 13.0 Ventura / arm64 | OK | OK | OK | ||||||||||||
| Package 432/494 | Hostname | OS / Arch | INSTALL | BUILD | BUILD BIN | ||||||||||||
| srnadiff 1.18.2 (landing page) Zytnicki Matthias
| kjohnson | macOS 13.0 Ventura / arm64 | OK | OK | OK | ||||||||||||
| Package 433/494 | Hostname | OS / Arch | INSTALL | BUILD | BUILD BIN | ||||||||||||
| sSNAPPY 1.2.5 (landing page) Wenjun Liu
| kjohnson | macOS 13.0 Ventura / arm64 | OK | OK | OK | ||||||||||||
| Package 434/494 | Hostname | OS / Arch | INSTALL | BUILD | BUILD BIN | ||||||||||||
| ssPATHS 1.12.0 (landing page) Natalie R. Davidson
| kjohnson | macOS 13.0 Ventura / arm64 | OK | OK | OK | ||||||||||||
| Package 435/494 | Hostname | OS / Arch | INSTALL | BUILD | BUILD BIN | ||||||||||||
| stageR 1.20.0 (landing page) Koen Van den Berge
| kjohnson | macOS 13.0 Ventura / arm64 | OK | OK | OK | ||||||||||||
| Package 436/494 | Hostname | OS / Arch | INSTALL | BUILD | BUILD BIN | ||||||||||||
| standR 1.2.2 (landing page) Ning Liu
| kjohnson | macOS 13.0 Ventura / arm64 | OK | OK | OK | ||||||||||||
| Package 437/494 | Hostname | OS / Arch | INSTALL | BUILD | BUILD BIN | ||||||||||||
| stJoincount 1.0.0 (landing page) Jiarong Song
| kjohnson | macOS 13.0 Ventura / arm64 | OK | OK | OK | ||||||||||||
| Package 438/494 | Hostname | OS / Arch | INSTALL | BUILD | BUILD BIN | ||||||||||||
| struct 1.10.0 (landing page) Gavin Rhys Lloyd
| kjohnson | macOS 13.0 Ventura / arm64 | OK | OK | OK | ||||||||||||
| Package 439/494 | Hostname | OS / Arch | INSTALL | BUILD | BUILD BIN | ||||||||||||
| StructuralVariantAnnotation 1.14.1 (landing page) Daniel Cameron
| kjohnson | macOS 13.0 Ventura / arm64 | OK | OK | OK | ||||||||||||
| Package 440/494 | Hostname | OS / Arch | INSTALL | BUILD | BUILD BIN | ||||||||||||
| SummarizedBenchmark 2.16.0 (landing page) Patrick Kimes
| kjohnson | macOS 13.0 Ventura / arm64 | OK | OK | OK | ||||||||||||
| Package 441/494 | Hostname | OS / Arch | INSTALL | BUILD | BUILD BIN | ||||||||||||
| supersigs 1.6.0 (landing page) Albert Kuo
| kjohnson | macOS 13.0 Ventura / arm64 | OK | OK | OK | ||||||||||||
| Package 442/494 | Hostname | OS / Arch | INSTALL | BUILD | BUILD BIN | ||||||||||||
| survtype 1.14.0 (landing page) Dongmin Jung
| kjohnson | macOS 13.0 Ventura / arm64 | OK | OK | OK | ||||||||||||
| Package 443/494 | Hostname | OS / Arch | INSTALL | BUILD | BUILD BIN | ||||||||||||
| switchde 1.24.0 (landing page) Kieran Campbell
| kjohnson | macOS 13.0 Ventura / arm64 | OK | OK | OK | ||||||||||||
| Package 444/494 | Hostname | OS / Arch | INSTALL | BUILD | BUILD BIN | ||||||||||||
| systemPipeR 2.4.0 (landing page) Thomas Girke
| kjohnson | macOS 13.0 Ventura / arm64 | OK | OK | OK | ||||||||||||
| Package 445/494 | Hostname | OS / Arch | INSTALL | BUILD | BUILD BIN | ||||||||||||
| systemPipeTools 1.6.0 (landing page) Daniela Cassol
| kjohnson | macOS 13.0 Ventura / arm64 | OK | OK | OK | ||||||||||||
| Package 446/494 | Hostname | OS / Arch | INSTALL | BUILD | BUILD BIN | ||||||||||||
| TBSignatureProfiler 1.10.0 (landing page) Aubrey R. Odom-Mabey
| kjohnson | macOS 13.0 Ventura / arm64 | OK | OK | OK | ||||||||||||
| Package 447/494 | Hostname | OS / Arch | INSTALL | BUILD | BUILD BIN | ||||||||||||
| TCGAbiolinks 2.26.0 (landing page) Tiago Chedraoui Silva
| kjohnson | macOS 13.0 Ventura / arm64 | OK | TIMEOUT | skipped | ||||||||||||
| Package 448/494 | Hostname | OS / Arch | INSTALL | BUILD | BUILD BIN | ||||||||||||
Tiago C. Silva
| kjohnson | macOS 13.0 Ventura / arm64 | ERROR | ERROR | skipped | ||||||||||||
| Package 449/494 | Hostname | OS / Arch | INSTALL | BUILD | BUILD BIN | ||||||||||||
| TCGAutils 1.18.0 (landing page) Marcel Ramos
| kjohnson | macOS 13.0 Ventura / arm64 | OK | ERROR | skipped | ||||||||||||
| Package 450/494 | Hostname | OS / Arch | INSTALL | BUILD | BUILD BIN | ||||||||||||
| TCseq 1.22.6 (landing page) Mengjun Wu
| kjohnson | macOS 13.0 Ventura / arm64 | OK | OK | OK | ||||||||||||
| Package 451/494 | Hostname | OS / Arch | INSTALL | BUILD | BUILD BIN | ||||||||||||
| TEKRABber 1.2.0 (landing page) Yao-Chung Chen
| kjohnson | macOS 13.0 Ventura / arm64 | OK | OK | OK | ||||||||||||
| Package 452/494 | Hostname | OS / Arch | INSTALL | BUILD | BUILD BIN | ||||||||||||
| TENxIO 1.0.1 (landing page) Marcel Ramos
| kjohnson | macOS 13.0 Ventura / arm64 | OK | OK | OK | ||||||||||||
| Package 453/494 | Hostname | OS / Arch | INSTALL | BUILD | BUILD BIN | ||||||||||||
| tenXplore 1.20.0 (landing page) VJ Carey
| kjohnson | macOS 13.0 Ventura / arm64 | OK | OK | OK | ||||||||||||
| Package 454/494 | Hostname | OS / Arch | INSTALL | BUILD | BUILD BIN | ||||||||||||
| tidybulk 1.10.1 (landing page) Stefano Mangiola
| kjohnson | macOS 13.0 Ventura / arm64 | OK | OK | OK | ||||||||||||
| Package 455/494 | Hostname | OS / Arch | INSTALL | BUILD | BUILD BIN | ||||||||||||
| tidySingleCellExperiment 1.8.2 (landing page) Stefano Mangiola
| kjohnson | macOS 13.0 Ventura / arm64 | OK | ERROR | skipped | ||||||||||||
| Package 456/494 | Hostname | OS / Arch | INSTALL | BUILD | BUILD BIN | ||||||||||||
| tidySummarizedExperiment 1.8.1 (landing page) Stefano Mangiola
| kjohnson | macOS 13.0 Ventura / arm64 | OK | OK | OK | ||||||||||||
| Package 457/494 | Hostname | OS / Arch | INSTALL | BUILD | BUILD BIN | ||||||||||||
Lan Huong Nguyen
| kjohnson | macOS 13.0 Ventura / arm64 | OK | ERROR | skipped | ||||||||||||
| Package 458/494 | Hostname | OS / Arch | INSTALL | BUILD | BUILD BIN | ||||||||||||
| TissueEnrich 1.18.0 (landing page) Ashish Jain
| kjohnson | macOS 13.0 Ventura / arm64 | OK | OK | OK | ||||||||||||
| Package 459/494 | Hostname | OS / Arch | INSTALL | BUILD | BUILD BIN | ||||||||||||
| TNBC.CMS 1.14.0 (landing page) Doyeong Yu
| kjohnson | macOS 13.0 Ventura / arm64 | OK | OK | OK | ||||||||||||
| Package 460/494 | Hostname | OS / Arch | INSTALL | BUILD | BUILD BIN | ||||||||||||
| TOAST 1.12.0 (landing page) Ziyi Li
| kjohnson | macOS 13.0 Ventura / arm64 | OK | OK | OK | ||||||||||||
| Package 461/494 | Hostname | OS / Arch | INSTALL | BUILD | BUILD BIN | ||||||||||||
| tomoda 1.8.0 (landing page) Wendao Liu
| kjohnson | macOS 13.0 Ventura / arm64 | OK | OK | OK | ||||||||||||
| Package 462/494 | Hostname | OS / Arch | INSTALL | BUILD | BUILD BIN | ||||||||||||
| ToxicoGx 2.2.0 (landing page) Benjamin Haibe-Kains
| kjohnson | macOS 13.0 Ventura / arm64 | OK | OK | OK | ||||||||||||
| Package 463/494 | Hostname | OS / Arch | INSTALL | BUILD | BUILD BIN | ||||||||||||
| tradeSeq 1.12.0 (landing page) Hector Roux de Bezieux
| kjohnson | macOS 13.0 Ventura / arm64 | OK | OK | OK | ||||||||||||
| Package 464/494 | Hostname | OS / Arch | INSTALL | BUILD | BUILD BIN | ||||||||||||
| TrajectoryUtils 1.6.0 (landing page) Aaron Lun
| kjohnson | macOS 13.0 Ventura / arm64 | OK | OK | OK | ||||||||||||
| Package 465/494 | Hostname | OS / Arch | INSTALL | BUILD | BUILD BIN | ||||||||||||
| transformGamPoi 1.4.0 (landing page) Constantin Ahlmann-Eltze
| kjohnson | macOS 13.0 Ventura / arm64 | OK | OK | OK | ||||||||||||
| Package 466/494 | Hostname | OS / Arch | INSTALL | BUILD | BUILD BIN | ||||||||||||
Jesus de la Fuente Cedeño
| kjohnson | macOS 13.0 Ventura / arm64 | OK | ERROR | skipped | ||||||||||||
| Package 467/494 | Hostname | OS / Arch | INSTALL | BUILD | BUILD BIN | ||||||||||||
| traviz 1.4.0 (landing page) Koen Van den Berge
| kjohnson | macOS 13.0 Ventura / arm64 | OK | OK | OK | ||||||||||||
| Package 468/494 | Hostname | OS / Arch | INSTALL | BUILD | BUILD BIN | ||||||||||||
| TreeSummarizedExperiment 2.6.0 (landing page) Ruizhu Huang
| kjohnson | macOS 13.0 Ventura / arm64 | OK | OK | OK | ||||||||||||
| Package 469/494 | Hostname | OS / Arch | INSTALL | BUILD | BUILD BIN | ||||||||||||
| TREG 1.2.0 (landing page) Louise Huuki-Myers
| kjohnson | macOS 13.0 Ventura / arm64 | OK | OK | OK | ||||||||||||
| Package 470/494 | Hostname | OS / Arch | INSTALL | BUILD | BUILD BIN | ||||||||||||
| Trendy 1.20.0 (landing page) Rhonda Bacher
| kjohnson | macOS 13.0 Ventura / arm64 | OK | OK | OK | ||||||||||||
| Package 471/494 | Hostname | OS / Arch | INSTALL | BUILD | BUILD BIN | ||||||||||||
| tricycle 1.6.0 (landing page) Shijie Zheng
| kjohnson | macOS 13.0 Ventura / arm64 | OK | OK | OK | ||||||||||||
| Package 472/494 | Hostname | OS / Arch | INSTALL | BUILD | BUILD BIN | ||||||||||||
| TSCAN 1.36.0 (landing page) Zhicheng Ji
| kjohnson | macOS 13.0 Ventura / arm64 | OK | OK | OK | ||||||||||||
| Package 473/494 | Hostname | OS / Arch | INSTALL | BUILD | BUILD BIN | ||||||||||||
| tscR 1.10.0 (landing page) Fernando Pérez-Sanz
| kjohnson | macOS 13.0 Ventura / arm64 | ERROR | ERROR | skipped | ||||||||||||
| Package 474/494 | Hostname | OS / Arch | INSTALL | BUILD | BUILD BIN | ||||||||||||
| TTMap 1.20.0 (landing page) Rachel Jeitziner
| kjohnson | macOS 13.0 Ventura / arm64 | OK | OK | OK | ||||||||||||
| Package 475/494 | Hostname | OS / Arch | INSTALL | BUILD | BUILD BIN | ||||||||||||
| TVTB 1.24.0 (landing page) Kevin Rue-Albrecht
| kjohnson | macOS 13.0 Ventura / arm64 | OK | OK | OK | ||||||||||||
| Package 476/494 | Hostname | OS / Arch | INSTALL | BUILD | BUILD BIN | ||||||||||||
| tximeta 1.16.1 (landing page) Michael Love
| kjohnson | macOS 13.0 Ventura / arm64 | OK | OK | OK | ||||||||||||
| Package 477/494 | Hostname | OS / Arch | INSTALL | BUILD | BUILD BIN | ||||||||||||
| UCell 2.2.0 (landing page) Massimo Andreatta
| kjohnson | macOS 13.0 Ventura / arm64 | OK | OK | OK | ||||||||||||
| Package 478/494 | Hostname | OS / Arch | INSTALL | BUILD | BUILD BIN | ||||||||||||
| UMI4Cats 1.8.1 (landing page) Mireia Ramos-Rodriguez
| kjohnson | macOS 13.0 Ventura / arm64 | OK | OK | OK | ||||||||||||
| Package 479/494 | Hostname | OS / Arch | INSTALL | BUILD | BUILD BIN | ||||||||||||
| VAExprs 1.4.0 (landing page) Dongmin Jung
| kjohnson | macOS 13.0 Ventura / arm64 | OK | OK | OK | ||||||||||||
| Package 480/494 | Hostname | OS / Arch | INSTALL | BUILD | BUILD BIN | ||||||||||||
| VanillaICE 1.60.0 (landing page) Robert Scharpf
| kjohnson | macOS 13.0 Ventura / arm64 | OK | OK | OK | ||||||||||||
| Package 481/494 | Hostname | OS / Arch | INSTALL | BUILD | BUILD BIN | ||||||||||||
| VariantAnnotation 1.44.1 (landing page) Bioconductor Package Maintainer
| kjohnson | macOS 13.0 Ventura / arm64 | OK | OK | OK | ||||||||||||
| Package 482/494 | Hostname | OS / Arch | INSTALL | BUILD | BUILD BIN | ||||||||||||
| VariantExperiment 1.12.0 (landing page) Qian Liu
| kjohnson | macOS 13.0 Ventura / arm64 | OK | OK | OK | ||||||||||||
| Package 483/494 | Hostname | OS / Arch | INSTALL | BUILD | BUILD BIN | ||||||||||||
| VariantFiltering 1.34.0 (landing page) Robert Castelo
| kjohnson | macOS 13.0 Ventura / arm64 | OK | ERROR | skipped | ||||||||||||
| Package 484/494 | Hostname | OS / Arch | INSTALL | BUILD | BUILD BIN | ||||||||||||
| VDJdive 1.0.0 (landing page) Kelly Street
| kjohnson | macOS 13.0 Ventura / arm64 | OK | OK | OK | ||||||||||||
| Package 485/494 | Hostname | OS / Arch | INSTALL | BUILD | BUILD BIN | ||||||||||||
| velociraptor 1.8.0 (landing page) Kevin Rue-Albrecht
| kjohnson | macOS 13.0 Ventura / arm64 | OK | ERROR | skipped | ||||||||||||
| Package 486/494 | Hostname | OS / Arch | INSTALL | BUILD | BUILD BIN | ||||||||||||
| vidger 1.18.0 (landing page) Brandon Monier
| kjohnson | macOS 13.0 Ventura / arm64 | OK | OK | OK | ||||||||||||
| Package 487/494 | Hostname | OS / Arch | INSTALL | BUILD | BUILD BIN | ||||||||||||
| Voyager 1.0.10 (landing page) Lambda Moses
| kjohnson | macOS 13.0 Ventura / arm64 | OK | OK | OK | ||||||||||||
| Package 488/494 | Hostname | OS / Arch | INSTALL | BUILD | BUILD BIN | ||||||||||||
| weitrix 1.10.0 (landing page) Paul Harrison
| kjohnson | macOS 13.0 Ventura / arm64 | OK | OK | OK | ||||||||||||
| Package 489/494 | Hostname | OS / Arch | INSTALL | BUILD | BUILD BIN | ||||||||||||
| wpm 1.8.0 (landing page) Helene Borges
| kjohnson | macOS 13.0 Ventura / arm64 | OK | OK | OK | ||||||||||||
| Package 490/494 | Hostname | OS / Arch | INSTALL | BUILD | BUILD BIN | ||||||||||||
| xcms 3.20.0 (landing page) Steffen Neumann
| kjohnson | macOS 13.0 Ventura / arm64 | OK | OK | OK | ||||||||||||
| Package 491/494 | Hostname | OS / Arch | INSTALL | BUILD | BUILD BIN | ||||||||||||
| yamss 1.24.0 (landing page) Leslie Myint
| kjohnson | macOS 13.0 Ventura / arm64 | OK | OK | OK | ||||||||||||
| Package 492/494 | Hostname | OS / Arch | INSTALL | BUILD | BUILD BIN | ||||||||||||
| zellkonverter 1.8.0 (landing page) Luke Zappia
| kjohnson | macOS 13.0 Ventura / arm64 | OK | OK | OK | ||||||||||||
| Package 493/494 | Hostname | OS / Arch | INSTALL | BUILD | BUILD BIN | ||||||||||||
| zFPKM 1.20.0 (landing page) Ron Ammar
| kjohnson | macOS 13.0 Ventura / arm64 | OK | OK | OK | ||||||||||||
| Package 494/494 | Hostname | OS / Arch | INSTALL | BUILD | BUILD BIN | ||||||||||||
| zinbwave 1.20.0 (landing page) Davide Risso
| kjohnson | macOS 13.0 Ventura / arm64 | OK | OK | OK | ||||||||||||