| Back to Mac ARM64 build report for BioC 3.16 |
|
This page was generated on 2023-04-19 11:01:54 -0400 (Wed, 19 Apr 2023).
| Hostname | OS | Arch (*) | R version | Installed pkgs |
|---|---|---|---|---|
| kjohnson | macOS 13.0 Ventura | arm64 | 4.2.2 (2022-10-31) -- "Innocent and Trusting" | 4256 |
| Click on any hostname to see more info about the system (e.g. compilers) (*) as reported by 'uname -p', except on Windows and Mac OS X | ||||
|
To the developers/maintainers of the doseR package: Make sure to use the following settings in order to reproduce any error or warning you see on this page. |
| Package 567/2183 | Hostname | OS / Arch | INSTALL | BUILD | BUILD BIN | ||||||||
| doseR 1.14.0 (landing page) ake.vastermark
| kjohnson | macOS 13.0 Ventura / arm64 | OK | OK | OK | ||||||||
| Package: doseR |
| Version: 1.14.0 |
| Command: rm -rf doseR.buildbin-libdir && mkdir doseR.buildbin-libdir && /Users/biocbuild/BBS/utils/build-universal.sh doseR_1.14.0.tar.gz /Library/Frameworks/R.framework/Resources/bin/R doseR.buildbin-libdir |
| StartedAt: 2023-04-18 15:22:27 -0400 (Tue, 18 Apr 2023) |
| EndedAt: 2023-04-18 15:23:15 -0400 (Tue, 18 Apr 2023) |
| EllapsedTime: 47.5 seconds |
| RetCode: 0 |
| Status: OK |
| PackageFile: doseR_1.14.0.tgz |
| PackageFileSize: 1.326 MiB |
############################################################################## ############################################################################## ### ### Running command: ### ### rm -rf doseR.buildbin-libdir && mkdir doseR.buildbin-libdir && /Users/biocbuild/BBS/utils/build-universal.sh doseR_1.14.0.tar.gz /Library/Frameworks/R.framework/Resources/bin/R doseR.buildbin-libdir ### ############################################################################## ############################################################################## >>>>>>> >>>>>>> INSTALLATION WITH 'R CMD INSTALL --preclean --no-multiarch --library=doseR.buildbin-libdir doseR_1.14.0.tar.gz' >>>>>>> * installing *source* package ‘doseR’ ... ** using staged installation ** R ** data ** inst ** byte-compile and prepare package for lazy loading ** help *** installing help indices ** building package indices ** installing vignettes ** testing if installed package can be loaded from temporary location ** testing if installed package can be loaded from final location ** testing if installed package keeps a record of temporary installation path * DONE (doseR)