| Back to Mac ARM64 build report for BioC 3.16 |
|
This page was generated on 2023-04-19 11:01:54 -0400 (Wed, 19 Apr 2023).
| Hostname | OS | Arch (*) | R version | Installed pkgs |
|---|---|---|---|---|
| kjohnson | macOS 13.0 Ventura | arm64 | 4.2.2 (2022-10-31) -- "Innocent and Trusting" | 4256 |
| Click on any hostname to see more info about the system (e.g. compilers) (*) as reported by 'uname -p', except on Windows and Mac OS X | ||||
|
To the developers/maintainers of the doseR package: Make sure to use the following settings in order to reproduce any error or warning you see on this page. |
| Package 567/2183 | Hostname | OS / Arch | INSTALL | BUILD | BUILD BIN | ||||||||
| doseR 1.14.0 (landing page) ake.vastermark
| kjohnson | macOS 13.0 Ventura / arm64 | OK | OK | OK | ||||||||
| Package: doseR |
| Version: 1.14.0 |
| Command: /Library/Frameworks/R.framework/Resources/bin/R CMD build --keep-empty-dirs --no-resave-data doseR |
| StartedAt: 2023-04-17 04:34:30 -0400 (Mon, 17 Apr 2023) |
| EndedAt: 2023-04-17 04:35:06 -0400 (Mon, 17 Apr 2023) |
| EllapsedTime: 35.9 seconds |
| RetCode: 0 |
| Status: OK |
| PackageFile: doseR_1.14.0.tar.gz |
| PackageFileSize: 1.279 MiB |
############################################################################## ############################################################################## ### ### Running command: ### ### /Library/Frameworks/R.framework/Resources/bin/R CMD build --keep-empty-dirs --no-resave-data doseR ### ############################################################################## ############################################################################## * checking for file ‘doseR/DESCRIPTION’ ... OK * preparing ‘doseR’: * checking DESCRIPTION meta-information ... OK * installing the package to build vignettes * creating vignettes ... OK * checking for LF line-endings in source and make files and shell scripts * checking for empty or unneeded directories * looking to see if a ‘data/datalist’ file should be added * building ‘doseR_1.14.0.tar.gz’