| Back to Multiple platform build/check report for BioC 3.15 |
|
This page was generated on 2022-03-18 11:08:04 -0400 (Fri, 18 Mar 2022).
| Hostname | OS | Arch (*) | R version | Installed pkgs |
|---|---|---|---|---|
| nebbiolo1 | Linux (Ubuntu 20.04.4 LTS) | x86_64 | R Under development (unstable) (2022-02-17 r81757) -- "Unsuffered Consequences" | 4334 |
| riesling1 | Windows Server 2019 Standard | x64 | R Under development (unstable) (2021-11-21 r81221) -- "Unsuffered Consequences" | 4097 |
| palomino3 | Windows Server 2022 Datacenter | x64 | R Under development (unstable) (2022-02-17 r81757 ucrt) -- "Unsuffered Consequences" | 4083 |
| merida1 | macOS 10.14.6 Mojave | x86_64 | R Under development (unstable) (2022-03-02 r81842) -- "Unsuffered Consequences" | 4134 |
| Click on any hostname to see more info about the system (e.g. compilers) (*) as reported by 'uname -p', except on Windows and Mac OS X | ||||
|
To the developers/maintainers of the monaLisa package: - Please allow up to 24 hours (and sometimes 48 hours) for your latest push to git@git.bioconductor.org:packages/monaLisa.git to reflect on this report. See How and When does the builder pull? When will my changes propagate? here for more information. - Make sure to use the following settings in order to reproduce any error or warning you see on this page. |
| Package 1199/2090 | Hostname | OS / Arch | INSTALL | BUILD | CHECK | BUILD BIN | ||||||||
| monaLisa 1.1.1 (landing page) Michael Stadler
| nebbiolo1 | Linux (Ubuntu 20.04.4 LTS) / x86_64 | OK | OK | OK | |||||||||
| riesling1 | Windows Server 2019 Standard / x64 | OK | OK | OK | OK | |||||||||
| palomino3 | Windows Server 2022 Datacenter / x64 | OK | OK | OK | OK | |||||||||
| merida1 | macOS 10.14.6 Mojave / x86_64 | OK | OK | OK | OK | |||||||||
| Package: monaLisa |
| Version: 1.1.1 |
| Command: D:\biocbuild\bbs-3.15-bioc\R\bin\R.exe CMD check --no-multiarch --install=check:monaLisa.install-out.txt --library=D:\biocbuild\bbs-3.15-bioc\R\library --no-vignettes --timings monaLisa_1.1.1.tar.gz |
| StartedAt: 2022-03-17 19:38:22 -0400 (Thu, 17 Mar 2022) |
| EndedAt: 2022-03-17 19:43:02 -0400 (Thu, 17 Mar 2022) |
| EllapsedTime: 280.1 seconds |
| RetCode: 0 |
| Status: OK |
| CheckDir: monaLisa.Rcheck |
| Warnings: 0 |
############################################################################## ############################################################################## ### ### Running command: ### ### D:\biocbuild\bbs-3.15-bioc\R\bin\R.exe CMD check --no-multiarch --install=check:monaLisa.install-out.txt --library=D:\biocbuild\bbs-3.15-bioc\R\library --no-vignettes --timings monaLisa_1.1.1.tar.gz ### ############################################################################## ############################################################################## * using log directory 'D:/biocbuild/bbs-3.15-bioc/meat/monaLisa.Rcheck' * using R Under development (unstable) (2021-11-21 r81221) * using platform: x86_64-w64-mingw32 (64-bit) * using session charset: ISO8859-1 * using option '--no-vignettes' * checking for file 'monaLisa/DESCRIPTION' ... OK * checking extension type ... Package * this is package 'monaLisa' version '1.1.1' * package encoding: UTF-8 * checking package namespace information ... OK * checking package dependencies ... OK * checking if this is a source package ... OK * checking if there is a namespace ... OK * checking for hidden files and directories ... OK * checking for portable file names ... OK * checking whether package 'monaLisa' can be installed ... OK * checking installed package size ... OK * checking package directory ... OK * checking 'build' directory ... OK * checking DESCRIPTION meta-information ... OK * checking top-level files ... OK * checking for left-over files ... OK * checking index information ... OK * checking package subdirectories ... OK * checking R files for non-ASCII characters ... OK * checking R files for syntax errors ... OK * checking whether the package can be loaded ... OK * checking whether the package can be loaded with stated dependencies ... OK * checking whether the package can be unloaded cleanly ... OK * checking whether the namespace can be loaded with stated dependencies ... OK * checking whether the namespace can be unloaded cleanly ... OK * checking dependencies in R code ... OK * checking S3 generic/method consistency ... OK * checking replacement functions ... OK * checking foreign function calls ... OK * checking R code for possible problems ... OK * checking Rd files ... OK * checking Rd metadata ... OK * checking Rd cross-references ... OK * checking for missing documentation entries ... OK * checking for code/documentation mismatches ... OK * checking Rd \usage sections ... OK * checking Rd contents ... OK * checking for unstated dependencies in examples ... OK * checking files in 'vignettes' ... OK * checking examples ... OK * checking for unstated dependencies in 'tests' ... OK * checking tests ... Running 'testthat.R' OK * checking for unstated dependencies in vignettes ... OK * checking package vignettes in 'inst/doc' ... OK * checking running R code from vignettes ... SKIPPED * checking re-building of vignette outputs ... SKIPPED * checking PDF version of manual ... OK * DONE Status: OK
monaLisa.Rcheck/00install.out
##############################################################################
##############################################################################
###
### Running command:
###
### D:\biocbuild\bbs-3.15-bioc\R\bin\R.exe CMD INSTALL monaLisa
###
##############################################################################
##############################################################################
* installing to library 'D:/biocbuild/bbs-3.15-bioc/R/library'
* installing *source* package 'monaLisa' ...
** using staged installation
** R
** inst
** byte-compile and prepare package for lazy loading
** help
*** installing help indices
converting help for package 'monaLisa'
finding HTML links ... done
annoSeqlogo html
bin html
calcBinnedKmerEnr html
calcBinnedMotifEnrHomer html
calcBinnedMotifEnrR html
dot-calcKmerEnrichment html
dot-calcMotifEnrichment html
dot-calculateGCweight html
dot-checkDfValidity html
dot-checkIfSeqsAreEqualLength html
dot-cons2matrix html
dot-defineBackground html
dot-filterSeqs html
dot-glmnetRandomizedLasso html
dot-iterativeNormForKmers html
dot-normForKmers html
dumpJaspar html
findHomer html
findMotifHits-methods html
getColsByBin html
getKmerFreq html
finding level-2 HTML links ... done
getSetZeroBin html
homerToPFMatrixList html
monaLisa-package html
motifKmerSimilarity html
motifSimilarity html
parseHomerOutput html
plotBinDensity html
plotBinDiagnostics html
plotBinHist html
plotBinScatter html
plotMotifHeatmaps html
plotSelectionProb html
plotStabilityPaths html
prepareHomer html
randLassoStabSel html
sampleRandomRegions html
seqLogoGrob html
*** copying figures
** building package indices
** installing vignettes
** testing if installed package can be loaded from temporary location
** testing if installed package can be loaded from final location
** testing if installed package keeps a record of temporary installation path
* DONE (monaLisa)
Making 'packages.html' ... done
monaLisa.Rcheck/tests/testthat.Rout
R Under development (unstable) (2021-11-21 r81221) -- "Unsuffered Consequences"
Copyright (C) 2021 The R Foundation for Statistical Computing
Platform: x86_64-w64-mingw32/x64 (64-bit)
R is free software and comes with ABSOLUTELY NO WARRANTY.
You are welcome to redistribute it under certain conditions.
Type 'license()' or 'licence()' for distribution details.
R is a collaborative project with many contributors.
Type 'contributors()' for more information and
'citation()' on how to cite R or R packages in publications.
Type 'demo()' for some demos, 'help()' for on-line help, or
'help.start()' for an HTML browser interface to help.
Type 'q()' to quit R.
> library(testthat)
> library(monaLisa)
>
> test_check("monaLisa")
[ FAIL 0 | WARN 1 | SKIP 2 | PASS 536 ]
== Skipped tests ===============================================================
* On Windows (1)
* empty test (1)
[ FAIL 0 | WARN 1 | SKIP 2 | PASS 536 ]
>
> proc.time()
user system elapsed
30.70 1.09 31.82
monaLisa.Rcheck/monaLisa-Ex.timings
| name | user | system | elapsed | |
| annoSeqlogo | 0.11 | 0.02 | 0.12 | |
| bin | 0 | 0 | 0 | |
| calcBinnedKmerEnr | 0.47 | 0.04 | 0.51 | |
| calcBinnedMotifEnrHomer | 0 | 0 | 0 | |
| calcBinnedMotifEnrR | 0.48 | 0.16 | 0.65 | |
| dumpJaspar | 0.00 | 0.02 | 0.01 | |
| findHomer | 0 | 0 | 0 | |
| findMotifHits-methods | 0.20 | 0.04 | 0.25 | |
| getColsByBin | 0 | 0 | 0 | |
| getKmerFreq | 0.04 | 0.00 | 0.03 | |
| getSetZeroBin | 0 | 0 | 0 | |
| homerToPFMatrixList | 0.03 | 0.00 | 0.06 | |
| motifKmerSimilarity | 0.01 | 0.00 | 0.02 | |
| motifSimilarity | 0 | 0 | 0 | |
| parseHomerOutput | 0.02 | 0.00 | 0.02 | |
| plotBinDensity | 0 | 0 | 0 | |
| plotBinDiagnostics | 0.40 | 0.03 | 0.43 | |
| plotBinHist | 0 | 0 | 0 | |
| plotBinScatter | 0 | 0 | 0 | |
| plotMotifHeatmaps | 3.44 | 0.02 | 3.45 | |
| plotSelectionProb | 0.59 | 0.02 | 0.61 | |
| plotStabilityPaths | 0.41 | 0.00 | 0.41 | |
| prepareHomer | 0.03 | 0.00 | 0.03 | |
| randLassoStabSel | 1.08 | 0.01 | 1.09 | |
| sampleRandomRegions | 0.03 | 0.00 | 0.03 | |
| seqLogoGrob | 0.15 | 0.00 | 0.16 | |