| Back to Multiple platform build/check report for BioC 3.15 |
|
This page was generated on 2022-10-19 13:21:51 -0400 (Wed, 19 Oct 2022).
| Hostname | OS | Arch (*) | R version | Installed pkgs |
|---|---|---|---|---|
| nebbiolo1 | Linux (Ubuntu 20.04.5 LTS) | x86_64 | 4.2.1 (2022-06-23) -- "Funny-Looking Kid" | 4386 |
| palomino3 | Windows Server 2022 Datacenter | x64 | 4.2.1 (2022-06-23 ucrt) -- "Funny-Looking Kid" | 4138 |
| merida1 | macOS 10.14.6 Mojave | x86_64 | 4.2.1 (2022-06-23) -- "Funny-Looking Kid" | 4205 |
| Click on any hostname to see more info about the system (e.g. compilers) (*) as reported by 'uname -p', except on Windows and Mac OS X | ||||
|
To the developers/maintainers of the monaLisa package: - Please allow up to 24 hours (and sometimes 48 hours) for your latest push to git@git.bioconductor.org:packages/monaLisa.git to reflect on this report. See How and When does the builder pull? When will my changes propagate? for more information. - Make sure to use the following settings in order to reproduce any error or warning you see on this page. |
| Package 1225/2140 | Hostname | OS / Arch | INSTALL | BUILD | CHECK | BUILD BIN | ||||||||
| monaLisa 1.2.0 (landing page) Michael Stadler
| nebbiolo1 | Linux (Ubuntu 20.04.5 LTS) / x86_64 | OK | OK | OK | |||||||||
| palomino3 | Windows Server 2022 Datacenter / x64 | OK | OK | OK | OK | |||||||||
| merida1 | macOS 10.14.6 Mojave / x86_64 | OK | OK | OK | OK | |||||||||
| Package: monaLisa |
| Version: 1.2.0 |
| Command: F:\biocbuild\bbs-3.15-bioc\R\bin\R.exe CMD check --no-multiarch --install=check:monaLisa.install-out.txt --library=F:\biocbuild\bbs-3.15-bioc\R\library --no-vignettes --timings monaLisa_1.2.0.tar.gz |
| StartedAt: 2022-10-19 02:03:15 -0400 (Wed, 19 Oct 2022) |
| EndedAt: 2022-10-19 02:09:25 -0400 (Wed, 19 Oct 2022) |
| EllapsedTime: 370.5 seconds |
| RetCode: 0 |
| Status: OK |
| CheckDir: monaLisa.Rcheck |
| Warnings: 0 |
##############################################################################
##############################################################################
###
### Running command:
###
### F:\biocbuild\bbs-3.15-bioc\R\bin\R.exe CMD check --no-multiarch --install=check:monaLisa.install-out.txt --library=F:\biocbuild\bbs-3.15-bioc\R\library --no-vignettes --timings monaLisa_1.2.0.tar.gz
###
##############################################################################
##############################################################################
* using log directory 'F:/biocbuild/bbs-3.15-bioc/meat/monaLisa.Rcheck'
* using R version 4.2.1 (2022-06-23 ucrt)
* using platform: x86_64-w64-mingw32 (64-bit)
* using session charset: UTF-8
* using option '--no-vignettes'
* checking for file 'monaLisa/DESCRIPTION' ... OK
* checking extension type ... Package
* this is package 'monaLisa' version '1.2.0'
* package encoding: UTF-8
* checking package namespace information ... OK
* checking package dependencies ... OK
* checking if this is a source package ... OK
* checking if there is a namespace ... OK
* checking for hidden files and directories ... OK
* checking for portable file names ... OK
* checking whether package 'monaLisa' can be installed ... OK
* checking installed package size ... OK
* checking package directory ... OK
* checking 'build' directory ... OK
* checking DESCRIPTION meta-information ... OK
* checking top-level files ... OK
* checking for left-over files ... OK
* checking index information ... OK
* checking package subdirectories ... OK
* checking R files for non-ASCII characters ... OK
* checking R files for syntax errors ... OK
* checking whether the package can be loaded ... OK
* checking whether the package can be loaded with stated dependencies ... OK
* checking whether the package can be unloaded cleanly ... OK
* checking whether the namespace can be loaded with stated dependencies ... OK
* checking whether the namespace can be unloaded cleanly ... OK
* checking dependencies in R code ... OK
* checking S3 generic/method consistency ... OK
* checking replacement functions ... OK
* checking foreign function calls ... OK
* checking R code for possible problems ... OK
* checking Rd files ... OK
* checking Rd metadata ... OK
* checking Rd cross-references ... OK
* checking for missing documentation entries ... OK
* checking for code/documentation mismatches ... OK
* checking Rd \usage sections ... OK
* checking Rd contents ... OK
* checking for unstated dependencies in examples ... OK
* checking files in 'vignettes' ... OK
* checking examples ... OK
Examples with CPU (user + system) or elapsed time > 5s
user system elapsed
plotMotifHeatmaps 6.71 0.07 6.89
* checking for unstated dependencies in 'tests' ... OK
* checking tests ...
Running 'testthat.R'
OK
* checking for unstated dependencies in vignettes ... OK
* checking package vignettes in 'inst/doc' ... OK
* checking running R code from vignettes ... SKIPPED
* checking re-building of vignette outputs ... SKIPPED
* checking PDF version of manual ... OK
* DONE
Status: OK
monaLisa.Rcheck/00install.out
############################################################################## ############################################################################## ### ### Running command: ### ### F:\biocbuild\bbs-3.15-bioc\R\bin\R.exe CMD INSTALL monaLisa ### ############################################################################## ############################################################################## * installing to library 'F:/biocbuild/bbs-3.15-bioc/R/library' * installing *source* package 'monaLisa' ... ** using staged installation ** R ** inst ** byte-compile and prepare package for lazy loading ** help *** installing help indices *** copying figures ** building package indices ** installing vignettes ** testing if installed package can be loaded from temporary location ** testing if installed package can be loaded from final location ** testing if installed package keeps a record of temporary installation path * DONE (monaLisa)
monaLisa.Rcheck/tests/testthat.Rout
R version 4.2.1 (2022-06-23 ucrt) -- "Funny-Looking Kid"
Copyright (C) 2022 The R Foundation for Statistical Computing
Platform: x86_64-w64-mingw32/x64 (64-bit)
R is free software and comes with ABSOLUTELY NO WARRANTY.
You are welcome to redistribute it under certain conditions.
Type 'license()' or 'licence()' for distribution details.
R is a collaborative project with many contributors.
Type 'contributors()' for more information and
'citation()' on how to cite R or R packages in publications.
Type 'demo()' for some demos, 'help()' for on-line help, or
'help.start()' for an HTML browser interface to help.
Type 'q()' to quit R.
> library(testthat)
> library(monaLisa)
>
> test_check("monaLisa")
[ FAIL 0 | WARN 0 | SKIP 2 | PASS 536 ]
══ Skipped tests ═══════════════════════════════════════════════════════════════
• On Windows (1)
• empty test (1)
[ FAIL 0 | WARN 0 | SKIP 2 | PASS 536 ]
>
> proc.time()
user system elapsed
53.03 1.79 54.84
monaLisa.Rcheck/monaLisa-Ex.timings
| name | user | system | elapsed | |
| annoSeqlogo | 0.20 | 0.05 | 0.28 | |
| bin | 0 | 0 | 0 | |
| calcBinnedKmerEnr | 0.85 | 0.01 | 0.86 | |
| calcBinnedMotifEnrHomer | 0 | 0 | 0 | |
| calcBinnedMotifEnrR | 1.19 | 0.05 | 1.23 | |
| dumpJaspar | 0.06 | 0.00 | 0.09 | |
| findHomer | 0 | 0 | 0 | |
| findMotifHits-methods | 0.30 | 0.06 | 0.36 | |
| getColsByBin | 0.01 | 0.00 | 0.02 | |
| getKmerFreq | 0.06 | 0.00 | 0.06 | |
| getSetZeroBin | 0 | 0 | 0 | |
| homerToPFMatrixList | 0.10 | 0.00 | 0.09 | |
| motifKmerSimilarity | 0.03 | 0.00 | 0.04 | |
| motifSimilarity | 0.01 | 0.00 | 0.01 | |
| parseHomerOutput | 0.02 | 0.00 | 0.02 | |
| plotBinDensity | 0.02 | 0.00 | 0.02 | |
| plotBinDiagnostics | 0.70 | 0.01 | 0.73 | |
| plotBinHist | 0.01 | 0.00 | 0.02 | |
| plotBinScatter | 0 | 0 | 0 | |
| plotMotifHeatmaps | 6.71 | 0.07 | 6.89 | |
| plotSelectionProb | 1.14 | 0.01 | 1.16 | |
| plotStabilityPaths | 0.87 | 0.00 | 0.87 | |
| prepareHomer | 0.08 | 0.00 | 0.08 | |
| randLassoStabSel | 0.83 | 0.02 | 0.84 | |
| sampleRandomRegions | 0.05 | 0.00 | 0.05 | |
| seqLogoGrob | 0.23 | 0.00 | 0.25 | |