| Back to Multiple platform build/check report for BioC 3.15 |
|
This page was generated on 2022-03-18 11:07:54 -0400 (Fri, 18 Mar 2022).
| Hostname | OS | Arch (*) | R version | Installed pkgs |
|---|---|---|---|---|
| nebbiolo1 | Linux (Ubuntu 20.04.4 LTS) | x86_64 | R Under development (unstable) (2022-02-17 r81757) -- "Unsuffered Consequences" | 4334 |
| riesling1 | Windows Server 2019 Standard | x64 | R Under development (unstable) (2021-11-21 r81221) -- "Unsuffered Consequences" | 4097 |
| palomino3 | Windows Server 2022 Datacenter | x64 | R Under development (unstable) (2022-02-17 r81757 ucrt) -- "Unsuffered Consequences" | 4083 |
| merida1 | macOS 10.14.6 Mojave | x86_64 | R Under development (unstable) (2022-03-02 r81842) -- "Unsuffered Consequences" | 4134 |
| Click on any hostname to see more info about the system (e.g. compilers) (*) as reported by 'uname -p', except on Windows and Mac OS X | ||||
|
To the developers/maintainers of the lumi package: - Please allow up to 24 hours (and sometimes 48 hours) for your latest push to git@git.bioconductor.org:packages/lumi.git to reflect on this report. See How and When does the builder pull? When will my changes propagate? here for more information. - Make sure to use the following settings in order to reproduce any error or warning you see on this page. |
| Package 1024/2090 | Hostname | OS / Arch | INSTALL | BUILD | CHECK | BUILD BIN | ||||||||
| lumi 2.47.0 (landing page) Lei Huang
| nebbiolo1 | Linux (Ubuntu 20.04.4 LTS) / x86_64 | OK | OK | WARNINGS | |||||||||
| riesling1 | Windows Server 2019 Standard / x64 | OK | OK | WARNINGS | OK | |||||||||
| palomino3 | Windows Server 2022 Datacenter / x64 | OK | OK | WARNINGS | OK | |||||||||
| merida1 | macOS 10.14.6 Mojave / x86_64 | OK | OK | WARNINGS | OK | |||||||||
| Package: lumi |
| Version: 2.47.0 |
| Command: D:\biocbuild\bbs-3.15-bioc\R\bin\R.exe CMD INSTALL lumi |
| StartedAt: 2022-03-17 16:13:54 -0400 (Thu, 17 Mar 2022) |
| EndedAt: 2022-03-17 16:15:47 -0400 (Thu, 17 Mar 2022) |
| EllapsedTime: 113.0 seconds |
| RetCode: 0 |
| Status: OK |
##############################################################################
##############################################################################
###
### Running command:
###
### D:\biocbuild\bbs-3.15-bioc\R\bin\R.exe CMD INSTALL lumi
###
##############################################################################
##############################################################################
* installing to library 'D:/biocbuild/bbs-3.15-bioc/R/library'
* installing *source* package 'lumi' ...
** using staged installation
** R
** data
** inst
** byte-compile and prepare package for lazy loading
No methods found in package 'RSQLite' for request: 'dbListFields' when loading 'lumi'
** help
*** installing help indices
converting help for package 'lumi'
finding HTML links ... done
IlluminaID2nuID html
LumiBatch-class html
MAplot-methods html
addAnnotationInfo html
addControlData2lumi html
addControlData2methyLumiM html
addNuID2lumi html
REDIRECT:topic Previous alias or file overwritten by alias: D:/biocbuild/bbs-3.15-bioc/R/library/00LOCK-lumi/00new/lumi/help/addNuId2lumi.html
adjColorBias.quantile html
adjColorBias.ssn html
asBigMatrix-methods html
beta2m html
bgAdjust html
bgAdjustMethylation html
boxplot-MethyLumiM-methods html
finding level-2 HTML links ... done
boxplot-methods html
boxplotColorBias html
colorBiasSummary html
density-methods html
detectOutlier html
detectionCall html
estimateBeta html
estimateIntensity html
estimateLumiCV html
estimateM html
estimateMethylationBG html
example.lumi html
example.lumiMethy html
example.methyTitration html
gammaFitEM html
getChipInfo html
getChrInfo html
getControlData html
getControlProbe html
getControlType html
getNuIDMappingInfo html
hist-methods html
id2seq html
importMethyIDAT html
inverseVST html
is.nuID html
lumi.package html
lumiB html
lumiExpresso html
lumiMethyB html
lumiMethyC html
lumiMethyN html
lumiMethyR html
lumiMethyStatus html
lumiN html
lumiQ html
lumiR html
lumiR.batch html
lumiT html
m2beta html
methylationCall html
monoSmu html
monoSpline html
normalizeMethylation.quantile html
normalizeMethylation.ssn html
nuID2EntrezID html
nuID2IlluminaID html
nuID2RefSeqID html
nuID2probeID html
nuID2targetID html
pairs-methods html
plot-methods html
plotCDF html
plotColorBias1D html
plotColorBias2D html
plotControlData html
plotDensity html
plotGammaFit html
plotHousekeepingGene html
plotSampleRelation html
plotStringencyGene html
plotVST html
probeID2nuID html
produceGEOPlatformFile html
produceGEOSampleInfoTemplate html
produceGEOSubmissionFile html
produceMethylationGEOSubmissionFile html
rankinvariant html
rsn html
seq2id html
smoothQuantileNormalization html
ssn html
targetID2nuID html
vst html
** building package indices
** installing vignettes
** testing if installed package can be loaded from temporary location
No methods found in package 'RSQLite' for request: 'dbListFields' when loading 'lumi'
** testing if installed package can be loaded from final location
No methods found in package 'RSQLite' for request: 'dbListFields' when loading 'lumi'
** testing if installed package keeps a record of temporary installation path
* DONE (lumi)
Making 'packages.html' ... done