| Back to Multiple platform build/check report for BioC 3.15 |
|
This page was generated on 2022-03-18 11:07:06 -0400 (Fri, 18 Mar 2022).
| Hostname | OS | Arch (*) | R version | Installed pkgs |
|---|---|---|---|---|
| nebbiolo1 | Linux (Ubuntu 20.04.4 LTS) | x86_64 | R Under development (unstable) (2022-02-17 r81757) -- "Unsuffered Consequences" | 4334 |
| riesling1 | Windows Server 2019 Standard | x64 | R Under development (unstable) (2021-11-21 r81221) -- "Unsuffered Consequences" | 4097 |
| palomino3 | Windows Server 2022 Datacenter | x64 | R Under development (unstable) (2022-02-17 r81757 ucrt) -- "Unsuffered Consequences" | 4083 |
| merida1 | macOS 10.14.6 Mojave | x86_64 | R Under development (unstable) (2022-03-02 r81842) -- "Unsuffered Consequences" | 4134 |
| Click on any hostname to see more info about the system (e.g. compilers) (*) as reported by 'uname -p', except on Windows and Mac OS X | ||||
|
To the developers/maintainers of the CAGEr package: - Please allow up to 24 hours (and sometimes 48 hours) for your latest push to git@git.bioconductor.org:packages/CAGEr.git to reflect on this report. See How and When does the builder pull? When will my changes propagate? here for more information. - Make sure to use the following settings in order to reproduce any error or warning you see on this page. |
| Package 235/2090 | Hostname | OS / Arch | INSTALL | BUILD | CHECK | BUILD BIN | ||||||||
| CAGEr 2.1.3 (landing page) Charles Plessy
| nebbiolo1 | Linux (Ubuntu 20.04.4 LTS) / x86_64 | OK | OK | OK | |||||||||
| riesling1 | Windows Server 2019 Standard / x64 | OK | OK | OK | OK | |||||||||
| palomino3 | Windows Server 2022 Datacenter / x64 | OK | OK | OK | OK | |||||||||
| merida1 | macOS 10.14.6 Mojave / x86_64 | OK | OK | OK | OK | |||||||||
| Package: CAGEr |
| Version: 2.1.3 |
| Command: D:\biocbuild\bbs-3.15-bioc\R\bin\R.exe CMD INSTALL CAGEr |
| StartedAt: 2022-03-17 16:08:45 -0400 (Thu, 17 Mar 2022) |
| EndedAt: 2022-03-17 16:09:59 -0400 (Thu, 17 Mar 2022) |
| EllapsedTime: 74.3 seconds |
| RetCode: 0 |
| Status: OK |
##############################################################################
##############################################################################
###
### Running command:
###
### D:\biocbuild\bbs-3.15-bioc\R\bin\R.exe CMD INSTALL CAGEr
###
##############################################################################
##############################################################################
* installing to library 'D:/biocbuild/bbs-3.15-bioc/R/library'
* installing *source* package 'CAGEr' ...
** using staged installation
** R
** data
*** moving datasets to lazyload DB
** inst
** byte-compile and prepare package for lazy loading
** help
*** installing help indices
converting help for package 'CAGEr'
finding HTML links ... done
CAGEexp-class html
finding level-2 HTML links ... done
CAGEr-class html
CAGEr-package html
CAGEr_Multicore html
CTSS-class html
CTSSclusteringMethod html
CTSScoordinates html
CTSScumulativesTagClusters html
CTSSnormalizedTpm html
CTSStagCount html
CTSStoGenes html
ConsensusClusters-class html
CustomConsensusClusters html
FANTOM5humanSamples html
FANTOM5mouseSamples html
GeneExpDESeq2 html
GeneExpSE html
QuantileWidthFunctions html
TagClusters-class html
aggregateTagClusters html
annotateCTSS html
bam2CTSS html
byCtss html
clusterAggregateAndSum html
clusterCTSS html
coerceInBSgenome html
consensusClusterConvertors html
consensusClusters-set html
consensusClusters html
consensusClustersDESeq2 html
consensusClustersQuantile html
consensusClustersTpm html
coverage-functions html
cumulativeCTSSdistribution html
distclu-functions html
exampleCAGEexp html
exampleZv9_annot html
exportToTrack html
expressionClasses html
genomeName html
getCTSS html
getExpressionProfiles html
getShiftingPromoters html
hanabi-class html
hanabi html
REDIRECT:topic Previous alias or file overwritten by alias: D:/biocbuild/bbs-3.15-bioc/R/library/00LOCK-CAGEr/00new/CAGEr/help/hanabi+2Clist-method.html
hanabiPlot html
import.CAGEscanMolecule html
import.CTSS html
import.bam html
import.bam.ctss html
import.bedCTSS html
import.bedScore html
import.bedmolecule html
inputFiles html
inputFilesType html
librarySizes html
loadFileIntoGPos html
mapStats html
mapStatsScopes html
mergeCAGEsets html
mergeSamples html
moleculesGR2CTSS html
normalizeTagCount html
parseCAGEscanBlocksToGrangeTSS html
plot.hanabi html
plotAnnot html
plotCorrelation html
plotExpressionProfiles html
plotInterquantileWidth html
plotReverseCumulatives html
powerLaw html
quantilePositions html
ranges2annot html
ranges2genes html
ranges2names html
sampleLabels html
scoreShift html
seqNameTotalsSE html
setColors html
strandInvaders html
summariseChrExpr html
tagClusters html
** building package indices
** installing vignettes
** testing if installed package can be loaded from temporary location
** testing if installed package can be loaded from final location
** testing if installed package keeps a record of temporary installation path
* DONE (CAGEr)
Making 'packages.html' ... done