| Back to Multiple platform build/check report for BioC 3.15 |
|
This page was generated on 2022-10-19 13:21:13 -0400 (Wed, 19 Oct 2022).
| Hostname | OS | Arch (*) | R version | Installed pkgs |
|---|---|---|---|---|
| nebbiolo1 | Linux (Ubuntu 20.04.5 LTS) | x86_64 | 4.2.1 (2022-06-23) -- "Funny-Looking Kid" | 4386 |
| palomino3 | Windows Server 2022 Datacenter | x64 | 4.2.1 (2022-06-23 ucrt) -- "Funny-Looking Kid" | 4138 |
| merida1 | macOS 10.14.6 Mojave | x86_64 | 4.2.1 (2022-06-23) -- "Funny-Looking Kid" | 4205 |
| Click on any hostname to see more info about the system (e.g. compilers) (*) as reported by 'uname -p', except on Windows and Mac OS X | ||||
|
To the developers/maintainers of the CAGEr package: - Please allow up to 24 hours (and sometimes 48 hours) for your latest push to git@git.bioconductor.org:packages/CAGEr.git to reflect on this report. See How and When does the builder pull? When will my changes propagate? for more information. - Make sure to use the following settings in order to reproduce any error or warning you see on this page. |
| Package 243/2140 | Hostname | OS / Arch | INSTALL | BUILD | CHECK | BUILD BIN | ||||||||
| CAGEr 2.2.0 (landing page) Charles Plessy
| nebbiolo1 | Linux (Ubuntu 20.04.5 LTS) / x86_64 | OK | OK | OK | |||||||||
| palomino3 | Windows Server 2022 Datacenter / x64 | OK | OK | OK | OK | |||||||||
| merida1 | macOS 10.14.6 Mojave / x86_64 | OK | OK | OK | OK | |||||||||
| Package: CAGEr |
| Version: 2.2.0 |
| Command: F:\biocbuild\bbs-3.15-bioc\R\bin\R.exe CMD check --no-multiarch --install=check:CAGEr.install-out.txt --library=F:\biocbuild\bbs-3.15-bioc\R\library --no-vignettes --timings CAGEr_2.2.0.tar.gz |
| StartedAt: 2022-10-18 22:37:58 -0400 (Tue, 18 Oct 2022) |
| EndedAt: 2022-10-18 22:46:11 -0400 (Tue, 18 Oct 2022) |
| EllapsedTime: 493.1 seconds |
| RetCode: 0 |
| Status: OK |
| CheckDir: CAGEr.Rcheck |
| Warnings: 0 |
##############################################################################
##############################################################################
###
### Running command:
###
### F:\biocbuild\bbs-3.15-bioc\R\bin\R.exe CMD check --no-multiarch --install=check:CAGEr.install-out.txt --library=F:\biocbuild\bbs-3.15-bioc\R\library --no-vignettes --timings CAGEr_2.2.0.tar.gz
###
##############################################################################
##############################################################################
* using log directory 'F:/biocbuild/bbs-3.15-bioc/meat/CAGEr.Rcheck'
* using R version 4.2.1 (2022-06-23 ucrt)
* using platform: x86_64-w64-mingw32 (64-bit)
* using session charset: UTF-8
* using option '--no-vignettes'
* checking for file 'CAGEr/DESCRIPTION' ... OK
* this is package 'CAGEr' version '2.2.0'
* package encoding: UTF-8
* checking package namespace information ... OK
* checking package dependencies ... OK
* checking if this is a source package ... OK
* checking if there is a namespace ... OK
* checking for hidden files and directories ... OK
* checking for portable file names ... OK
* checking whether package 'CAGEr' can be installed ... OK
* checking installed package size ... OK
* checking package directory ... OK
* checking 'build' directory ... OK
* checking DESCRIPTION meta-information ... OK
* checking top-level files ... OK
* checking for left-over files ... OK
* checking index information ... OK
* checking package subdirectories ... OK
* checking R files for non-ASCII characters ... OK
* checking R files for syntax errors ... OK
* checking whether the package can be loaded ... OK
* checking whether the package can be loaded with stated dependencies ... OK
* checking whether the package can be unloaded cleanly ... OK
* checking whether the namespace can be loaded with stated dependencies ... OK
* checking whether the namespace can be unloaded cleanly ... OK
* checking dependencies in R code ... OK
* checking S3 generic/method consistency ... OK
* checking replacement functions ... OK
* checking foreign function calls ... OK
* checking R code for possible problems ... OK
* checking Rd files ... OK
* checking Rd metadata ... OK
* checking Rd cross-references ... OK
* checking for missing documentation entries ... OK
* checking for code/documentation mismatches ... OK
* checking Rd \usage sections ... OK
* checking Rd contents ... OK
* checking for unstated dependencies in examples ... OK
* checking contents of 'data' directory ... OK
* checking data for non-ASCII characters ... OK
* checking LazyData ... OK
* checking data for ASCII and uncompressed saves ... OK
* checking files in 'vignettes' ... OK
* checking examples ... OK
Examples with CPU (user + system) or elapsed time > 5s
user system elapsed
cumulativeCTSSdistribution 40.64 2.16 42.80
clusterCTSS 38.94 0.60 39.55
exportToTrack 31.25 0.35 31.61
quantilePositions 20.76 0.23 21.00
aggregateTagClusters 8.17 0.08 8.25
plotExpressionProfiles 5.92 0.23 6.16
CAGEexp-class 4.86 1.23 6.30
* checking for unstated dependencies in vignettes ... OK
* checking package vignettes in 'inst/doc' ... OK
* checking running R code from vignettes ... SKIPPED
* checking re-building of vignette outputs ... SKIPPED
* checking PDF version of manual ... OK
* DONE
Status: OK
CAGEr.Rcheck/00install.out
############################################################################## ############################################################################## ### ### Running command: ### ### F:\biocbuild\bbs-3.15-bioc\R\bin\R.exe CMD INSTALL CAGEr ### ############################################################################## ############################################################################## * installing to library 'F:/biocbuild/bbs-3.15-bioc/R/library' * installing *source* package 'CAGEr' ... ** using staged installation ** R ** data *** moving datasets to lazyload DB ** inst ** byte-compile and prepare package for lazy loading ** help *** installing help indices ** building package indices ** installing vignettes ** testing if installed package can be loaded from temporary location ** testing if installed package can be loaded from final location ** testing if installed package keeps a record of temporary installation path * DONE (CAGEr)
CAGEr.Rcheck/CAGEr-Ex.timings
| name | user | system | elapsed | |
| CAGEexp-class | 4.86 | 1.23 | 6.30 | |
| CAGEr_Multicore | 0.08 | 0.00 | 0.08 | |
| CTSS-class | 0.43 | 0.02 | 0.46 | |
| CTSSclusteringMethod | 0 | 0 | 0 | |
| CTSScoordinates | 0.11 | 0.00 | 0.11 | |
| CTSSnormalizedTpm | 0.91 | 0.06 | 0.97 | |
| CTSStagCount | 0.87 | 0.05 | 0.92 | |
| CTSStoGenes | 0.57 | 0.00 | 0.56 | |
| CustomConsensusClusters | 0.84 | 0.01 | 0.86 | |
| GeneExpDESeq2 | 1.06 | 0.03 | 1.09 | |
| GeneExpSE | 0 | 0 | 0 | |
| QuantileWidthFunctions | 0.10 | 0.02 | 0.11 | |
| aggregateTagClusters | 8.17 | 0.08 | 8.25 | |
| annotateCTSS | 1.81 | 0.01 | 1.83 | |
| byCtss | 0 | 0 | 0 | |
| clusterCTSS | 38.94 | 0.60 | 39.55 | |
| consensusClusters | 0.19 | 0.01 | 0.20 | |
| consensusClustersDESeq2 | 0.25 | 0.00 | 0.25 | |
| consensusClustersTpm | 0 | 0 | 0 | |
| coverage-functions | 4.62 | 0.16 | 4.78 | |
| cumulativeCTSSdistribution | 40.64 | 2.16 | 42.80 | |
| distclu-functions | 3.45 | 0.18 | 3.64 | |
| exampleCAGEexp | 0 | 0 | 0 | |
| exportToTrack | 31.25 | 0.35 | 31.61 | |
| expressionClasses | 0.03 | 0.00 | 0.03 | |
| genomeName | 0 | 0 | 0 | |
| getCTSS | 1.11 | 0.04 | 1.15 | |
| getExpressionProfiles | 2.11 | 0.02 | 2.12 | |
| getShiftingPromoters | 0 | 0 | 0 | |
| hanabi | 0.20 | 0.05 | 0.25 | |
| hanabiPlot | 0.31 | 0.03 | 0.35 | |
| import.CAGEscanMolecule | 0 | 0 | 0 | |
| import.CTSS | 0.10 | 0.00 | 0.09 | |
| import.bam | 0 | 0 | 0 | |
| import.bedCTSS | 0 | 0 | 0 | |
| import.bedScore | 0 | 0 | 0 | |
| import.bedmolecule | 0 | 0 | 0 | |
| inputFiles | 0 | 0 | 0 | |
| inputFilesType | 0 | 0 | 0 | |
| librarySizes | 0 | 0 | 0 | |
| mapStats | 0.06 | 0.00 | 0.06 | |
| mergeCAGEsets | 3.57 | 0.08 | 3.64 | |
| mergeSamples | 0.61 | 0.00 | 0.61 | |
| moleculesGR2CTSS | 0.18 | 0.00 | 0.18 | |
| normalizeTagCount | 0.69 | 0.02 | 0.71 | |
| parseCAGEscanBlocksToGrangeTSS | 0.03 | 0.00 | 0.03 | |
| plotAnnot | 2.34 | 0.03 | 2.38 | |
| plotCorrelation | 0.41 | 0.00 | 0.40 | |
| plotExpressionProfiles | 5.92 | 0.23 | 6.16 | |
| plotInterquantileWidth | 3.55 | 0.02 | 3.56 | |
| plotReverseCumulatives | 0.39 | 0.00 | 0.41 | |
| quantilePositions | 20.76 | 0.23 | 21.00 | |
| ranges2annot | 0.33 | 0.00 | 0.33 | |
| ranges2genes | 0.05 | 0.00 | 0.04 | |
| ranges2names | 0.04 | 0.00 | 0.05 | |
| sampleLabels | 0 | 0 | 0 | |
| scoreShift | 0 | 0 | 0 | |
| seqNameTotalsSE | 0 | 0 | 0 | |
| setColors | 0.59 | 0.03 | 0.62 | |
| strandInvaders | 0.72 | 0.13 | 4.75 | |
| summariseChrExpr | 0.53 | 0.00 | 0.53 | |
| tagClusters | 0.11 | 0.00 | 0.11 | |