| Back to Multiple platform build/check report for BioC 3.15 |
|
This page was generated on 2022-10-19 13:20:03 -0400 (Wed, 19 Oct 2022).
| Hostname | OS | Arch (*) | R version | Installed pkgs |
|---|---|---|---|---|
| nebbiolo1 | Linux (Ubuntu 20.04.5 LTS) | x86_64 | 4.2.1 (2022-06-23) -- "Funny-Looking Kid" | 4386 |
| palomino3 | Windows Server 2022 Datacenter | x64 | 4.2.1 (2022-06-23 ucrt) -- "Funny-Looking Kid" | 4138 |
| merida1 | macOS 10.14.6 Mojave | x86_64 | 4.2.1 (2022-06-23) -- "Funny-Looking Kid" | 4205 |
| Click on any hostname to see more info about the system (e.g. compilers) (*) as reported by 'uname -p', except on Windows and Mac OS X | ||||
|
To the developers/maintainers of the CAGEr package: - Please allow up to 24 hours (and sometimes 48 hours) for your latest push to git@git.bioconductor.org:packages/CAGEr.git to reflect on this report. See How and When does the builder pull? When will my changes propagate? for more information. - Make sure to use the following settings in order to reproduce any error or warning you see on this page. |
| Package 243/2140 | Hostname | OS / Arch | INSTALL | BUILD | CHECK | BUILD BIN | ||||||||
| CAGEr 2.2.0 (landing page) Charles Plessy
| nebbiolo1 | Linux (Ubuntu 20.04.5 LTS) / x86_64 | OK | OK | OK | |||||||||
| palomino3 | Windows Server 2022 Datacenter / x64 | OK | OK | OK | OK | |||||||||
| merida1 | macOS 10.14.6 Mojave / x86_64 | OK | OK | OK | OK | |||||||||
| Package: CAGEr |
| Version: 2.2.0 |
| Command: /home/biocbuild/bbs-3.15-bioc/R/bin/R CMD check --install=check:CAGEr.install-out.txt --library=/home/biocbuild/bbs-3.15-bioc/R/library --no-vignettes --timings CAGEr_2.2.0.tar.gz |
| StartedAt: 2022-10-18 18:53:12 -0400 (Tue, 18 Oct 2022) |
| EndedAt: 2022-10-18 19:00:07 -0400 (Tue, 18 Oct 2022) |
| EllapsedTime: 414.4 seconds |
| RetCode: 0 |
| Status: OK |
| CheckDir: CAGEr.Rcheck |
| Warnings: 0 |
##############################################################################
##############################################################################
###
### Running command:
###
### /home/biocbuild/bbs-3.15-bioc/R/bin/R CMD check --install=check:CAGEr.install-out.txt --library=/home/biocbuild/bbs-3.15-bioc/R/library --no-vignettes --timings CAGEr_2.2.0.tar.gz
###
##############################################################################
##############################################################################
* using log directory ‘/home/biocbuild/bbs-3.15-bioc/meat/CAGEr.Rcheck’
* using R version 4.2.1 (2022-06-23)
* using platform: x86_64-pc-linux-gnu (64-bit)
* using session charset: UTF-8
* using option ‘--no-vignettes’
* checking for file ‘CAGEr/DESCRIPTION’ ... OK
* this is package ‘CAGEr’ version ‘2.2.0’
* package encoding: UTF-8
* checking package namespace information ... OK
* checking package dependencies ... OK
* checking if this is a source package ... OK
* checking if there is a namespace ... OK
* checking for hidden files and directories ... OK
* checking for portable file names ... OK
* checking for sufficient/correct file permissions ... OK
* checking whether package ‘CAGEr’ can be installed ... OK
* checking installed package size ... OK
* checking package directory ... OK
* checking ‘build’ directory ... OK
* checking DESCRIPTION meta-information ... OK
* checking top-level files ... OK
* checking for left-over files ... OK
* checking index information ... OK
* checking package subdirectories ... OK
* checking R files for non-ASCII characters ... OK
* checking R files for syntax errors ... OK
* checking whether the package can be loaded ... OK
* checking whether the package can be loaded with stated dependencies ... OK
* checking whether the package can be unloaded cleanly ... OK
* checking whether the namespace can be loaded with stated dependencies ... OK
* checking whether the namespace can be unloaded cleanly ... OK
* checking dependencies in R code ... OK
* checking S3 generic/method consistency ... OK
* checking replacement functions ... OK
* checking foreign function calls ... OK
* checking R code for possible problems ... OK
* checking Rd files ... OK
* checking Rd metadata ... OK
* checking Rd cross-references ... OK
* checking for missing documentation entries ... OK
* checking for code/documentation mismatches ... OK
* checking Rd \usage sections ... OK
* checking Rd contents ... OK
* checking for unstated dependencies in examples ... OK
* checking contents of ‘data’ directory ... OK
* checking data for non-ASCII characters ... OK
* checking LazyData ... OK
* checking data for ASCII and uncompressed saves ... OK
* checking files in ‘vignettes’ ... OK
* checking examples ... OK
Examples with CPU (user + system) or elapsed time > 5s
user system elapsed
cumulativeCTSSdistribution 33.884 6.544 40.395
clusterCTSS 28.023 0.784 28.786
exportToTrack 26.097 0.184 26.280
quantilePositions 16.524 0.068 16.591
aggregateTagClusters 6.757 0.135 6.855
* checking for unstated dependencies in vignettes ... OK
* checking package vignettes in ‘inst/doc’ ... OK
* checking running R code from vignettes ... SKIPPED
* checking re-building of vignette outputs ... SKIPPED
* checking PDF version of manual ... OK
* DONE
Status: OK
CAGEr.Rcheck/00install.out
############################################################################## ############################################################################## ### ### Running command: ### ### /home/biocbuild/bbs-3.15-bioc/R/bin/R CMD INSTALL CAGEr ### ############################################################################## ############################################################################## * installing to library ‘/home/biocbuild/bbs-3.15-bioc/R/library’ * installing *source* package ‘CAGEr’ ... ** using staged installation ** R ** data *** moving datasets to lazyload DB ** inst ** byte-compile and prepare package for lazy loading ** help *** installing help indices ** building package indices ** installing vignettes ** testing if installed package can be loaded from temporary location ** testing if installed package can be loaded from final location ** testing if installed package keeps a record of temporary installation path * DONE (CAGEr)
CAGEr.Rcheck/CAGEr-Ex.timings
| name | user | system | elapsed | |
| CAGEexp-class | 2.941 | 0.300 | 3.249 | |
| CAGEr_Multicore | 1.143 | 0.093 | 1.252 | |
| CTSS-class | 0.279 | 0.004 | 0.284 | |
| CTSSclusteringMethod | 0.001 | 0.001 | 0.001 | |
| CTSScoordinates | 0.069 | 0.000 | 0.070 | |
| CTSSnormalizedTpm | 0.687 | 0.011 | 0.699 | |
| CTSStagCount | 0.795 | 0.044 | 0.839 | |
| CTSStoGenes | 0.395 | 0.013 | 0.408 | |
| CustomConsensusClusters | 0.921 | 0.012 | 0.934 | |
| GeneExpDESeq2 | 1.066 | 0.052 | 1.119 | |
| GeneExpSE | 0.000 | 0.004 | 0.005 | |
| QuantileWidthFunctions | 0.137 | 0.000 | 0.136 | |
| aggregateTagClusters | 6.757 | 0.135 | 6.855 | |
| annotateCTSS | 1.386 | 0.036 | 1.422 | |
| byCtss | 0.005 | 0.000 | 0.005 | |
| clusterCTSS | 28.023 | 0.784 | 28.786 | |
| consensusClusters | 0.11 | 0.00 | 0.11 | |
| consensusClustersDESeq2 | 0.153 | 0.000 | 0.153 | |
| consensusClustersTpm | 0.007 | 0.000 | 0.007 | |
| coverage-functions | 3.788 | 0.532 | 4.322 | |
| cumulativeCTSSdistribution | 33.884 | 6.544 | 40.395 | |
| distclu-functions | 3.675 | 0.652 | 4.257 | |
| exampleCAGEexp | 0.001 | 0.000 | 0.001 | |
| exportToTrack | 26.097 | 0.184 | 26.280 | |
| expressionClasses | 0.008 | 0.007 | 0.015 | |
| genomeName | 0.001 | 0.000 | 0.001 | |
| getCTSS | 1.123 | 0.012 | 1.135 | |
| getExpressionProfiles | 1.622 | 0.044 | 1.666 | |
| getShiftingPromoters | 0.000 | 0.000 | 0.001 | |
| hanabi | 0.221 | 0.004 | 0.224 | |
| hanabiPlot | 0.265 | 0.028 | 0.292 | |
| import.CAGEscanMolecule | 0.000 | 0.000 | 0.001 | |
| import.CTSS | 0.082 | 0.000 | 0.082 | |
| import.bam | 0 | 0 | 0 | |
| import.bedCTSS | 0 | 0 | 0 | |
| import.bedScore | 0.001 | 0.000 | 0.000 | |
| import.bedmolecule | 0 | 0 | 0 | |
| inputFiles | 0.001 | 0.000 | 0.001 | |
| inputFilesType | 0.001 | 0.000 | 0.001 | |
| librarySizes | 0.000 | 0.002 | 0.001 | |
| mapStats | 0.044 | 0.006 | 0.050 | |
| mergeCAGEsets | 2.293 | 0.024 | 2.317 | |
| mergeSamples | 0.549 | 0.008 | 0.556 | |
| moleculesGR2CTSS | 0.116 | 0.004 | 0.119 | |
| normalizeTagCount | 0.588 | 0.000 | 0.565 | |
| parseCAGEscanBlocksToGrangeTSS | 0.022 | 0.000 | 0.022 | |
| plotAnnot | 1.999 | 0.044 | 2.043 | |
| plotCorrelation | 0.24 | 0.00 | 0.24 | |
| plotExpressionProfiles | 4.165 | 0.080 | 4.245 | |
| plotInterquantileWidth | 2.516 | 0.036 | 2.551 | |
| plotReverseCumulatives | 0.340 | 0.000 | 0.296 | |
| quantilePositions | 16.524 | 0.068 | 16.591 | |
| ranges2annot | 0.354 | 0.001 | 0.354 | |
| ranges2genes | 0.049 | 0.000 | 0.049 | |
| ranges2names | 0.049 | 0.000 | 0.049 | |
| sampleLabels | 0.005 | 0.000 | 0.005 | |
| scoreShift | 0.001 | 0.000 | 0.000 | |
| seqNameTotalsSE | 0.005 | 0.000 | 0.005 | |
| setColors | 0.386 | 0.004 | 0.389 | |
| strandInvaders | 0.746 | 0.095 | 0.830 | |
| summariseChrExpr | 0.488 | 0.004 | 0.493 | |
| tagClusters | 0.078 | 0.003 | 0.081 | |