| Back to Multiple platform build/check report for BioC 3.12 |
|
This page was generated on 2021-05-06 12:30:34 -0400 (Thu, 06 May 2021).
|
To the developers/maintainers of the cytofast package: Please make sure to use the following settings in order to reproduce any error or warning you see on this page. |
| Package 415/1974 | Hostname | OS / Arch | INSTALL | BUILD | CHECK | BUILD BIN | ||||||||
| cytofast 1.6.0 (landing page) K.A. Stam
| malbec1 | Linux (Ubuntu 18.04.5 LTS) / x86_64 | OK | OK | OK | |||||||||
| tokay1 | Windows Server 2012 R2 Standard / x64 | OK | OK | OK | OK | |||||||||
| merida1 | macOS 10.14.6 Mojave / x86_64 | OK | OK | OK | OK | |||||||||
| Package: cytofast |
| Version: 1.6.0 |
| Command: C:\cygwin\bin\curl.exe -O http://172.29.0.3/BBS/3.12/bioc/src/contrib/cytofast_1.6.0.tar.gz && rm -rf cytofast.buildbin-libdir && mkdir cytofast.buildbin-libdir && C:\Users\biocbuild\bbs-3.12-bioc\R\bin\R.exe CMD INSTALL --merge-multiarch --build --library=cytofast.buildbin-libdir cytofast_1.6.0.tar.gz && C:\Users\biocbuild\bbs-3.12-bioc\R\bin\R.exe CMD INSTALL cytofast_1.6.0.zip && rm cytofast_1.6.0.tar.gz cytofast_1.6.0.zip |
| StartedAt: 2021-05-05 19:22:35 -0400 (Wed, 05 May 2021) |
| EndedAt: 2021-05-05 19:23:03 -0400 (Wed, 05 May 2021) |
| EllapsedTime: 27.6 seconds |
| RetCode: 0 |
| Status: OK |
##############################################################################
##############################################################################
###
### Running command:
###
### C:\cygwin\bin\curl.exe -O http://172.29.0.3/BBS/3.12/bioc/src/contrib/cytofast_1.6.0.tar.gz && rm -rf cytofast.buildbin-libdir && mkdir cytofast.buildbin-libdir && C:\Users\biocbuild\bbs-3.12-bioc\R\bin\R.exe CMD INSTALL --merge-multiarch --build --library=cytofast.buildbin-libdir cytofast_1.6.0.tar.gz && C:\Users\biocbuild\bbs-3.12-bioc\R\bin\R.exe CMD INSTALL cytofast_1.6.0.zip && rm cytofast_1.6.0.tar.gz cytofast_1.6.0.zip
###
##############################################################################
##############################################################################
% Total % Received % Xferd Average Speed Time Time Time Current
Dload Upload Total Spent Left Speed
0 0 0 0 0 0 0 0 --:--:-- --:--:-- --:--:-- 0
100 912k 100 912k 0 0 37.8M 0 --:--:-- --:--:-- --:--:-- 38.7M
install for i386
* installing *source* package 'cytofast' ...
** using staged installation
** R
** data
*** moving datasets to lazyload DB
** inst
** byte-compile and prepare package for lazy loading
Creating a new generic function for 'expr' in package 'cytofast'
** help
Loading required namespace: cytofast
*** installing help indices
converting help for package 'cytofast'
finding HTML links ... done
cellCounts html
cfList-class html
cytoBoxplots html
cytoHeatmaps html
cytottest html
drawTree html
msiPlot html
readCytosploreFCS html
spitzer html
sub-cfList-ANY-method html
** building package indices
** installing vignettes
** testing if installed package can be loaded from temporary location
** testing if installed package can be loaded from final location
** testing if installed package keeps a record of temporary installation path
install for x64
* installing *source* package 'cytofast' ...
** testing if installed package can be loaded
* MD5 sums
packaged installation of 'cytofast' as cytofast_1.6.0.zip
* DONE (cytofast)
* installing to library 'C:/Users/biocbuild/bbs-3.12-bioc/R/library'
package 'cytofast' successfully unpacked and MD5 sums checked