| Back to Multiple platform build/check report for BioC 3.12 |
|
This page was generated on 2021-05-06 12:30:34 -0400 (Thu, 06 May 2021).
|
To the developers/maintainers of the cytofast package: Please make sure to use the following settings in order to reproduce any error or warning you see on this page. |
| Package 415/1974 | Hostname | OS / Arch | INSTALL | BUILD | CHECK | BUILD BIN | ||||||||
| cytofast 1.6.0 (landing page) K.A. Stam
| malbec1 | Linux (Ubuntu 18.04.5 LTS) / x86_64 | OK | OK | OK | |||||||||
| tokay1 | Windows Server 2012 R2 Standard / x64 | OK | OK | OK | OK | |||||||||
| merida1 | macOS 10.14.6 Mojave / x86_64 | OK | OK | OK | OK | |||||||||
| Package: cytofast |
| Version: 1.6.0 |
| Command: rm -rf cytofast.buildbin-libdir && mkdir cytofast.buildbin-libdir && C:\Users\biocbuild\bbs-3.12-bioc\R\bin\R.exe CMD INSTALL --merge-multiarch --build --library=cytofast.buildbin-libdir cytofast_1.6.0.tar.gz |
| StartedAt: 2021-05-06 08:50:43 -0400 (Thu, 06 May 2021) |
| EndedAt: 2021-05-06 08:51:19 -0400 (Thu, 06 May 2021) |
| EllapsedTime: 36.5 seconds |
| RetCode: 0 |
| Status: OK |
| PackageFile: cytofast_1.6.0.zip |
| PackageFileSize: 1.495 MiB |
##############################################################################
##############################################################################
###
### Running command:
###
### rm -rf cytofast.buildbin-libdir && mkdir cytofast.buildbin-libdir && C:\Users\biocbuild\bbs-3.12-bioc\R\bin\R.exe CMD INSTALL --merge-multiarch --build --library=cytofast.buildbin-libdir cytofast_1.6.0.tar.gz
###
##############################################################################
##############################################################################
install for i386
* installing *source* package 'cytofast' ...
** using staged installation
** R
** data
*** moving datasets to lazyload DB
** inst
** byte-compile and prepare package for lazy loading
Creating a new generic function for 'expr' in package 'cytofast'
** help
*** installing help indices
converting help for package 'cytofast'
finding HTML links ... done
cellCounts html
cfList-class html
cytoBoxplots html
cytoHeatmaps html
cytottest html
drawTree html
msiPlot html
readCytosploreFCS html
spitzer html
sub-cfList-ANY-method html
** building package indices
** installing vignettes
** testing if installed package can be loaded from temporary location
** testing if installed package can be loaded from final location
** testing if installed package keeps a record of temporary installation path
install for x64
* installing *source* package 'cytofast' ...
** testing if installed package can be loaded
* MD5 sums
packaged installation of 'cytofast' as cytofast_1.6.0.zip
* DONE (cytofast)