| Back to Multiple platform build/check report for BioC 3.12 |
|
This page was generated on 2021-05-06 12:33:06 -0400 (Thu, 06 May 2021).
|
To the developers/maintainers of the ramwas package: Please make sure to use the following settings in order to reproduce any error or warning you see on this page. |
| Package 1449/1974 | Hostname | OS / Arch | INSTALL | BUILD | CHECK | BUILD BIN | ||||||||
| ramwas 1.14.0 (landing page) Andrey A Shabalin
| malbec1 | Linux (Ubuntu 18.04.5 LTS) / x86_64 | OK | OK | OK | |||||||||
| tokay1 | Windows Server 2012 R2 Standard / x64 | OK | OK | WARNINGS | OK | |||||||||
| merida1 | macOS 10.14.6 Mojave / x86_64 | OK | OK | OK | OK | |||||||||
| Package: ramwas |
| Version: 1.14.0 |
| Command: rm -rf ramwas.buildbin-libdir && mkdir ramwas.buildbin-libdir && C:\Users\biocbuild\bbs-3.12-bioc\R\bin\R.exe CMD INSTALL --merge-multiarch --build --library=ramwas.buildbin-libdir ramwas_1.14.0.tar.gz |
| StartedAt: 2021-05-06 09:52:00 -0400 (Thu, 06 May 2021) |
| EndedAt: 2021-05-06 09:52:59 -0400 (Thu, 06 May 2021) |
| EllapsedTime: 58.8 seconds |
| RetCode: 0 |
| Status: OK |
| PackageFile: ramwas_1.14.0.zip |
| PackageFileSize: 2.53 MiB |
##############################################################################
##############################################################################
###
### Running command:
###
### rm -rf ramwas.buildbin-libdir && mkdir ramwas.buildbin-libdir && C:\Users\biocbuild\bbs-3.12-bioc\R\bin\R.exe CMD INSTALL --merge-multiarch --build --library=ramwas.buildbin-libdir ramwas_1.14.0.tar.gz
###
##############################################################################
##############################################################################
install for i386
* installing *source* package 'ramwas' ...
** using staged installation
** libs
"C:/rtools40/mingw32/bin/"gcc -I"C:/Users/BIOCBU~1/BBS-3~1.12-/R/include" -DNDEBUG -I"C:/extsoft/include" -O2 -Wall -std=gnu99 -mfpmath=sse -msse2 -mstackrealign -c rw_c_code.c -o rw_c_code.o
C:/rtools40/mingw32/bin/gcc -shared -s -static-libgcc -o ramwas.dll tmp.def rw_c_code.o -LC:/extsoft/lib/i386 -LC:/extsoft/lib -LC:/Users/BIOCBU~1/BBS-3~1.12-/R/bin/i386 -lR
installing to C:/Users/biocbuild/bbs-3.12-bioc/meat/ramwas.buildbin-libdir/00LOCK-ramwas/00new/ramwas/libs/i386
** R
** inst
** byte-compile and prepare package for lazy loading
** help
*** installing help indices
converting help for package 'ramwas'
finding HTML links ... done
MakeBED html
QCs html
Rd warning: C:/Users/biocbuild/bbs-3.12-bioc/tmpdir/RtmpYDJGcG/R.INSTALL4064644717d0/ramwas/man/QCs.Rd:71: file link 'plot' in package 'graphics' does not exist and so has been treated as a topic
RaMWAS html
cachedRDSload html
findBestNpvs html
get html
getCpGset html
injectSNPsMAF html
finding level-2 HTML links ... done
insilicoFASTQ html
isAbsolutePath html
makefullpath html
manhattan html
mat2cols html
orthonormalizeCovariates html
parameterDump html
parameterPreprocess html
parametersFromFile html
pipeline html
plotCV html
plotFragmentSizeDistributionEstimate html
plotPC html
processCommandLine html
pvalue2qvalue html
qqplotFast html
Rd warning: C:/Users/biocbuild/bbs-3.12-bioc/tmpdir/RtmpYDJGcG/R.INSTALL4064644717d0/ramwas/man/qqplotFast.Rd:91: file link 'plot' in package 'graphics' does not exist and so has been treated as a topic
ramwas0createArtificialData html
ramwasAnnotateLocations html
ramwasParameters html
rowcolSumSq html
rwDataClass-class html
subsetData html
testPhenotype html
*** copying figures
** building package indices
** installing vignettes
** testing if installed package can be loaded from temporary location
** testing if installed package can be loaded from final location
** testing if installed package keeps a record of temporary installation path
install for x64
* installing *source* package 'ramwas' ...
** libs
"C:/rtools40/mingw64/bin/"gcc -I"C:/Users/BIOCBU~1/BBS-3~1.12-/R/include" -DNDEBUG -I"C:/extsoft/include" -O2 -Wall -std=gnu99 -mfpmath=sse -msse2 -mstackrealign -c rw_c_code.c -o rw_c_code.o
C:/rtools40/mingw64/bin/gcc -shared -s -static-libgcc -o ramwas.dll tmp.def rw_c_code.o -LC:/extsoft/lib/x64 -LC:/extsoft/lib -LC:/Users/BIOCBU~1/BBS-3~1.12-/R/bin/x64 -lR
installing to C:/Users/biocbuild/bbs-3.12-bioc/meat/ramwas.buildbin-libdir/ramwas/libs/x64
** testing if installed package can be loaded
* MD5 sums
packaged installation of 'ramwas' as ramwas_1.14.0.zip
* DONE (ramwas)