| Back to Multiple platform build/check report for BioC 3.12 |
|
This page was generated on 2021-05-06 12:28:44 -0400 (Thu, 06 May 2021).
|
To the developers/maintainers of the ramwas package: Please make sure to use the following settings in order to reproduce any error or warning you see on this page. |
| Package 1449/1974 | Hostname | OS / Arch | INSTALL | BUILD | CHECK | BUILD BIN | ||||||||
| ramwas 1.14.0 (landing page) Andrey A Shabalin
| malbec1 | Linux (Ubuntu 18.04.5 LTS) / x86_64 | OK | OK | OK | |||||||||
| tokay1 | Windows Server 2012 R2 Standard / x64 | OK | OK | WARNINGS | OK | |||||||||
| merida1 | macOS 10.14.6 Mojave / x86_64 | OK | OK | OK | OK | |||||||||
| Package: ramwas |
| Version: 1.14.0 |
| Command: /home/biocbuild/bbs-3.12-bioc/R/bin/R CMD check --install=check:ramwas.install-out.txt --library=/home/biocbuild/bbs-3.12-bioc/R/library --no-vignettes --timings ramwas_1.14.0.tar.gz |
| StartedAt: 2021-05-06 04:57:46 -0400 (Thu, 06 May 2021) |
| EndedAt: 2021-05-06 05:02:46 -0400 (Thu, 06 May 2021) |
| EllapsedTime: 299.5 seconds |
| RetCode: 0 |
| Status: OK |
| CheckDir: ramwas.Rcheck |
| Warnings: 0 |
##############################################################################
##############################################################################
###
### Running command:
###
### /home/biocbuild/bbs-3.12-bioc/R/bin/R CMD check --install=check:ramwas.install-out.txt --library=/home/biocbuild/bbs-3.12-bioc/R/library --no-vignettes --timings ramwas_1.14.0.tar.gz
###
##############################################################################
##############################################################################
* using log directory ‘/home/biocbuild/bbs-3.12-bioc/meat/ramwas.Rcheck’
* using R version 4.0.5 (2021-03-31)
* using platform: x86_64-pc-linux-gnu (64-bit)
* using session charset: UTF-8
* using option ‘--no-vignettes’
* checking for file ‘ramwas/DESCRIPTION’ ... OK
* checking extension type ... Package
* this is package ‘ramwas’ version ‘1.14.0’
* checking package namespace information ... OK
* checking package dependencies ... OK
* checking if this is a source package ... OK
* checking if there is a namespace ... OK
* checking for hidden files and directories ... OK
* checking for portable file names ... OK
* checking for sufficient/correct file permissions ... OK
* checking whether package ‘ramwas’ can be installed ... OK
* checking installed package size ... OK
* checking package directory ... OK
* checking ‘build’ directory ... OK
* checking DESCRIPTION meta-information ... OK
* checking top-level files ... OK
* checking for left-over files ... OK
* checking index information ... OK
* checking package subdirectories ... OK
* checking R files for non-ASCII characters ... OK
* checking R files for syntax errors ... OK
* checking whether the package can be loaded ... OK
* checking whether the package can be loaded with stated dependencies ... OK
* checking whether the package can be unloaded cleanly ... OK
* checking whether the namespace can be loaded with stated dependencies ... OK
* checking whether the namespace can be unloaded cleanly ... OK
* checking dependencies in R code ... OK
* checking S3 generic/method consistency ... OK
* checking replacement functions ... OK
* checking foreign function calls ... OK
* checking R code for possible problems ... OK
* checking Rd files ... OK
* checking Rd metadata ... OK
* checking Rd cross-references ... OK
* checking for missing documentation entries ... OK
* checking for code/documentation mismatches ... OK
* checking Rd \usage sections ... OK
* checking Rd contents ... OK
* checking for unstated dependencies in examples ... OK
* checking line endings in C/C++/Fortran sources/headers ... OK
* checking compiled code ... NOTE
Note: information on .o files is not available
* checking files in ‘vignettes’ ... OK
* checking examples ... OK
Examples with CPU (user + system) or elapsed time > 5s
user system elapsed
manhattan 9.36 0.464 9.839
* checking for unstated dependencies in vignettes ... OK
* checking package vignettes in ‘inst/doc’ ... OK
* checking running R code from vignettes ... SKIPPED
* checking re-building of vignette outputs ... SKIPPED
* checking PDF version of manual ... OK
* DONE
Status: 1 NOTE
See
‘/home/biocbuild/bbs-3.12-bioc/meat/ramwas.Rcheck/00check.log’
for details.
ramwas.Rcheck/00install.out
############################################################################## ############################################################################## ### ### Running command: ### ### /home/biocbuild/bbs-3.12-bioc/R/bin/R CMD INSTALL ramwas ### ############################################################################## ############################################################################## * installing to library ‘/home/biocbuild/bbs-3.12-bioc/R/library’ * installing *source* package ‘ramwas’ ... ** using staged installation ** libs gcc -I"/home/biocbuild/bbs-3.12-bioc/R/include" -DNDEBUG -I/usr/local/include -fpic -g -O2 -Wall -c rw_c_code.c -o rw_c_code.o gcc -shared -L/home/biocbuild/bbs-3.12-bioc/R/lib -L/usr/local/lib -o ramwas.so rw_c_code.o -L/home/biocbuild/bbs-3.12-bioc/R/lib -lR installing to /home/biocbuild/bbs-3.12-bioc/R/library/00LOCK-ramwas/00new/ramwas/libs ** R ** inst ** byte-compile and prepare package for lazy loading ** help *** installing help indices *** copying figures ** building package indices ** installing vignettes ** testing if installed package can be loaded from temporary location ** checking absolute paths in shared objects and dynamic libraries ** testing if installed package can be loaded from final location ** testing if installed package keeps a record of temporary installation path * DONE (ramwas)
ramwas.Rcheck/ramwas-Ex.timings
| name | user | system | elapsed | |
| MakeBED | 0 | 0 | 0 | |
| QCs | 0.052 | 0.000 | 0.062 | |
| cachedRDSload | 1.416 | 0.008 | 1.428 | |
| findBestNpvs | 0.004 | 0.000 | 0.002 | |
| get | 0 | 0 | 0 | |
| getCpGset | 3.980 | 0.104 | 4.479 | |
| injectSNPsMAF | 0.688 | 0.000 | 0.691 | |
| insilicoFASTQ | 0.000 | 0.000 | 0.002 | |
| isAbsolutePath | 0.000 | 0.000 | 0.001 | |
| makefullpath | 0 | 0 | 0 | |
| manhattan | 9.360 | 0.464 | 9.839 | |
| mat2cols | 0.000 | 0.000 | 0.001 | |
| orthonormalizeCovariates | 0.004 | 0.004 | 0.009 | |
| parameterDump | 0.000 | 0.000 | 0.003 | |
| parameterPreprocess | 0.000 | 0.056 | 0.064 | |
| parametersFromFile | 0.000 | 0.000 | 0.002 | |
| pipeline | 0.000 | 0.000 | 0.002 | |
| plotCV | 2.116 | 0.036 | 2.156 | |
| plotFragmentSizeDistributionEstimate | 0.024 | 0.008 | 0.032 | |
| plotPC | 0.012 | 0.000 | 0.010 | |
| processCommandLine | 0.000 | 0.000 | 0.001 | |
| pvalue2qvalue | 0.004 | 0.000 | 0.001 | |
| qqplotFast | 1.736 | 0.240 | 1.982 | |
| ramwas0createArtificialData | 0.200 | 0.008 | 0.208 | |
| ramwasAnnotateLocations | 0 | 0 | 0 | |
| ramwasParameters | 0 | 0 | 0 | |
| rowcolSumSq | 0.000 | 0.000 | 0.001 | |
| rwDataClass-class | 0.032 | 0.004 | 0.036 | |
| subsetData | 0 | 0 | 0 | |
| testPhenotype | 0.016 | 0.000 | 0.016 | |