| Back to Multiple platform build/check report for BioC 3.12 |
|
This page was generated on 2021-05-06 12:36:18 -0400 (Thu, 06 May 2021).
|
To the developers/maintainers of the ramwas package: Please make sure to use the following settings in order to reproduce any error or warning you see on this page. |
| Package 1449/1974 | Hostname | OS / Arch | INSTALL | BUILD | CHECK | BUILD BIN | ||||||||
| ramwas 1.14.0 (landing page) Andrey A Shabalin
| malbec1 | Linux (Ubuntu 18.04.5 LTS) / x86_64 | OK | OK | OK | |||||||||
| tokay1 | Windows Server 2012 R2 Standard / x64 | OK | OK | WARNINGS | OK | |||||||||
| merida1 | macOS 10.14.6 Mojave / x86_64 | OK | OK | OK | OK | |||||||||
| Package: ramwas |
| Version: 1.14.0 |
| Command: /Library/Frameworks/R.framework/Versions/Current/Resources/bin/R CMD check --install=check:ramwas.install-out.txt --library=/Library/Frameworks/R.framework/Versions/Current/Resources/library --no-vignettes --timings ramwas_1.14.0.tar.gz |
| StartedAt: 2021-05-06 05:10:01 -0400 (Thu, 06 May 2021) |
| EndedAt: 2021-05-06 05:14:52 -0400 (Thu, 06 May 2021) |
| EllapsedTime: 290.6 seconds |
| RetCode: 0 |
| Status: OK |
| CheckDir: ramwas.Rcheck |
| Warnings: 0 |
##############################################################################
##############################################################################
###
### Running command:
###
### /Library/Frameworks/R.framework/Versions/Current/Resources/bin/R CMD check --install=check:ramwas.install-out.txt --library=/Library/Frameworks/R.framework/Versions/Current/Resources/library --no-vignettes --timings ramwas_1.14.0.tar.gz
###
##############################################################################
##############################################################################
* using log directory ‘/Users/biocbuild/bbs-3.12-bioc/meat/ramwas.Rcheck’
* using R version 4.0.5 (2021-03-31)
* using platform: x86_64-apple-darwin17.0 (64-bit)
* using session charset: UTF-8
* using option ‘--no-vignettes’
* checking for file ‘ramwas/DESCRIPTION’ ... OK
* checking extension type ... Package
* this is package ‘ramwas’ version ‘1.14.0’
* checking package namespace information ... OK
* checking package dependencies ... OK
* checking if this is a source package ... OK
* checking if there is a namespace ... OK
* checking for hidden files and directories ... OK
* checking for portable file names ... OK
* checking for sufficient/correct file permissions ... OK
* checking whether package ‘ramwas’ can be installed ... OK
* checking installed package size ... OK
* checking package directory ... OK
* checking ‘build’ directory ... OK
* checking DESCRIPTION meta-information ... OK
* checking top-level files ... OK
* checking for left-over files ... OK
* checking index information ... OK
* checking package subdirectories ... OK
* checking R files for non-ASCII characters ... OK
* checking R files for syntax errors ... OK
* checking whether the package can be loaded ... OK
* checking whether the package can be loaded with stated dependencies ... OK
* checking whether the package can be unloaded cleanly ... OK
* checking whether the namespace can be loaded with stated dependencies ... OK
* checking whether the namespace can be unloaded cleanly ... OK
* checking dependencies in R code ... OK
* checking S3 generic/method consistency ... OK
* checking replacement functions ... OK
* checking foreign function calls ... OK
* checking R code for possible problems ... OK
* checking Rd files ... OK
* checking Rd metadata ... OK
* checking Rd cross-references ... OK
* checking for missing documentation entries ... OK
* checking for code/documentation mismatches ... OK
* checking Rd \usage sections ... OK
* checking Rd contents ... OK
* checking for unstated dependencies in examples ... OK
* checking line endings in C/C++/Fortran sources/headers ... OK
* checking compiled code ... NOTE
Note: information on .o files is not available
* checking files in ‘vignettes’ ... OK
* checking examples ... OK
Examples with CPU (user + system) or elapsed time > 5s
user system elapsed
manhattan 8.172 0.583 8.768
* checking for unstated dependencies in vignettes ... OK
* checking package vignettes in ‘inst/doc’ ... OK
* checking running R code from vignettes ... SKIPPED
* checking re-building of vignette outputs ... SKIPPED
* checking PDF version of manual ... OK
* DONE
Status: 1 NOTE
See
‘/Users/biocbuild/bbs-3.12-bioc/meat/ramwas.Rcheck/00check.log’
for details.
ramwas.Rcheck/00install.out
############################################################################## ############################################################################## ### ### Running command: ### ### /Library/Frameworks/R.framework/Versions/Current/Resources/bin/R CMD INSTALL ramwas ### ############################################################################## ############################################################################## * installing to library ‘/Library/Frameworks/R.framework/Versions/4.0/Resources/library’ * installing *source* package ‘ramwas’ ... ** using staged installation ** libs clang -mmacosx-version-min=10.13 -I"/Library/Frameworks/R.framework/Resources/include" -DNDEBUG -I/usr/local/include -fPIC -Wall -g -O2 -c rw_c_code.c -o rw_c_code.o clang -mmacosx-version-min=10.13 -dynamiclib -Wl,-headerpad_max_install_names -undefined dynamic_lookup -single_module -multiply_defined suppress -L/Library/Frameworks/R.framework/Resources/lib -L/usr/local/lib -o ramwas.so rw_c_code.o -F/Library/Frameworks/R.framework/.. -framework R -Wl,-framework -Wl,CoreFoundation installing to /Library/Frameworks/R.framework/Versions/4.0/Resources/library/00LOCK-ramwas/00new/ramwas/libs ** R ** inst ** byte-compile and prepare package for lazy loading ** help *** installing help indices *** copying figures ** building package indices ** installing vignettes ** testing if installed package can be loaded from temporary location ** checking absolute paths in shared objects and dynamic libraries ** testing if installed package can be loaded from final location ** testing if installed package keeps a record of temporary installation path * DONE (ramwas)
ramwas.Rcheck/ramwas-Ex.timings
| name | user | system | elapsed | |
| MakeBED | 0.000 | 0.000 | 0.001 | |
| QCs | 0.041 | 0.006 | 0.048 | |
| cachedRDSload | 1.255 | 0.005 | 1.262 | |
| findBestNpvs | 0.002 | 0.000 | 0.002 | |
| get | 0.000 | 0.000 | 0.001 | |
| getCpGset | 3.562 | 0.164 | 3.738 | |
| injectSNPsMAF | 0.658 | 0.008 | 0.665 | |
| insilicoFASTQ | 0.002 | 0.000 | 0.002 | |
| isAbsolutePath | 0.001 | 0.001 | 0.001 | |
| makefullpath | 0.000 | 0.000 | 0.001 | |
| manhattan | 8.172 | 0.583 | 8.768 | |
| mat2cols | 0.000 | 0.000 | 0.001 | |
| orthonormalizeCovariates | 0.009 | 0.000 | 0.010 | |
| parameterDump | 0.002 | 0.001 | 0.004 | |
| parameterPreprocess | 0.007 | 0.007 | 0.014 | |
| parametersFromFile | 0.002 | 0.001 | 0.002 | |
| pipeline | 0.003 | 0.001 | 0.004 | |
| plotCV | 2.273 | 0.040 | 2.319 | |
| plotFragmentSizeDistributionEstimate | 0.042 | 0.004 | 0.044 | |
| plotPC | 0.010 | 0.002 | 0.013 | |
| processCommandLine | 0.001 | 0.000 | 0.002 | |
| pvalue2qvalue | 0.001 | 0.000 | 0.001 | |
| qqplotFast | 1.538 | 0.203 | 1.746 | |
| ramwas0createArtificialData | 0.278 | 0.037 | 0.315 | |
| ramwasAnnotateLocations | 0.001 | 0.001 | 0.002 | |
| ramwasParameters | 0.000 | 0.000 | 0.001 | |
| rowcolSumSq | 0.001 | 0.000 | 0.001 | |
| rwDataClass-class | 0.055 | 0.001 | 0.056 | |
| subsetData | 0 | 0 | 0 | |
| testPhenotype | 0.022 | 0.002 | 0.025 | |