| Back to Multiple platform build/check report for BioC 3.12 |
|
This page was generated on 2021-05-06 12:32:15 -0400 (Thu, 06 May 2021).
|
To the developers/maintainers of the MicrobiotaProcess package: Please make sure to use the following settings in order to reproduce any error or warning you see on this page. |
| Package 1096/1974 | Hostname | OS / Arch | INSTALL | BUILD | CHECK | BUILD BIN | ||||||||
| MicrobiotaProcess 1.2.2 (landing page) Shuangbin Xu
| malbec1 | Linux (Ubuntu 18.04.5 LTS) / x86_64 | OK | OK | OK | |||||||||
| tokay1 | Windows Server 2012 R2 Standard / x64 | OK | OK | WARNINGS | OK | |||||||||
| merida1 | macOS 10.14.6 Mojave / x86_64 | OK | OK | OK | OK | |||||||||
| Package: MicrobiotaProcess |
| Version: 1.2.2 |
| Command: chmod a+r MicrobiotaProcess -R && C:\Users\biocbuild\bbs-3.12-bioc\R\bin\R.exe CMD build --keep-empty-dirs --no-resave-data MicrobiotaProcess |
| StartedAt: 2021-05-05 22:02:44 -0400 (Wed, 05 May 2021) |
| EndedAt: 2021-05-05 22:05:04 -0400 (Wed, 05 May 2021) |
| EllapsedTime: 140.3 seconds |
| RetCode: 0 |
| Status: OK |
| PackageFile: MicrobiotaProcess_1.2.2.tar.gz |
| PackageFileSize: 710.6 KiB |
############################################################################## ############################################################################## ### ### Running command: ### ### chmod a+r MicrobiotaProcess -R && C:\Users\biocbuild\bbs-3.12-bioc\R\bin\R.exe CMD build --keep-empty-dirs --no-resave-data MicrobiotaProcess ### ############################################################################## ############################################################################## * checking for file 'MicrobiotaProcess/DESCRIPTION' ... OK * preparing 'MicrobiotaProcess': * checking DESCRIPTION meta-information ... OK * installing the package to build vignettes * creating vignettes ... OK * checking for LF line-endings in source and make files and shell scripts * checking for empty or unneeded directories * looking to see if a 'data/datalist' file should be added * building 'MicrobiotaProcess_1.2.2.tar.gz'