| Back to Multiple platform build/check report for BioC 3.12 |
|
This page was generated on 2021-05-06 12:28:14 -0400 (Thu, 06 May 2021).
|
To the developers/maintainers of the MicrobiotaProcess package: Please make sure to use the following settings in order to reproduce any error or warning you see on this page. |
| Package 1096/1974 | Hostname | OS / Arch | INSTALL | BUILD | CHECK | BUILD BIN | ||||||||
| MicrobiotaProcess 1.2.2 (landing page) Shuangbin Xu
| malbec1 | Linux (Ubuntu 18.04.5 LTS) / x86_64 | OK | OK | OK | |||||||||
| tokay1 | Windows Server 2012 R2 Standard / x64 | OK | OK | WARNINGS | OK | |||||||||
| merida1 | macOS 10.14.6 Mojave / x86_64 | OK | OK | OK | OK | |||||||||
| Package: MicrobiotaProcess |
| Version: 1.2.2 |
| Command: /home/biocbuild/bbs-3.12-bioc/R/bin/R CMD check --install=check:MicrobiotaProcess.install-out.txt --library=/home/biocbuild/bbs-3.12-bioc/R/library --no-vignettes --timings MicrobiotaProcess_1.2.2.tar.gz |
| StartedAt: 2021-05-06 03:31:03 -0400 (Thu, 06 May 2021) |
| EndedAt: 2021-05-06 03:36:23 -0400 (Thu, 06 May 2021) |
| EllapsedTime: 320.4 seconds |
| RetCode: 0 |
| Status: OK |
| CheckDir: MicrobiotaProcess.Rcheck |
| Warnings: 0 |
##############################################################################
##############################################################################
###
### Running command:
###
### /home/biocbuild/bbs-3.12-bioc/R/bin/R CMD check --install=check:MicrobiotaProcess.install-out.txt --library=/home/biocbuild/bbs-3.12-bioc/R/library --no-vignettes --timings MicrobiotaProcess_1.2.2.tar.gz
###
##############################################################################
##############################################################################
* using log directory ‘/home/biocbuild/bbs-3.12-bioc/meat/MicrobiotaProcess.Rcheck’
* using R version 4.0.5 (2021-03-31)
* using platform: x86_64-pc-linux-gnu (64-bit)
* using session charset: UTF-8
* using option ‘--no-vignettes’
* checking for file ‘MicrobiotaProcess/DESCRIPTION’ ... OK
* checking extension type ... Package
* this is package ‘MicrobiotaProcess’ version ‘1.2.2’
* package encoding: UTF-8
* checking package namespace information ... OK
* checking package dependencies ... OK
* checking if this is a source package ... OK
* checking if there is a namespace ... OK
* checking for hidden files and directories ... OK
* checking for portable file names ... OK
* checking for sufficient/correct file permissions ... OK
* checking whether package ‘MicrobiotaProcess’ can be installed ... OK
* checking installed package size ... OK
* checking package directory ... OK
* checking ‘build’ directory ... OK
* checking DESCRIPTION meta-information ... OK
* checking top-level files ... OK
* checking for left-over files ... OK
* checking index information ... OK
* checking package subdirectories ... OK
* checking R files for non-ASCII characters ... OK
* checking R files for syntax errors ... OK
* checking whether the package can be loaded ... OK
* checking whether the package can be loaded with stated dependencies ... OK
* checking whether the package can be unloaded cleanly ... OK
* checking whether the namespace can be loaded with stated dependencies ... OK
* checking whether the namespace can be unloaded cleanly ... OK
* checking dependencies in R code ... OK
* checking S3 generic/method consistency ... OK
* checking replacement functions ... OK
* checking foreign function calls ... OK
* checking R code for possible problems ... OK
* checking Rd files ... OK
* checking Rd metadata ... OK
* checking Rd cross-references ... OK
* checking for missing documentation entries ... OK
* checking for code/documentation mismatches ... OK
* checking Rd \usage sections ... OK
* checking Rd contents ... OK
* checking for unstated dependencies in examples ... OK
* checking contents of ‘data’ directory ... OK
* checking data for non-ASCII characters ... OK
* checking data for ASCII and uncompressed saves ... OK
* checking files in ‘vignettes’ ... OK
* checking examples ... OK
Examples with CPU (user + system) or elapsed time > 5s
user system elapsed
ggrarecurve 21.240 0.000 21.285
ggdiffbox 14.516 0.036 14.584
ggdiffclade 14.028 0.080 14.139
diff_analysis 13.304 0.044 13.414
as.data.frame 11.844 0.124 11.982
get_rarecurve 10.620 0.004 10.655
* checking for unstated dependencies in ‘tests’ ... OK
* checking tests ...
Running ‘testthat.R’
OK
* checking for unstated dependencies in vignettes ... OK
* checking package vignettes in ‘inst/doc’ ... OK
* checking running R code from vignettes ... SKIPPED
* checking re-building of vignette outputs ... SKIPPED
* checking PDF version of manual ... OK
* DONE
Status: OK
MicrobiotaProcess.Rcheck/00install.out
############################################################################## ############################################################################## ### ### Running command: ### ### /home/biocbuild/bbs-3.12-bioc/R/bin/R CMD INSTALL MicrobiotaProcess ### ############################################################################## ############################################################################## * installing to library ‘/home/biocbuild/bbs-3.12-bioc/R/library’ * installing *source* package ‘MicrobiotaProcess’ ... ** using staged installation ** R ** data ** inst ** byte-compile and prepare package for lazy loading ** help *** installing help indices ** building package indices ** installing vignettes ** testing if installed package can be loaded from temporary location ** testing if installed package can be loaded from final location ** testing if installed package keeps a record of temporary installation path * DONE (MicrobiotaProcess)
MicrobiotaProcess.Rcheck/tests/testthat.Rout
R version 4.0.5 (2021-03-31) -- "Shake and Throw"
Copyright (C) 2021 The R Foundation for Statistical Computing
Platform: x86_64-pc-linux-gnu (64-bit)
R is free software and comes with ABSOLUTELY NO WARRANTY.
You are welcome to redistribute it under certain conditions.
Type 'license()' or 'licence()' for distribution details.
R is a collaborative project with many contributors.
Type 'contributors()' for more information and
'citation()' on how to cite R or R packages in publications.
Type 'demo()' for some demos, 'help()' for on-line help, or
'help.start()' for an HTML browser interface to help.
Type 'q()' to quit R.
> library("testthat")
> library("MicrobiotaProcess")
> test_check("MicrobiotaProcess")
Processing map file...
Processing otu/tax file...
Reading file into memory prior to parsing...
Detecting first header line...
Header is on line 2
Converting input file to a table...
Defining OTU table...
Parsing taxonomy table...
[ FAIL 0 | WARN 0 | SKIP 0 | PASS 12 ]
>
> proc.time()
user system elapsed
30.928 0.472 31.651
MicrobiotaProcess.Rcheck/MicrobiotaProcess-Ex.timings
| name | user | system | elapsed | |
| as.data.frame | 11.844 | 0.124 | 11.982 | |
| as.treedata | 0.512 | 0.000 | 0.517 | |
| build_tree | 0.000 | 0.000 | 0.016 | |
| convert_to_treedata | 4.396 | 0.000 | 4.399 | |
| data-hmp_aerobiosis_small | 0.016 | 0.000 | 0.015 | |
| data-kostic2012crc | 0.084 | 0.052 | 0.134 | |
| data-test_otu_data | 0.000 | 0.000 | 0.001 | |
| diff_analysis | 13.304 | 0.044 | 13.414 | |
| drop_taxa | 0.388 | 0.004 | 0.415 | |
| generalizedFC | 0.004 | 0.000 | 0.005 | |
| get_alltaxadf | 1.196 | 0.000 | 1.196 | |
| get_alphaindex | 1.864 | 0.152 | 2.363 | |
| get_clust | 0.000 | 0.000 | 0.001 | |
| get_coord | 0.008 | 0.000 | 0.009 | |
| get_count | 0.044 | 0.000 | 0.054 | |
| get_dist | 0.360 | 0.000 | 0.358 | |
| get_mean_median | 0.156 | 0.000 | 0.156 | |
| get_pca | 0 | 0 | 0 | |
| get_pcoa | 0.432 | 0.012 | 0.444 | |
| get_pvalue | 0.096 | 0.004 | 0.117 | |
| get_rarecurve | 10.620 | 0.004 | 10.655 | |
| get_sampledflist | 0.044 | 0.000 | 0.042 | |
| get_taxadf | 1.136 | 0.000 | 1.197 | |
| get_upset | 0.436 | 0.000 | 0.437 | |
| get_varct | 0.368 | 0.012 | 0.388 | |
| get_vennlist | 0.400 | 0.004 | 0.410 | |
| ggbartax | 0.360 | 0.000 | 0.361 | |
| ggbox | 0.492 | 0.004 | 0.497 | |
| ggclust | 0 | 0 | 0 | |
| ggdiffbox | 14.516 | 0.036 | 14.584 | |
| ggdiffclade | 14.028 | 0.080 | 14.139 | |
| ggdifftaxbar | 0.900 | 0.032 | 0.933 | |
| ggeffectsize | 0.356 | 0.024 | 0.380 | |
| ggordpoint | 0 | 0 | 0 | |
| ggrarecurve | 21.240 | 0.000 | 21.285 | |
| import_dada2 | 0.104 | 0.000 | 0.118 | |
| import_qiime2 | 2.580 | 0.004 | 2.625 | |
| multi_compare | 0.016 | 0.000 | 0.014 | |
| read_qza | 0.180 | 0.000 | 0.179 | |
| show-methods | 0 | 0 | 0 | |
| split_data | 0.004 | 0.000 | 0.003 | |
| split_str_to_list | 0.020 | 0.000 | 0.018 | |
| theme_taxbar | 0.336 | 0.000 | 0.339 | |