| Back to Multiple platform build/check report for BioC 3.12 |
|
This page was generated on 2021-05-06 12:35:44 -0400 (Thu, 06 May 2021).
|
To the developers/maintainers of the MicrobiotaProcess package: Please make sure to use the following settings in order to reproduce any error or warning you see on this page. |
| Package 1096/1974 | Hostname | OS / Arch | INSTALL | BUILD | CHECK | BUILD BIN | ||||||||
| MicrobiotaProcess 1.2.2 (landing page) Shuangbin Xu
| malbec1 | Linux (Ubuntu 18.04.5 LTS) / x86_64 | OK | OK | OK | |||||||||
| tokay1 | Windows Server 2012 R2 Standard / x64 | OK | OK | WARNINGS | OK | |||||||||
| merida1 | macOS 10.14.6 Mojave / x86_64 | OK | OK | OK | OK | |||||||||
| Package: MicrobiotaProcess |
| Version: 1.2.2 |
| Command: /Library/Frameworks/R.framework/Versions/Current/Resources/bin/R CMD check --install=check:MicrobiotaProcess.install-out.txt --library=/Library/Frameworks/R.framework/Versions/Current/Resources/library --no-vignettes --timings MicrobiotaProcess_1.2.2.tar.gz |
| StartedAt: 2021-05-06 03:42:48 -0400 (Thu, 06 May 2021) |
| EndedAt: 2021-05-06 03:48:47 -0400 (Thu, 06 May 2021) |
| EllapsedTime: 358.3 seconds |
| RetCode: 0 |
| Status: OK |
| CheckDir: MicrobiotaProcess.Rcheck |
| Warnings: 0 |
##############################################################################
##############################################################################
###
### Running command:
###
### /Library/Frameworks/R.framework/Versions/Current/Resources/bin/R CMD check --install=check:MicrobiotaProcess.install-out.txt --library=/Library/Frameworks/R.framework/Versions/Current/Resources/library --no-vignettes --timings MicrobiotaProcess_1.2.2.tar.gz
###
##############################################################################
##############################################################################
* using log directory ‘/Users/biocbuild/bbs-3.12-bioc/meat/MicrobiotaProcess.Rcheck’
* using R version 4.0.5 (2021-03-31)
* using platform: x86_64-apple-darwin17.0 (64-bit)
* using session charset: UTF-8
* using option ‘--no-vignettes’
* checking for file ‘MicrobiotaProcess/DESCRIPTION’ ... OK
* checking extension type ... Package
* this is package ‘MicrobiotaProcess’ version ‘1.2.2’
* package encoding: UTF-8
* checking package namespace information ... OK
* checking package dependencies ... OK
* checking if this is a source package ... OK
* checking if there is a namespace ... OK
* checking for hidden files and directories ... OK
* checking for portable file names ... OK
* checking for sufficient/correct file permissions ... OK
* checking whether package ‘MicrobiotaProcess’ can be installed ... OK
* checking installed package size ... OK
* checking package directory ... OK
* checking ‘build’ directory ... OK
* checking DESCRIPTION meta-information ... OK
* checking top-level files ... OK
* checking for left-over files ... OK
* checking index information ... OK
* checking package subdirectories ... OK
* checking R files for non-ASCII characters ... OK
* checking R files for syntax errors ... OK
* checking whether the package can be loaded ... OK
* checking whether the package can be loaded with stated dependencies ... OK
* checking whether the package can be unloaded cleanly ... OK
* checking whether the namespace can be loaded with stated dependencies ... OK
* checking whether the namespace can be unloaded cleanly ... OK
* checking dependencies in R code ... OK
* checking S3 generic/method consistency ... OK
* checking replacement functions ... OK
* checking foreign function calls ... OK
* checking R code for possible problems ... OK
* checking Rd files ... OK
* checking Rd metadata ... OK
* checking Rd cross-references ... OK
* checking for missing documentation entries ... OK
* checking for code/documentation mismatches ... OK
* checking Rd \usage sections ... OK
* checking Rd contents ... OK
* checking for unstated dependencies in examples ... OK
* checking contents of ‘data’ directory ... OK
* checking data for non-ASCII characters ... OK
* checking data for ASCII and uncompressed saves ... OK
* checking files in ‘vignettes’ ... OK
* checking examples ... OK
Examples with CPU (user + system) or elapsed time > 5s
user system elapsed
ggrarecurve 20.936 0.082 21.050
diff_analysis 14.904 0.103 15.045
as.data.frame 14.433 0.218 14.679
ggdiffclade 13.999 0.056 14.068
ggdiffbox 12.659 0.061 12.735
get_rarecurve 10.043 0.033 10.089
convert_to_treedata 7.234 0.074 7.316
* checking for unstated dependencies in ‘tests’ ... OK
* checking tests ...
Running ‘testthat.R’
OK
* checking for unstated dependencies in vignettes ... OK
* checking package vignettes in ‘inst/doc’ ... OK
* checking running R code from vignettes ... SKIPPED
* checking re-building of vignette outputs ... SKIPPED
* checking PDF version of manual ... OK
* DONE
Status: OK
MicrobiotaProcess.Rcheck/00install.out
############################################################################## ############################################################################## ### ### Running command: ### ### /Library/Frameworks/R.framework/Versions/Current/Resources/bin/R CMD INSTALL MicrobiotaProcess ### ############################################################################## ############################################################################## * installing to library ‘/Library/Frameworks/R.framework/Versions/4.0/Resources/library’ * installing *source* package ‘MicrobiotaProcess’ ... ** using staged installation ** R ** data ** inst ** byte-compile and prepare package for lazy loading ** help *** installing help indices ** building package indices ** installing vignettes ** testing if installed package can be loaded from temporary location ** testing if installed package can be loaded from final location ** testing if installed package keeps a record of temporary installation path * DONE (MicrobiotaProcess)
MicrobiotaProcess.Rcheck/tests/testthat.Rout
R version 4.0.5 (2021-03-31) -- "Shake and Throw"
Copyright (C) 2021 The R Foundation for Statistical Computing
Platform: x86_64-apple-darwin17.0 (64-bit)
R is free software and comes with ABSOLUTELY NO WARRANTY.
You are welcome to redistribute it under certain conditions.
Type 'license()' or 'licence()' for distribution details.
R is a collaborative project with many contributors.
Type 'contributors()' for more information and
'citation()' on how to cite R or R packages in publications.
Type 'demo()' for some demos, 'help()' for on-line help, or
'help.start()' for an HTML browser interface to help.
Type 'q()' to quit R.
> library("testthat")
> library("MicrobiotaProcess")
> test_check("MicrobiotaProcess")
Processing map file...
Processing otu/tax file...
Reading file into memory prior to parsing...
Detecting first header line...
Header is on line 2
Converting input file to a table...
Defining OTU table...
Parsing taxonomy table...
[ FAIL 0 | WARN 0 | SKIP 0 | PASS 12 ]
>
> proc.time()
user system elapsed
32.797 0.722 33.804
MicrobiotaProcess.Rcheck/MicrobiotaProcess-Ex.timings
| name | user | system | elapsed | |
| as.data.frame | 14.433 | 0.218 | 14.679 | |
| as.treedata | 0.730 | 0.004 | 0.735 | |
| build_tree | 0.002 | 0.000 | 0.002 | |
| convert_to_treedata | 7.234 | 0.074 | 7.316 | |
| data-hmp_aerobiosis_small | 0.011 | 0.001 | 0.012 | |
| data-kostic2012crc | 0.105 | 0.006 | 0.112 | |
| data-test_otu_data | 0.002 | 0.001 | 0.004 | |
| diff_analysis | 14.904 | 0.103 | 15.045 | |
| drop_taxa | 0.337 | 0.003 | 0.341 | |
| generalizedFC | 0.006 | 0.001 | 0.007 | |
| get_alltaxadf | 1.064 | 0.006 | 1.071 | |
| get_alphaindex | 1.490 | 0.033 | 1.532 | |
| get_clust | 0.000 | 0.001 | 0.000 | |
| get_coord | 0.006 | 0.002 | 0.008 | |
| get_count | 0.039 | 0.002 | 0.041 | |
| get_dist | 0.317 | 0.002 | 0.318 | |
| get_mean_median | 0.149 | 0.002 | 0.152 | |
| get_pca | 0.000 | 0.000 | 0.001 | |
| get_pcoa | 0.370 | 0.013 | 0.384 | |
| get_pvalue | 0.091 | 0.001 | 0.094 | |
| get_rarecurve | 10.043 | 0.033 | 10.089 | |
| get_sampledflist | 0.037 | 0.002 | 0.039 | |
| get_taxadf | 1.041 | 0.017 | 1.060 | |
| get_upset | 0.332 | 0.002 | 0.335 | |
| get_varct | 0.332 | 0.006 | 0.339 | |
| get_vennlist | 0.269 | 0.003 | 0.273 | |
| ggbartax | 0.307 | 0.002 | 0.309 | |
| ggbox | 0.435 | 0.007 | 0.443 | |
| ggclust | 0.000 | 0.000 | 0.001 | |
| ggdiffbox | 12.659 | 0.061 | 12.735 | |
| ggdiffclade | 13.999 | 0.056 | 14.068 | |
| ggdifftaxbar | 0.822 | 0.014 | 0.835 | |
| ggeffectsize | 0.463 | 0.013 | 0.477 | |
| ggordpoint | 0.000 | 0.000 | 0.001 | |
| ggrarecurve | 20.936 | 0.082 | 21.050 | |
| import_dada2 | 0.094 | 0.002 | 0.096 | |
| import_qiime2 | 2.927 | 0.027 | 2.960 | |
| multi_compare | 0.012 | 0.002 | 0.015 | |
| read_qza | 0.154 | 0.015 | 0.169 | |
| show-methods | 0.000 | 0.000 | 0.001 | |
| split_data | 0.003 | 0.001 | 0.004 | |
| split_str_to_list | 0.018 | 0.003 | 0.021 | |
| theme_taxbar | 0.350 | 0.003 | 0.353 | |