| Back to Multiple platform build/check report for BioC 3.12 |
|
This page was generated on 2021-05-06 12:30:16 -0400 (Thu, 06 May 2021).
|
To the developers/maintainers of the CiteFuse package: Please make sure to use the following settings in order to reproduce any error or warning you see on this page. |
| Package 307/1974 | Hostname | OS / Arch | INSTALL | BUILD | CHECK | BUILD BIN | ||||||||
| CiteFuse 1.2.1 (landing page) Yingxin Lin
| malbec1 | Linux (Ubuntu 18.04.5 LTS) / x86_64 | OK | OK | OK | |||||||||
| tokay1 | Windows Server 2012 R2 Standard / x64 | OK | OK | OK | OK | |||||||||
| merida1 | macOS 10.14.6 Mojave / x86_64 | OK | OK | OK | OK | |||||||||
| Package: CiteFuse |
| Version: 1.2.1 |
| Command: C:\cygwin\bin\curl.exe -O http://172.29.0.3/BBS/3.12/bioc/src/contrib/CiteFuse_1.2.1.tar.gz && rm -rf CiteFuse.buildbin-libdir && mkdir CiteFuse.buildbin-libdir && C:\Users\biocbuild\bbs-3.12-bioc\R\bin\R.exe CMD INSTALL --merge-multiarch --build --library=CiteFuse.buildbin-libdir CiteFuse_1.2.1.tar.gz && C:\Users\biocbuild\bbs-3.12-bioc\R\bin\R.exe CMD INSTALL CiteFuse_1.2.1.zip && rm CiteFuse_1.2.1.tar.gz CiteFuse_1.2.1.zip |
| StartedAt: 2021-05-05 19:10:59 -0400 (Wed, 05 May 2021) |
| EndedAt: 2021-05-05 19:11:51 -0400 (Wed, 05 May 2021) |
| EllapsedTime: 51.8 seconds |
| RetCode: 0 |
| Status: OK |
##############################################################################
##############################################################################
###
### Running command:
###
### C:\cygwin\bin\curl.exe -O http://172.29.0.3/BBS/3.12/bioc/src/contrib/CiteFuse_1.2.1.tar.gz && rm -rf CiteFuse.buildbin-libdir && mkdir CiteFuse.buildbin-libdir && C:\Users\biocbuild\bbs-3.12-bioc\R\bin\R.exe CMD INSTALL --merge-multiarch --build --library=CiteFuse.buildbin-libdir CiteFuse_1.2.1.tar.gz && C:\Users\biocbuild\bbs-3.12-bioc\R\bin\R.exe CMD INSTALL CiteFuse_1.2.1.zip && rm CiteFuse_1.2.1.tar.gz CiteFuse_1.2.1.zip
###
##############################################################################
##############################################################################
% Total % Received % Xferd Average Speed Time Time Time Current
Dload Upload Total Spent Left Speed
0 0 0 0 0 0 0 0 --:--:-- --:--:-- --:--:-- 0
100 1809k 100 1809k 0 0 53.4M 0 --:--:-- --:--:-- --:--:-- 55.2M
install for i386
* installing *source* package 'CiteFuse' ...
** using staged installation
** R
** data
** inst
** byte-compile and prepare package for lazy loading
** help
*** installing help indices
converting help for package 'CiteFuse'
finding HTML links ... done
CITEseq_example html
CiteFuse html
DEbubblePlot html
DEcomparisonPlot html
DEgenes html
DEgenesCross html
crossSampleDoublets html
geneADTnetwork html
igraphClustering html
importanceADT html
ligandReceptorTest html
lr_pair_subset html
normaliseExprs html
plotHTO html
plotHTOSingle html
preprocessing html
readFrom10X html
reducedDimSNF html
sce_control_subset html
sce_ctcl_subset html
selectDEgenes html
spectralClustering html
visImportance html
visLigandReceptor html
visualiseDim html
visualiseExprs html
visualiseExprsList html
visualiseKNN html
withinSampleDoublets html
** building package indices
** installing vignettes
** testing if installed package can be loaded from temporary location
** testing if installed package can be loaded from final location
** testing if installed package keeps a record of temporary installation path
install for x64
* installing *source* package 'CiteFuse' ...
** testing if installed package can be loaded
* MD5 sums
packaged installation of 'CiteFuse' as CiteFuse_1.2.1.zip
* DONE (CiteFuse)
* installing to library 'C:/Users/biocbuild/bbs-3.12-bioc/R/library'
package 'CiteFuse' successfully unpacked and MD5 sums checked