| Back to Multiple platform build/check report for BioC 3.12 |
|
This page was generated on 2021-05-06 12:34:33 -0400 (Thu, 06 May 2021).
|
To the developers/maintainers of the CiteFuse package: Please make sure to use the following settings in order to reproduce any error or warning you see on this page. |
| Package 307/1974 | Hostname | OS / Arch | INSTALL | BUILD | CHECK | BUILD BIN | ||||||||
| CiteFuse 1.2.1 (landing page) Yingxin Lin
| malbec1 | Linux (Ubuntu 18.04.5 LTS) / x86_64 | OK | OK | OK | |||||||||
| tokay1 | Windows Server 2012 R2 Standard / x64 | OK | OK | OK | OK | |||||||||
| merida1 | macOS 10.14.6 Mojave / x86_64 | OK | OK | OK | OK | |||||||||
| Package: CiteFuse |
| Version: 1.2.1 |
| Command: /Library/Frameworks/R.framework/Versions/Current/Resources/bin/R CMD check --install=check:CiteFuse.install-out.txt --library=/Library/Frameworks/R.framework/Versions/Current/Resources/library --no-vignettes --timings CiteFuse_1.2.1.tar.gz |
| StartedAt: 2021-05-06 00:18:17 -0400 (Thu, 06 May 2021) |
| EndedAt: 2021-05-06 00:23:55 -0400 (Thu, 06 May 2021) |
| EllapsedTime: 337.4 seconds |
| RetCode: 0 |
| Status: OK |
| CheckDir: CiteFuse.Rcheck |
| Warnings: 0 |
##############################################################################
##############################################################################
###
### Running command:
###
### /Library/Frameworks/R.framework/Versions/Current/Resources/bin/R CMD check --install=check:CiteFuse.install-out.txt --library=/Library/Frameworks/R.framework/Versions/Current/Resources/library --no-vignettes --timings CiteFuse_1.2.1.tar.gz
###
##############################################################################
##############################################################################
* using log directory ‘/Users/biocbuild/bbs-3.12-bioc/meat/CiteFuse.Rcheck’
* using R version 4.0.5 (2021-03-31)
* using platform: x86_64-apple-darwin17.0 (64-bit)
* using session charset: UTF-8
* using option ‘--no-vignettes’
* checking for file ‘CiteFuse/DESCRIPTION’ ... OK
* checking extension type ... Package
* this is package ‘CiteFuse’ version ‘1.2.1’
* package encoding: UTF-8
* checking package namespace information ... OK
* checking package dependencies ... OK
* checking if this is a source package ... OK
* checking if there is a namespace ... OK
* checking for hidden files and directories ... OK
* checking for portable file names ... OK
* checking for sufficient/correct file permissions ... OK
* checking whether package ‘CiteFuse’ can be installed ... OK
* checking installed package size ... OK
* checking package directory ... OK
* checking ‘build’ directory ... OK
* checking DESCRIPTION meta-information ... OK
* checking top-level files ... OK
* checking for left-over files ... OK
* checking index information ... OK
* checking package subdirectories ... OK
* checking R files for non-ASCII characters ... OK
* checking R files for syntax errors ... OK
* checking whether the package can be loaded ... OK
* checking whether the package can be loaded with stated dependencies ... OK
* checking whether the package can be unloaded cleanly ... OK
* checking whether the namespace can be loaded with stated dependencies ... OK
* checking whether the namespace can be unloaded cleanly ... OK
* checking dependencies in R code ... OK
* checking S3 generic/method consistency ... OK
* checking replacement functions ... OK
* checking foreign function calls ... OK
* checking R code for possible problems ... OK
* checking Rd files ... OK
* checking Rd metadata ... OK
* checking Rd cross-references ... OK
* checking for missing documentation entries ... OK
* checking for code/documentation mismatches ... OK
* checking Rd \usage sections ... OK
* checking Rd contents ... OK
* checking for unstated dependencies in examples ... OK
* checking contents of ‘data’ directory ... OK
* checking data for non-ASCII characters ... OK
* checking data for ASCII and uncompressed saves ... OK
* checking files in ‘vignettes’ ... OK
* checking examples ... OK
Examples with CPU (user + system) or elapsed time > 5s
user system elapsed
DEgenesCross 11.019 0.067 11.100
plotHTO 4.974 0.061 5.042
* checking for unstated dependencies in vignettes ... OK
* checking package vignettes in ‘inst/doc’ ... OK
* checking running R code from vignettes ... SKIPPED
* checking re-building of vignette outputs ... SKIPPED
* checking PDF version of manual ... OK
* DONE
Status: OK
CiteFuse.Rcheck/00install.out
############################################################################## ############################################################################## ### ### Running command: ### ### /Library/Frameworks/R.framework/Versions/Current/Resources/bin/R CMD INSTALL CiteFuse ### ############################################################################## ############################################################################## * installing to library ‘/Library/Frameworks/R.framework/Versions/4.0/Resources/library’ * installing *source* package ‘CiteFuse’ ... ** using staged installation ** R ** data ** inst ** byte-compile and prepare package for lazy loading ** help *** installing help indices ** building package indices ** installing vignettes ** testing if installed package can be loaded from temporary location ** testing if installed package can be loaded from final location ** testing if installed package keeps a record of temporary installation path * DONE (CiteFuse)
CiteFuse.Rcheck/CiteFuse-Ex.timings
| name | user | system | elapsed | |
| CiteFuse | 2.394 | 0.057 | 2.454 | |
| DEbubblePlot | 4.460 | 0.072 | 4.538 | |
| DEcomparisonPlot | 4.582 | 0.040 | 4.627 | |
| DEgenes | 3.630 | 0.032 | 3.665 | |
| DEgenesCross | 11.019 | 0.067 | 11.100 | |
| crossSampleDoublets | 1.435 | 0.020 | 1.458 | |
| geneADTnetwork | 0.830 | 0.055 | 0.886 | |
| igraphClustering | 0.825 | 0.026 | 0.853 | |
| importanceADT | 1.234 | 0.032 | 1.267 | |
| ligandReceptorTest | 1.815 | 0.043 | 1.859 | |
| normaliseExprs | 1.136 | 0.011 | 1.149 | |
| plotHTO | 4.974 | 0.061 | 5.042 | |
| preprocessing | 0.920 | 0.011 | 0.931 | |
| readFrom10X | 0.001 | 0.001 | 0.000 | |
| reducedDimSNF | 1.200 | 0.022 | 1.223 | |
| selectDEgenes | 3.485 | 0.015 | 3.504 | |
| spectralClustering | 0.739 | 0.011 | 0.751 | |
| visImportance | 2.311 | 0.028 | 2.343 | |
| visLigandReceptor | 1.152 | 0.017 | 1.171 | |
| visualiseDim | 1.706 | 0.024 | 1.734 | |
| visualiseExprs | 1.537 | 0.022 | 1.564 | |
| visualiseExprsList | 1.831 | 0.021 | 1.855 | |
| visualiseKNN | 1.059 | 0.014 | 1.075 | |
| withinSampleDoublets | 1.435 | 0.018 | 1.454 | |