| Back to Multiple platform build/check report for BioC 3.12 |
|
This page was generated on 2021-05-06 12:27:09 -0400 (Thu, 06 May 2021).
|
To the developers/maintainers of the CiteFuse package: Please make sure to use the following settings in order to reproduce any error or warning you see on this page. |
| Package 307/1974 | Hostname | OS / Arch | INSTALL | BUILD | CHECK | BUILD BIN | ||||||||
| CiteFuse 1.2.1 (landing page) Yingxin Lin
| malbec1 | Linux (Ubuntu 18.04.5 LTS) / x86_64 | OK | OK | OK | |||||||||
| tokay1 | Windows Server 2012 R2 Standard / x64 | OK | OK | OK | OK | |||||||||
| merida1 | macOS 10.14.6 Mojave / x86_64 | OK | OK | OK | OK | |||||||||
| Package: CiteFuse |
| Version: 1.2.1 |
| Command: /home/biocbuild/bbs-3.12-bioc/R/bin/R CMD check --install=check:CiteFuse.install-out.txt --library=/home/biocbuild/bbs-3.12-bioc/R/library --no-vignettes --timings CiteFuse_1.2.1.tar.gz |
| StartedAt: 2021-05-06 00:06:35 -0400 (Thu, 06 May 2021) |
| EndedAt: 2021-05-06 00:11:34 -0400 (Thu, 06 May 2021) |
| EllapsedTime: 298.5 seconds |
| RetCode: 0 |
| Status: OK |
| CheckDir: CiteFuse.Rcheck |
| Warnings: 0 |
##############################################################################
##############################################################################
###
### Running command:
###
### /home/biocbuild/bbs-3.12-bioc/R/bin/R CMD check --install=check:CiteFuse.install-out.txt --library=/home/biocbuild/bbs-3.12-bioc/R/library --no-vignettes --timings CiteFuse_1.2.1.tar.gz
###
##############################################################################
##############################################################################
* using log directory ‘/home/biocbuild/bbs-3.12-bioc/meat/CiteFuse.Rcheck’
* using R version 4.0.5 (2021-03-31)
* using platform: x86_64-pc-linux-gnu (64-bit)
* using session charset: UTF-8
* using option ‘--no-vignettes’
* checking for file ‘CiteFuse/DESCRIPTION’ ... OK
* checking extension type ... Package
* this is package ‘CiteFuse’ version ‘1.2.1’
* package encoding: UTF-8
* checking package namespace information ... OK
* checking package dependencies ... OK
* checking if this is a source package ... OK
* checking if there is a namespace ... OK
* checking for hidden files and directories ... OK
* checking for portable file names ... OK
* checking for sufficient/correct file permissions ... OK
* checking whether package ‘CiteFuse’ can be installed ... OK
* checking installed package size ... OK
* checking package directory ... OK
* checking ‘build’ directory ... OK
* checking DESCRIPTION meta-information ... OK
* checking top-level files ... OK
* checking for left-over files ... OK
* checking index information ... OK
* checking package subdirectories ... OK
* checking R files for non-ASCII characters ... OK
* checking R files for syntax errors ... OK
* checking whether the package can be loaded ... OK
* checking whether the package can be loaded with stated dependencies ... OK
* checking whether the package can be unloaded cleanly ... OK
* checking whether the namespace can be loaded with stated dependencies ... OK
* checking whether the namespace can be unloaded cleanly ... OK
* checking dependencies in R code ... OK
* checking S3 generic/method consistency ... OK
* checking replacement functions ... OK
* checking foreign function calls ... OK
* checking R code for possible problems ... OK
* checking Rd files ... OK
* checking Rd metadata ... OK
* checking Rd cross-references ... OK
* checking for missing documentation entries ... OK
* checking for code/documentation mismatches ... OK
* checking Rd \usage sections ... OK
* checking Rd contents ... OK
* checking for unstated dependencies in examples ... OK
* checking contents of ‘data’ directory ... OK
* checking data for non-ASCII characters ... OK
* checking data for ASCII and uncompressed saves ... OK
* checking files in ‘vignettes’ ... OK
* checking examples ... OK
Examples with CPU (user + system) or elapsed time > 5s
user system elapsed
DEgenesCross 7.168 0.004 7.179
DEbubblePlot 5.740 0.012 5.758
* checking for unstated dependencies in vignettes ... OK
* checking package vignettes in ‘inst/doc’ ... OK
* checking running R code from vignettes ... SKIPPED
* checking re-building of vignette outputs ... SKIPPED
* checking PDF version of manual ... OK
* DONE
Status: OK
CiteFuse.Rcheck/00install.out
############################################################################## ############################################################################## ### ### Running command: ### ### /home/biocbuild/bbs-3.12-bioc/R/bin/R CMD INSTALL CiteFuse ### ############################################################################## ############################################################################## * installing to library ‘/home/biocbuild/bbs-3.12-bioc/R/library’ * installing *source* package ‘CiteFuse’ ... ** using staged installation ** R ** data ** inst ** byte-compile and prepare package for lazy loading ** help *** installing help indices ** building package indices ** installing vignettes ** testing if installed package can be loaded from temporary location ** testing if installed package can be loaded from final location ** testing if installed package keeps a record of temporary installation path * DONE (CiteFuse)
CiteFuse.Rcheck/CiteFuse-Ex.timings
| name | user | system | elapsed | |
| CiteFuse | 2.108 | 0.032 | 2.142 | |
| DEbubblePlot | 5.740 | 0.012 | 5.758 | |
| DEcomparisonPlot | 3.324 | 0.032 | 3.362 | |
| DEgenes | 2.524 | 0.000 | 2.527 | |
| DEgenesCross | 7.168 | 0.004 | 7.179 | |
| crossSampleDoublets | 1.800 | 0.008 | 1.807 | |
| geneADTnetwork | 1.040 | 0.004 | 1.049 | |
| igraphClustering | 1.100 | 0.020 | 1.124 | |
| importanceADT | 2.196 | 0.008 | 2.204 | |
| ligandReceptorTest | 0.708 | 0.004 | 0.715 | |
| normaliseExprs | 1.048 | 0.004 | 1.054 | |
| plotHTO | 4.860 | 0.008 | 4.874 | |
| preprocessing | 0.860 | 0.000 | 0.864 | |
| readFrom10X | 0 | 0 | 0 | |
| reducedDimSNF | 1.464 | 0.004 | 1.468 | |
| selectDEgenes | 2.980 | 0.000 | 2.985 | |
| spectralClustering | 1.768 | 0.000 | 1.770 | |
| visImportance | 2.404 | 0.008 | 2.413 | |
| visLigandReceptor | 1.256 | 0.000 | 1.259 | |
| visualiseDim | 1.288 | 0.004 | 1.293 | |
| visualiseExprs | 1.140 | 0.000 | 1.142 | |
| visualiseExprsList | 0.820 | 0.000 | 0.819 | |
| visualiseKNN | 0.688 | 0.004 | 0.691 | |
| withinSampleDoublets | 1.140 | 0.012 | 1.154 | |