| Back to Multiple platform build/check report for BioC 3.11 |
|
This page was generated on 2020-01-16 13:51:25 -0500 (Thu, 16 Jan 2020).
| Package 952/1818 | Hostname | OS / Arch | INSTALL | BUILD | CHECK | BUILD BIN | ||||||
| maser 1.5.0 Diogo F.T. Veiga
| malbec2 | Linux (Ubuntu 18.04.3 LTS) / x86_64 | OK | OK | OK | |||||||
| tokay2 | Windows Server 2012 R2 Standard / x64 | OK | OK | OK | OK | |||||||
| celaya2 | OS X 10.11.6 El Capitan / x86_64 | OK | OK | [ OK ] | OK |
| Package: maser |
| Version: 1.5.0 |
| Command: /Library/Frameworks/R.framework/Versions/Current/Resources/bin/R CMD check --install=check:maser.install-out.txt --library=/Library/Frameworks/R.framework/Versions/Current/Resources/library --no-vignettes --timings maser_1.5.0.tar.gz |
| StartedAt: 2020-01-16 06:03:50 -0500 (Thu, 16 Jan 2020) |
| EndedAt: 2020-01-16 06:13:03 -0500 (Thu, 16 Jan 2020) |
| EllapsedTime: 553.5 seconds |
| RetCode: 0 |
| Status: OK |
| CheckDir: maser.Rcheck |
| Warnings: 0 |
##############################################################################
##############################################################################
###
### Running command:
###
### /Library/Frameworks/R.framework/Versions/Current/Resources/bin/R CMD check --install=check:maser.install-out.txt --library=/Library/Frameworks/R.framework/Versions/Current/Resources/library --no-vignettes --timings maser_1.5.0.tar.gz
###
##############################################################################
##############################################################################
* using log directory ‘/Users/biocbuild/bbs-3.11-bioc/meat/maser.Rcheck’
* using R Under development (unstable) (2019-12-14 r77572)
* using platform: x86_64-apple-darwin15.6.0 (64-bit)
* using session charset: UTF-8
* using option ‘--no-vignettes’
* checking for file ‘maser/DESCRIPTION’ ... OK
* checking extension type ... Package
* this is package ‘maser’ version ‘1.5.0’
* package encoding: UTF-8
* checking package namespace information ... OK
* checking package dependencies ... OK
* checking if this is a source package ... OK
* checking if there is a namespace ... OK
* checking for hidden files and directories ... OK
* checking for portable file names ... OK
* checking for sufficient/correct file permissions ... OK
* checking whether package ‘maser’ can be installed ... OK
* checking installed package size ... OK
* checking package directory ... OK
* checking ‘build’ directory ... OK
* checking DESCRIPTION meta-information ... OK
* checking top-level files ... OK
* checking for left-over files ... OK
* checking index information ... OK
* checking package subdirectories ... OK
* checking R files for non-ASCII characters ... OK
* checking R files for syntax errors ... OK
* checking whether the package can be loaded ... OK
* checking whether the package can be loaded with stated dependencies ... OK
* checking whether the package can be unloaded cleanly ... OK
* checking whether the namespace can be loaded with stated dependencies ... OK
* checking whether the namespace can be unloaded cleanly ... OK
* checking dependencies in R code ... OK
* checking S3 generic/method consistency ... OK
* checking replacement functions ... OK
* checking foreign function calls ... OK
* checking R code for possible problems ... NOTE
filterByIds: no visible binding for global variable 'ID'
mapTranscriptsA3SSevent: no visible global function definition for
'subjectHits'
mapTranscriptsA5SSevent: no visible global function definition for
'subjectHits'
mapTranscriptsMXEevent: no visible global function definition for
'subjectHits'
mapTranscriptsRIevent: no visible global function definition for
'subjectHits'
mapTranscriptsSEevent: no visible global function definition for
'subjectHits'
overlappingFeatures: no visible global function definition for
'subjectHits'
urlTracksUniprotKB: no visible binding for global variable 'Name'
Undefined global functions or variables:
ID Name subjectHits
* checking Rd files ... OK
* checking Rd metadata ... OK
* checking Rd cross-references ... OK
* checking for missing documentation entries ... OK
* checking for code/documentation mismatches ... OK
* checking Rd \usage sections ... OK
* checking Rd contents ... OK
* checking for unstated dependencies in examples ... OK
* checking R/sysdata.rda ... OK
* checking files in ‘vignettes’ ... OK
* checking examples ... OK
Examples with CPU (user + system) or elapsed time > 5s
user system elapsed
plotUniprotKBFeatures 11.843 0.533 12.868
plotTranscripts 11.249 0.160 11.459
mapProteinFeaturesToEvents 8.076 0.485 9.317
* checking for unstated dependencies in vignettes ... OK
* checking package vignettes in ‘inst/doc’ ... OK
* checking running R code from vignettes ... SKIPPED
* checking re-building of vignette outputs ... SKIPPED
* checking PDF version of manual ... OK
* DONE
Status: 1 NOTE
See
‘/Users/biocbuild/bbs-3.11-bioc/meat/maser.Rcheck/00check.log’
for details.
maser.Rcheck/00install.out
############################################################################## ############################################################################## ### ### Running command: ### ### /Library/Frameworks/R.framework/Versions/Current/Resources/bin/R CMD INSTALL maser ### ############################################################################## ############################################################################## * installing to library ‘/Library/Frameworks/R.framework/Versions/4.0/Resources/library’ * installing *source* package ‘maser’ ... ** using staged installation ** R ** inst ** byte-compile and prepare package for lazy loading ** help *** installing help indices ** building package indices ** installing vignettes ** testing if installed package can be loaded from temporary location ** testing if installed package can be loaded from final location ** testing if installed package keeps a record of temporary installation path * DONE (maser)
maser.Rcheck/maser-Ex.timings
| name | user | system | elapsed | |
| PSI-Maser-character-method | 1.693 | 0.163 | 1.860 | |
| PSI | 1.388 | 0.097 | 1.485 | |
| annotation-Maser-method | 1.240 | 0.035 | 1.275 | |
| availableFeaturesUniprotKB | 0.172 | 0.009 | 0.727 | |
| boxplot_PSI_levels | 3.984 | 0.108 | 4.092 | |
| counts-Maser-method | 1.130 | 0.014 | 1.144 | |
| display | 3.507 | 0.362 | 3.881 | |
| dotplot | 2.137 | 0.036 | 2.175 | |
| filterByCoverage | 1.542 | 0.010 | 1.552 | |
| filterByEventId | 1.464 | 0.094 | 1.558 | |
| geneEvents | 1.688 | 0.030 | 1.718 | |
| granges-Maser-method | 1.039 | 0.037 | 1.075 | |
| mapProteinFeaturesToEvents | 8.076 | 0.485 | 9.317 | |
| mapTranscriptsToEvents | 4.404 | 0.121 | 4.526 | |
| maser | 1.242 | 0.044 | 1.285 | |
| pca | 2.265 | 0.043 | 2.309 | |
| plotGenePSI | 3.323 | 0.034 | 3.383 | |
| plotTranscripts | 11.249 | 0.160 | 11.459 | |
| plotUniprotKBFeatures | 11.843 | 0.533 | 12.868 | |
| splicingDistribution | 2.389 | 0.013 | 2.404 | |
| summary-Maser-method | 1.641 | 0.009 | 1.650 | |
| topEvents | 1.932 | 0.011 | 1.943 | |
| volcano | 2.498 | 0.019 | 2.518 | |