| Back to Multiple platform build/check report for BioC 3.11 |
|
This page was generated on 2020-10-17 11:57:00 -0400 (Sat, 17 Oct 2020).
| TO THE DEVELOPERS/MAINTAINERS OF THE maser PACKAGE: Please make sure to use the following settings in order to reproduce any error or warning you see on this page. |
| Package 988/1905 | Hostname | OS / Arch | INSTALL | BUILD | CHECK | BUILD BIN | ||||||
| maser 1.6.0 Diogo F.T. Veiga
| malbec2 | Linux (Ubuntu 18.04.4 LTS) / x86_64 | OK | OK | OK | |||||||
| tokay2 | Windows Server 2012 R2 Standard / x64 | OK | OK | OK | [ OK ] | |||||||
| machv2 | macOS 10.14.6 Mojave / x86_64 | OK | OK | OK | OK |
| Package: maser |
| Version: 1.6.0 |
| Command: rm -rf maser.buildbin-libdir && mkdir maser.buildbin-libdir && C:\Users\biocbuild\bbs-3.11-bioc\R\bin\R.exe CMD INSTALL --merge-multiarch --build --library=maser.buildbin-libdir maser_1.6.0.tar.gz |
| StartedAt: 2020-10-17 10:55:49 -0400 (Sat, 17 Oct 2020) |
| EndedAt: 2020-10-17 10:57:16 -0400 (Sat, 17 Oct 2020) |
| EllapsedTime: 87.0 seconds |
| RetCode: 0 |
| Status: OK |
| PackageFile: maser_1.6.0.zip |
| PackageFileSize: 3.244 MiB |
##############################################################################
##############################################################################
###
### Running command:
###
### rm -rf maser.buildbin-libdir && mkdir maser.buildbin-libdir && C:\Users\biocbuild\bbs-3.11-bioc\R\bin\R.exe CMD INSTALL --merge-multiarch --build --library=maser.buildbin-libdir maser_1.6.0.tar.gz
###
##############################################################################
##############################################################################
install for i386
* installing *source* package 'maser' ...
** using staged installation
** R
** inst
** byte-compile and prepare package for lazy loading
** help
*** installing help indices
converting help for package 'maser'
finding HTML links ... done
Maser-class html
PSI-Maser-character-method html
PSI html
annotation-Maser-method html
availableFeaturesUniprotKB html
boxplot_PSI_levels html
counts-Maser-method html
display html
dotplot html
filterByCoverage html
filterByEventId html
geneEvents html
granges-Maser-method html
mapProteinFeaturesToEvents html
mapTranscriptsToEvents html
maser html
pca html
plotGenePSI html
plotTranscripts html
plotUniprotKBFeatures html
splicingDistribution html
summary-Maser-method html
topEvents html
volcano html
** building package indices
** installing vignettes
** testing if installed package can be loaded from temporary location
** testing if installed package can be loaded from final location
** testing if installed package keeps a record of temporary installation path
install for x64
* installing *source* package 'maser' ...
** testing if installed package can be loaded
* MD5 sums
packaged installation of 'maser' as maser_1.6.0.zip
* DONE (maser)