| Back to Multiple platform build/check report for BioC 3.11 |
|
This page was generated on 2020-10-17 11:55:03 -0400 (Sat, 17 Oct 2020).
| TO THE DEVELOPERS/MAINTAINERS OF THE maser PACKAGE: Please make sure to use the following settings in order to reproduce any error or warning you see on this page. |
| Package 988/1905 | Hostname | OS / Arch | INSTALL | BUILD | CHECK | BUILD BIN | ||||||
| maser 1.6.0 Diogo F.T. Veiga
| malbec2 | Linux (Ubuntu 18.04.4 LTS) / x86_64 | OK | OK | [ OK ] | |||||||
| tokay2 | Windows Server 2012 R2 Standard / x64 | OK | OK | OK | OK | |||||||
| machv2 | macOS 10.14.6 Mojave / x86_64 | OK | OK | OK | OK |
| Package: maser |
| Version: 1.6.0 |
| Command: /home/biocbuild/bbs-3.11-bioc/R/bin/R CMD check --install=check:maser.install-out.txt --library=/home/biocbuild/bbs-3.11-bioc/R/library --no-vignettes --timings maser_1.6.0.tar.gz |
| StartedAt: 2020-10-17 02:47:35 -0400 (Sat, 17 Oct 2020) |
| EndedAt: 2020-10-17 02:54:59 -0400 (Sat, 17 Oct 2020) |
| EllapsedTime: 443.6 seconds |
| RetCode: 0 |
| Status: OK |
| CheckDir: maser.Rcheck |
| Warnings: 0 |
##############################################################################
##############################################################################
###
### Running command:
###
### /home/biocbuild/bbs-3.11-bioc/R/bin/R CMD check --install=check:maser.install-out.txt --library=/home/biocbuild/bbs-3.11-bioc/R/library --no-vignettes --timings maser_1.6.0.tar.gz
###
##############################################################################
##############################################################################
* using log directory ‘/home/biocbuild/bbs-3.11-bioc/meat/maser.Rcheck’
* using R version 4.0.3 (2020-10-10)
* using platform: x86_64-pc-linux-gnu (64-bit)
* using session charset: UTF-8
* using option ‘--no-vignettes’
* checking for file ‘maser/DESCRIPTION’ ... OK
* checking extension type ... Package
* this is package ‘maser’ version ‘1.6.0’
* package encoding: UTF-8
* checking package namespace information ... OK
* checking package dependencies ... OK
* checking if this is a source package ... OK
* checking if there is a namespace ... OK
* checking for hidden files and directories ... OK
* checking for portable file names ... OK
* checking for sufficient/correct file permissions ... OK
* checking whether package ‘maser’ can be installed ... OK
* checking installed package size ... OK
* checking package directory ... OK
* checking ‘build’ directory ... OK
* checking DESCRIPTION meta-information ... OK
* checking top-level files ... OK
* checking for left-over files ... OK
* checking index information ... OK
* checking package subdirectories ... OK
* checking R files for non-ASCII characters ... OK
* checking R files for syntax errors ... OK
* checking whether the package can be loaded ... OK
* checking whether the package can be loaded with stated dependencies ... OK
* checking whether the package can be unloaded cleanly ... OK
* checking whether the namespace can be loaded with stated dependencies ... OK
* checking whether the namespace can be unloaded cleanly ... OK
* checking dependencies in R code ... OK
* checking S3 generic/method consistency ... OK
* checking replacement functions ... OK
* checking foreign function calls ... OK
* checking R code for possible problems ... NOTE
filterByIds: no visible binding for global variable 'ID'
mapTranscriptsA3SSevent: no visible global function definition for
'subjectHits'
mapTranscriptsA5SSevent: no visible global function definition for
'subjectHits'
mapTranscriptsMXEevent: no visible global function definition for
'subjectHits'
mapTranscriptsRIevent: no visible global function definition for
'subjectHits'
mapTranscriptsSEevent: no visible global function definition for
'subjectHits'
overlappingFeatures: no visible global function definition for
'subjectHits'
urlTracksUniprotKB: no visible binding for global variable 'Name'
Undefined global functions or variables:
ID Name subjectHits
* checking Rd files ... OK
* checking Rd metadata ... OK
* checking Rd cross-references ... OK
* checking for missing documentation entries ... OK
* checking for code/documentation mismatches ... OK
* checking Rd \usage sections ... OK
* checking Rd contents ... OK
* checking for unstated dependencies in examples ... OK
* checking R/sysdata.rda ... OK
* checking files in ‘vignettes’ ... OK
* checking examples ... OK
Examples with CPU (user + system) or elapsed time > 5s
user system elapsed
plotUniprotKBFeatures 8.532 0.040 10.913
plotTranscripts 7.022 0.012 7.041
mapProteinFeaturesToEvents 6.096 0.044 8.573
* checking for unstated dependencies in vignettes ... OK
* checking package vignettes in ‘inst/doc’ ... OK
* checking running R code from vignettes ... SKIPPED
* checking re-building of vignette outputs ... SKIPPED
* checking PDF version of manual ... OK
* DONE
Status: 1 NOTE
See
‘/home/biocbuild/bbs-3.11-bioc/meat/maser.Rcheck/00check.log’
for details.
maser.Rcheck/00install.out
############################################################################## ############################################################################## ### ### Running command: ### ### /home/biocbuild/bbs-3.11-bioc/R/bin/R CMD INSTALL maser ### ############################################################################## ############################################################################## * installing to library ‘/home/biocbuild/bbs-3.11-bioc/R/library’ * installing *source* package ‘maser’ ... ** using staged installation ** R ** inst ** byte-compile and prepare package for lazy loading ** help *** installing help indices ** building package indices ** installing vignettes ** testing if installed package can be loaded from temporary location ** testing if installed package can be loaded from final location ** testing if installed package keeps a record of temporary installation path * DONE (maser)
maser.Rcheck/maser-Ex.timings
| name | user | system | elapsed | |
| PSI-Maser-character-method | 1.112 | 0.008 | 1.127 | |
| PSI | 0.935 | 0.028 | 0.964 | |
| annotation-Maser-method | 0.950 | 0.004 | 0.955 | |
| availableFeaturesUniprotKB | 0.144 | 0.000 | 0.646 | |
| boxplot_PSI_levels | 3.181 | 0.056 | 3.238 | |
| counts-Maser-method | 0.798 | 0.000 | 0.797 | |
| display | 1.841 | 0.048 | 1.931 | |
| dotplot | 1.334 | 0.000 | 1.334 | |
| filterByCoverage | 1.256 | 0.000 | 1.256 | |
| filterByEventId | 0.918 | 0.008 | 0.926 | |
| geneEvents | 0.951 | 0.000 | 0.951 | |
| granges-Maser-method | 0.672 | 0.000 | 0.672 | |
| mapProteinFeaturesToEvents | 6.096 | 0.044 | 8.573 | |
| mapTranscriptsToEvents | 2.527 | 0.004 | 2.544 | |
| maser | 0.553 | 0.000 | 0.552 | |
| pca | 1.462 | 0.004 | 1.466 | |
| plotGenePSI | 1.754 | 0.000 | 1.754 | |
| plotTranscripts | 7.022 | 0.012 | 7.041 | |
| plotUniprotKBFeatures | 8.532 | 0.040 | 10.913 | |
| splicingDistribution | 1.980 | 0.000 | 1.981 | |
| summary-Maser-method | 1.367 | 0.000 | 1.367 | |
| topEvents | 1.664 | 0.000 | 1.664 | |
| volcano | 1.372 | 0.007 | 1.379 | |