| Back to Multiple platform build/check report for BioC 3.11 |
|
This page was generated on 2020-01-16 13:53:21 -0500 (Thu, 16 Jan 2020).
| Package 327/1818 | Hostname | OS / Arch | INSTALL | BUILD | CHECK | BUILD BIN | ||||||
| CNVRanger 1.3.3 Ludwig Geistlinger
| malbec2 | Linux (Ubuntu 18.04.3 LTS) / x86_64 | OK | OK | OK | |||||||
| tokay2 | Windows Server 2012 R2 Standard / x64 | OK | OK | OK | OK | |||||||
| celaya2 | OS X 10.11.6 El Capitan / x86_64 | OK | OK | [ OK ] | OK |
| Package: CNVRanger |
| Version: 1.3.3 |
| Command: /Library/Frameworks/R.framework/Versions/Current/Resources/bin/R CMD check --install=check:CNVRanger.install-out.txt --library=/Library/Frameworks/R.framework/Versions/Current/Resources/library --no-vignettes --timings CNVRanger_1.3.3.tar.gz |
| StartedAt: 2020-01-16 03:04:51 -0500 (Thu, 16 Jan 2020) |
| EndedAt: 2020-01-16 03:11:39 -0500 (Thu, 16 Jan 2020) |
| EllapsedTime: 407.8 seconds |
| RetCode: 0 |
| Status: OK |
| CheckDir: CNVRanger.Rcheck |
| Warnings: 0 |
##############################################################################
##############################################################################
###
### Running command:
###
### /Library/Frameworks/R.framework/Versions/Current/Resources/bin/R CMD check --install=check:CNVRanger.install-out.txt --library=/Library/Frameworks/R.framework/Versions/Current/Resources/library --no-vignettes --timings CNVRanger_1.3.3.tar.gz
###
##############################################################################
##############################################################################
* using log directory ‘/Users/biocbuild/bbs-3.11-bioc/meat/CNVRanger.Rcheck’
* using R Under development (unstable) (2019-12-14 r77572)
* using platform: x86_64-apple-darwin15.6.0 (64-bit)
* using session charset: UTF-8
* using option ‘--no-vignettes’
* checking for file ‘CNVRanger/DESCRIPTION’ ... OK
* this is package ‘CNVRanger’ version ‘1.3.3’
* package encoding: UTF-8
* checking package namespace information ... OK
* checking package dependencies ... OK
* checking if this is a source package ... OK
* checking if there is a namespace ... OK
* checking for hidden files and directories ... OK
* checking for portable file names ... OK
* checking for sufficient/correct file permissions ... OK
* checking whether package ‘CNVRanger’ can be installed ... OK
* checking installed package size ... OK
* checking package directory ... OK
* checking ‘build’ directory ... OK
* checking DESCRIPTION meta-information ... OK
* checking top-level files ... OK
* checking for left-over files ... OK
* checking index information ... OK
* checking package subdirectories ... OK
* checking R files for non-ASCII characters ... OK
* checking R files for syntax errors ... OK
* checking whether the package can be loaded ... OK
* checking whether the package can be loaded with stated dependencies ... OK
* checking whether the package can be unloaded cleanly ... OK
* checking whether the namespace can be loaded with stated dependencies ... OK
* checking whether the namespace can be unloaded cleanly ... OK
* checking dependencies in R code ... NOTE
Unexported object imported by a ':::' call: 'rappdirs:::get_os'
See the note in ?`:::` about the use of this operator.
* checking S3 generic/method consistency ... OK
* checking replacement functions ... OK
* checking foreign function calls ... OK
* checking R code for possible problems ... NOTE
plotRecurrentRegions: no visible binding for global variable ‘type’
plotRecurrentRegions: no visible binding for global variable ‘pvalue’
Undefined global functions or variables:
pvalue type
* checking Rd files ... OK
* checking Rd metadata ... OK
* checking Rd cross-references ... OK
* checking for missing documentation entries ... OK
* checking for code/documentation mismatches ... OK
* checking Rd \usage sections ... OK
* checking Rd contents ... OK
* checking for unstated dependencies in examples ... OK
* checking files in ‘vignettes’ ... OK
* checking examples ... OK
Examples with CPU (user + system) or elapsed time > 5s
user system elapsed
plotRecurrentRegions 30.488 0.113 47.963
plotEQTL 26.078 1.012 47.383
plotManhattan 10.908 0.670 11.631
cnvGWAS 10.268 0.118 10.710
cnvEQTL 5.235 0.379 5.615
* checking for unstated dependencies in vignettes ... OK
* checking package vignettes in ‘inst/doc’ ... OK
* checking running R code from vignettes ... SKIPPED
* checking re-building of vignette outputs ... SKIPPED
* checking PDF version of manual ... OK
* DONE
Status: 2 NOTEs
See
‘/Users/biocbuild/bbs-3.11-bioc/meat/CNVRanger.Rcheck/00check.log’
for details.
CNVRanger.Rcheck/00install.out
############################################################################## ############################################################################## ### ### Running command: ### ### /Library/Frameworks/R.framework/Versions/Current/Resources/bin/R CMD INSTALL CNVRanger ### ############################################################################## ############################################################################## * installing to library ‘/Library/Frameworks/R.framework/Versions/4.0/Resources/library’ * installing *source* package ‘CNVRanger’ ... ** using staged installation ** R ** inst ** byte-compile and prepare package for lazy loading ** help *** installing help indices ** building package indices ** installing vignettes ** testing if installed package can be loaded from temporary location ** testing if installed package can be loaded from final location ** testing if installed package keeps a record of temporary installation path * DONE (CNVRanger)
CNVRanger.Rcheck/CNVRanger-Ex.timings
| name | user | system | elapsed | |
| cnvEQTL | 5.235 | 0.379 | 5.615 | |
| cnvGWAS | 10.268 | 0.118 | 10.710 | |
| cnvOncoPrint | 3.150 | 0.062 | 3.214 | |
| generateGDS | 1.438 | 0.024 | 1.475 | |
| importLrrBaf | 0.041 | 0.010 | 0.103 | |
| plotEQTL | 26.078 | 1.012 | 47.383 | |
| plotManhattan | 10.908 | 0.670 | 11.631 | |
| plotRecurrentRegions | 30.488 | 0.113 | 47.963 | |
| populationRanges | 3.378 | 0.007 | 3.387 | |
| setupCnvGWAS | 0.018 | 0.003 | 0.048 | |