| Back to Multiple platform build/check report for BioC 3.11 |
|
This page was generated on 2020-10-17 11:56:21 -0400 (Sat, 17 Oct 2020).
| TO THE DEVELOPERS/MAINTAINERS OF THE CNVRanger PACKAGE: Please make sure to use the following settings in order to reproduce any error or warning you see on this page. |
| Package 338/1905 | Hostname | OS / Arch | INSTALL | BUILD | CHECK | BUILD BIN | ||||||
| CNVRanger 1.4.3 Ludwig Geistlinger
| malbec2 | Linux (Ubuntu 18.04.4 LTS) / x86_64 | OK | OK | OK | |||||||
| tokay2 | Windows Server 2012 R2 Standard / x64 | OK | OK | [ OK ] | OK | |||||||
| machv2 | macOS 10.14.6 Mojave / x86_64 | OK | OK | OK | OK |
| Package: CNVRanger |
| Version: 1.4.3 |
| Command: C:\Users\biocbuild\bbs-3.11-bioc\R\bin\R.exe CMD check --force-multiarch --install=check:CNVRanger.install-out.txt --library=C:\Users\biocbuild\bbs-3.11-bioc\R\library --no-vignettes --timings CNVRanger_1.4.3.tar.gz |
| StartedAt: 2020-10-17 02:48:04 -0400 (Sat, 17 Oct 2020) |
| EndedAt: 2020-10-17 02:55:09 -0400 (Sat, 17 Oct 2020) |
| EllapsedTime: 424.7 seconds |
| RetCode: 0 |
| Status: OK |
| CheckDir: CNVRanger.Rcheck |
| Warnings: 0 |
##############################################################################
##############################################################################
###
### Running command:
###
### C:\Users\biocbuild\bbs-3.11-bioc\R\bin\R.exe CMD check --force-multiarch --install=check:CNVRanger.install-out.txt --library=C:\Users\biocbuild\bbs-3.11-bioc\R\library --no-vignettes --timings CNVRanger_1.4.3.tar.gz
###
##############################################################################
##############################################################################
* using log directory 'C:/Users/biocbuild/bbs-3.11-bioc/meat/CNVRanger.Rcheck'
* using R version 4.0.3 (2020-10-10)
* using platform: x86_64-w64-mingw32 (64-bit)
* using session charset: ISO8859-1
* using option '--no-vignettes'
* checking for file 'CNVRanger/DESCRIPTION' ... OK
* this is package 'CNVRanger' version '1.4.3'
* package encoding: UTF-8
* checking package namespace information ... OK
* checking package dependencies ... OK
* checking if this is a source package ... OK
* checking if there is a namespace ... OK
* checking for hidden files and directories ... OK
* checking for portable file names ... OK
* checking whether package 'CNVRanger' can be installed ... OK
* checking installed package size ... OK
* checking package directory ... OK
* checking 'build' directory ... OK
* checking DESCRIPTION meta-information ... OK
* checking top-level files ... OK
* checking for left-over files ... OK
* checking index information ... OK
* checking package subdirectories ... OK
* checking R files for non-ASCII characters ... OK
* checking R files for syntax errors ... OK
* loading checks for arch 'i386'
** checking whether the package can be loaded ... OK
** checking whether the package can be loaded with stated dependencies ... OK
** checking whether the package can be unloaded cleanly ... OK
** checking whether the namespace can be loaded with stated dependencies ... OK
** checking whether the namespace can be unloaded cleanly ... OK
* loading checks for arch 'x64'
** checking whether the package can be loaded ... OK
** checking whether the package can be loaded with stated dependencies ... OK
** checking whether the package can be unloaded cleanly ... OK
** checking whether the namespace can be loaded with stated dependencies ... OK
** checking whether the namespace can be unloaded cleanly ... OK
* checking dependencies in R code ... NOTE
Unexported object imported by a ':::' call: 'rappdirs:::get_os'
See the note in ?`:::` about the use of this operator.
* checking S3 generic/method consistency ... OK
* checking replacement functions ... OK
* checking foreign function calls ... OK
* checking R code for possible problems ... NOTE
plotRecurrentRegions: no visible binding for global variable 'type'
plotRecurrentRegions: no visible binding for global variable 'pvalue'
Undefined global functions or variables:
pvalue type
* checking Rd files ... OK
* checking Rd metadata ... OK
* checking Rd cross-references ... OK
* checking for missing documentation entries ... OK
* checking for code/documentation mismatches ... OK
* checking Rd \usage sections ... OK
* checking Rd contents ... OK
* checking for unstated dependencies in examples ... OK
* checking files in 'vignettes' ... OK
* checking examples ...
** running examples for arch 'i386' ... OK
Examples with CPU (user + system) or elapsed time > 5s
user system elapsed
plotEQTL 21.05 1.47 38.45
plotRecurrentRegions 18.25 0.25 28.23
cnvGWAS 7.72 0.09 10.15
plotManhattan 6.70 0.89 7.91
** running examples for arch 'x64' ... OK
Examples with CPU (user + system) or elapsed time > 5s
user system elapsed
plotEQTL 17.33 0.52 33.73
plotRecurrentRegions 16.52 0.02 25.92
cnvGWAS 8.54 0.01 9.21
plotManhattan 5.72 0.20 6.33
* checking for unstated dependencies in vignettes ... OK
* checking package vignettes in 'inst/doc' ... OK
* checking running R code from vignettes ... SKIPPED
* checking re-building of vignette outputs ... SKIPPED
* checking PDF version of manual ... OK
* DONE
Status: 2 NOTEs
See
'C:/Users/biocbuild/bbs-3.11-bioc/meat/CNVRanger.Rcheck/00check.log'
for details.
CNVRanger.Rcheck/00install.out
##############################################################################
##############################################################################
###
### Running command:
###
### C:\cygwin\bin\curl.exe -O https://malbec2.bioconductor.org/BBS/3.11/bioc/src/contrib/CNVRanger_1.4.3.tar.gz && rm -rf CNVRanger.buildbin-libdir && mkdir CNVRanger.buildbin-libdir && C:\Users\biocbuild\bbs-3.11-bioc\R\bin\R.exe CMD INSTALL --merge-multiarch --build --library=CNVRanger.buildbin-libdir CNVRanger_1.4.3.tar.gz && C:\Users\biocbuild\bbs-3.11-bioc\R\bin\R.exe CMD INSTALL CNVRanger_1.4.3.zip && rm CNVRanger_1.4.3.tar.gz CNVRanger_1.4.3.zip
###
##############################################################################
##############################################################################
% Total % Received % Xferd Average Speed Time Time Time Current
Dload Upload Total Spent Left Speed
0 0 0 0 0 0 0 0 --:--:-- --:--:-- --:--:-- 0
100 895k 100 895k 0 0 6893k 0 --:--:-- --:--:-- --:--:-- 7283k
install for i386
* installing *source* package 'CNVRanger' ...
** using staged installation
** R
** inst
** byte-compile and prepare package for lazy loading
** help
*** installing help indices
converting help for package 'CNVRanger'
finding HTML links ... done
cnvEQTL html
finding level-2 HTML links ... done
cnvGWAS html
cnvOncoPrint html
generateGDS html
importLrrBaf html
plotEQTL html
plotManhattan html
plotRecurrentRegions html
populationRanges html
setupCnvGWAS html
** building package indices
** installing vignettes
** testing if installed package can be loaded from temporary location
** testing if installed package can be loaded from final location
** testing if installed package keeps a record of temporary installation path
install for x64
* installing *source* package 'CNVRanger' ...
** testing if installed package can be loaded
* MD5 sums
packaged installation of 'CNVRanger' as CNVRanger_1.4.3.zip
* DONE (CNVRanger)
* installing to library 'C:/Users/biocbuild/bbs-3.11-bioc/R/library'
package 'CNVRanger' successfully unpacked and MD5 sums checked
|
CNVRanger.Rcheck/examples_i386/CNVRanger-Ex.timings
|
CNVRanger.Rcheck/examples_x64/CNVRanger-Ex.timings
|