| Back to Multiple platform build/check report for BioC 3.10 |
|
This page was generated on 2020-04-15 12:37:56 -0400 (Wed, 15 Apr 2020).
| Package 1802/1823 | Hostname | OS / Arch | INSTALL | BUILD | CHECK | BUILD BIN | ||||||
| waveTiling 1.28.0 Kristof De Beuf
| malbec1 | Linux (Ubuntu 18.04.4 LTS) / x86_64 | OK | OK | WARNINGS | |||||||
| tokay1 | Windows Server 2012 R2 Standard / x64 | OK | OK | WARNINGS | OK | |||||||
| merida1 | OS X 10.11.6 El Capitan / x86_64 | [ OK ] | OK | WARNINGS | OK |
| Package: waveTiling |
| Version: 1.28.0 |
| Command: /Library/Frameworks/R.framework/Versions/Current/Resources/bin/R CMD INSTALL waveTiling |
| StartedAt: 2020-04-14 19:23:47 -0400 (Tue, 14 Apr 2020) |
| EndedAt: 2020-04-14 19:24:25 -0400 (Tue, 14 Apr 2020) |
| EllapsedTime: 38.2 seconds |
| RetCode: 0 |
| Status: OK |
##############################################################################
##############################################################################
###
### Running command:
###
### /Library/Frameworks/R.framework/Versions/Current/Resources/bin/R CMD INSTALL waveTiling
###
##############################################################################
##############################################################################
* installing to library ‘/Library/Frameworks/R.framework/Versions/3.6/Resources/library’
* installing *source* package ‘waveTiling’ ...
** using staged installation
** libs
clang -I"/Library/Frameworks/R.framework/Resources/include" -DNDEBUG -isysroot /Library/Developer/CommandLineTools/SDKs/MacOSX.sdk -I/usr/local/include -fPIC -Wall -g -O2 -c waveTiling.c -o waveTiling.o
waveTiling.c:10:11: warning: unused variable 'n' [-Wunused-variable]
int i,j,m,n,Jcount=0;
^
waveTiling.c:43:11: warning: unused variable 'n' [-Wunused-variable]
int i,j,m,n,Jcount=0;
^
waveTiling.c:81:11: warning: unused variable 'n' [-Wunused-variable]
int i,j,m,n,Jcount=0;
^
waveTiling.c:114:11: warning: unused variable 'n' [-Wunused-variable]
int i,j,m,n,Jcount=0;
^
4 warnings generated.
clang -dynamiclib -Wl,-headerpad_max_install_names -undefined dynamic_lookup -single_module -multiply_defined suppress -L/Library/Frameworks/R.framework/Resources/lib -L/usr/local/lib -o waveTiling.so waveTiling.o -F/Library/Frameworks/R.framework/.. -framework R -Wl,-framework -Wl,CoreFoundation
installing to /Library/Frameworks/R.framework/Versions/3.6/Resources/library/00LOCK-waveTiling/00new/waveTiling/libs
** R
** inst
** byte-compile and prepare package for lazy loading
No methods found in package ‘RSQLite’ for request: ‘dbListFields’ when loading ‘oligo’
Warning message:
Package 'GenomeGraphs' is deprecated and will be removed from
Bioconductor version 3.11
** help
*** installing help indices
** building package indices
** installing vignettes
** testing if installed package can be loaded from temporary location
No methods found in package ‘RSQLite’ for request: ‘dbListFields’ when loading ‘oligo’
Warning: Package 'GenomeGraphs' is deprecated and will be removed from
Bioconductor version 3.11
** checking absolute paths in shared objects and dynamic libraries
** testing if installed package can be loaded from final location
No methods found in package ‘RSQLite’ for request: ‘dbListFields’ when loading ‘oligo’
Warning: Package 'GenomeGraphs' is deprecated and will be removed from
Bioconductor version 3.11
** testing if installed package keeps a record of temporary installation path
* DONE (waveTiling)