| Back to Multiple platform build/check report for BioC 3.10 |
|
This page was generated on 2020-04-15 12:07:04 -0400 (Wed, 15 Apr 2020).
| Package 1802/1823 | Hostname | OS / Arch | INSTALL | BUILD | CHECK | BUILD BIN | ||||||
| waveTiling 1.28.0 Kristof De Beuf
| malbec1 | Linux (Ubuntu 18.04.4 LTS) / x86_64 | [ OK ] | OK | WARNINGS | |||||||
| tokay1 | Windows Server 2012 R2 Standard / x64 | OK | OK | WARNINGS | OK | |||||||
| merida1 | OS X 10.11.6 El Capitan / x86_64 | OK | OK | WARNINGS | OK |
| Package: waveTiling |
| Version: 1.28.0 |
| Command: /home/biocbuild/bbs-3.10-bioc/R/bin/R CMD INSTALL waveTiling |
| StartedAt: 2020-04-14 18:57:24 -0400 (Tue, 14 Apr 2020) |
| EndedAt: 2020-04-14 18:57:58 -0400 (Tue, 14 Apr 2020) |
| EllapsedTime: 34.2 seconds |
| RetCode: 0 |
| Status: OK |
##############################################################################
##############################################################################
###
### Running command:
###
### /home/biocbuild/bbs-3.10-bioc/R/bin/R CMD INSTALL waveTiling
###
##############################################################################
##############################################################################
* installing to library ‘/home/biocbuild/bbs-3.10-bioc/R/library’
* installing *source* package ‘waveTiling’ ...
** using staged installation
** libs
gcc -I"/home/biocbuild/bbs-3.10-bioc/R/include" -DNDEBUG -I/usr/local/include -fpic -g -O2 -Wall -c waveTiling.c -o waveTiling.o
waveTiling.c: In function ‘MAPMARG’:
waveTiling.c:10:11: warning: unused variable ‘n’ [-Wunused-variable]
int i,j,m,n,Jcount=0;
^
waveTiling.c: In function ‘MAPMARGEQSMOOTH’:
waveTiling.c:43:11: warning: unused variable ‘n’ [-Wunused-variable]
int i,j,m,n,Jcount=0;
^
waveTiling.c: In function ‘MAPMARGIMP’:
waveTiling.c:81:11: warning: unused variable ‘n’ [-Wunused-variable]
int i,j,m,n,Jcount=0;
^
waveTiling.c: In function ‘MAPMARGIMPEQSMOOTH’:
waveTiling.c:114:11: warning: unused variable ‘n’ [-Wunused-variable]
int i,j,m,n,Jcount=0;
^
gcc -shared -L/home/biocbuild/bbs-3.10-bioc/R/lib -L/usr/local/lib -o waveTiling.so waveTiling.o -L/home/biocbuild/bbs-3.10-bioc/R/lib -lR
installing to /home/biocbuild/bbs-3.10-bioc/R/library/00LOCK-waveTiling/00new/waveTiling/libs
** R
** inst
** byte-compile and prepare package for lazy loading
No methods found in package ‘RSQLite’ for request: ‘dbListFields’ when loading ‘oligo’
Warning message:
Package 'GenomeGraphs' is deprecated and will be removed from
Bioconductor version 3.11
** help
*** installing help indices
** building package indices
** installing vignettes
** testing if installed package can be loaded from temporary location
No methods found in package ‘RSQLite’ for request: ‘dbListFields’ when loading ‘oligo’
Warning: Package 'GenomeGraphs' is deprecated and will be removed from
Bioconductor version 3.11
** checking absolute paths in shared objects and dynamic libraries
** testing if installed package can be loaded from final location
No methods found in package ‘RSQLite’ for request: ‘dbListFields’ when loading ‘oligo’
Warning: Package 'GenomeGraphs' is deprecated and will be removed from
Bioconductor version 3.11
** testing if installed package keeps a record of temporary installation path
* DONE (waveTiling)