| Back to Multiple platform build/check report for BioC 3.10 |
|
This page was generated on 2020-04-15 12:31:18 -0400 (Wed, 15 Apr 2020).
| Package 1746/1823 | Hostname | OS / Arch | INSTALL | BUILD | CHECK | BUILD BIN | ||||||
| transite 1.4.0 Konstantin Krismer
| malbec1 | Linux (Ubuntu 18.04.4 LTS) / x86_64 | OK | OK | OK | |||||||
| tokay1 | Windows Server 2012 R2 Standard / x64 | [ OK ] | OK | OK | OK | |||||||
| merida1 | OS X 10.11.6 El Capitan / x86_64 | OK | OK | OK | OK |
| Package: transite |
| Version: 1.4.0 |
| Command: C:\cygwin\bin\curl.exe -O https://malbec1.bioconductor.org/BBS/3.10/bioc/src/contrib/transite_1.4.0.tar.gz && rm -rf transite.buildbin-libdir && mkdir transite.buildbin-libdir && C:\Users\biocbuild\bbs-3.10-bioc\R\bin\R.exe CMD INSTALL --merge-multiarch --build --library=transite.buildbin-libdir transite_1.4.0.tar.gz && C:\Users\biocbuild\bbs-3.10-bioc\R\bin\R.exe CMD INSTALL transite_1.4.0.zip && rm transite_1.4.0.tar.gz transite_1.4.0.zip |
| StartedAt: 2020-04-14 19:32:23 -0400 (Tue, 14 Apr 2020) |
| EndedAt: 2020-04-14 19:33:36 -0400 (Tue, 14 Apr 2020) |
| EllapsedTime: 73.1 seconds |
| RetCode: 0 |
| Status: OK |
##############################################################################
##############################################################################
###
### Running command:
###
### C:\cygwin\bin\curl.exe -O https://malbec1.bioconductor.org/BBS/3.10/bioc/src/contrib/transite_1.4.0.tar.gz && rm -rf transite.buildbin-libdir && mkdir transite.buildbin-libdir && C:\Users\biocbuild\bbs-3.10-bioc\R\bin\R.exe CMD INSTALL --merge-multiarch --build --library=transite.buildbin-libdir transite_1.4.0.tar.gz && C:\Users\biocbuild\bbs-3.10-bioc\R\bin\R.exe CMD INSTALL transite_1.4.0.zip && rm transite_1.4.0.tar.gz transite_1.4.0.zip
###
##############################################################################
##############################################################################
% Total % Received % Xferd Average Speed Time Time Time Current
Dload Upload Total Spent Left Speed
0 0 0 0 0 0 0 0 --:--:-- --:--:-- --:--:-- 0
100 590k 100 590k 0 0 12.7M 0 --:--:-- --:--:-- --:--:-- 14.0M
install for i386
* installing *source* package 'transite' ...
** using staged installation
** libs
C:/Rtools/mingw_32/bin/g++ -std=gnu++11 -I"C:/Users/BIOCBU~1/BBS-3~1.10-/R/include" -DNDEBUG -I"C:/Users/biocbuild/bbs-3.10-bioc/R/library/Rcpp/include" -I"C:/extsoft/include" -O2 -Wall -mtune=core2 -c RcppExports.cpp -o RcppExports.o
C:/Rtools/mingw_32/bin/g++ -std=gnu++11 -I"C:/Users/BIOCBU~1/BBS-3~1.10-/R/include" -DNDEBUG -I"C:/Users/biocbuild/bbs-3.10-bioc/R/library/Rcpp/include" -I"C:/extsoft/include" -O2 -Wall -mtune=core2 -c scoring.cpp -o scoring.o
C:/Rtools/mingw_32/bin/g++ -shared -s -static-libgcc -o transite.dll tmp.def RcppExports.o scoring.o -LC:/extsoft/lib/i386 -LC:/extsoft/lib -LC:/Users/BIOCBU~1/BBS-3~1.10-/R/bin/i386 -lR
installing to C:/Users/biocbuild/bbs-3.10-bioc/meat/transite.buildbin-libdir/00LOCK-transite/00new/transite/libs/i386
** R
** data
** inst
** byte-compile and prepare package for lazy loading
** help
*** installing help indices
converting help for package 'transite'
finding HTML links ... done
RBPMotif-class html
SpectrumScore-class html
calculateKmerEnrichment html
calculateKmerScores html
calculateLocalConsistency html
calculateMotifEnrichment html
calculateTranscriptMC html
checkKmers html
computeKmerEnrichment html
computeMotifScore html
createKmerMotif html
createMatrixMotif html
drawVolcanoPlot html
empiricalEnrichmentMeanCDF html
ge html
generateIUPACByKmers html
generateIUPACByMatrix html
generateKmers html
generateKmersFromIUPAC html
generatePermutedEnrichments html
geometricMean html
getMotifById html
getMotifByRBP html
getMotifs html
getPPM html
homopolymerCorrection html
initIUPAClookupTable html
kmers.enrichment html
lookupKmerScores html
motifs html
motifsMetaInfo html
pCombine html
permTestGeometricMean html
runKmerSPMA html
runKmerTSMA html
runMatrixSPMA html
runMatrixTSMA html
scoreSequences html
scoreSpectrum html
scoreTranscripts html
scoreTranscriptsSingleMotif html
setMotifs html
spectrumClassifier html
subdivideData html
toy.motif.matrix html
transite html
** building package indices
** installing vignettes
** testing if installed package can be loaded from temporary location
** testing if installed package can be loaded from final location
** testing if installed package keeps a record of temporary installation path
install for x64
* installing *source* package 'transite' ...
** libs
C:/Rtools/mingw_64/bin/g++ -std=gnu++11 -I"C:/Users/BIOCBU~1/BBS-3~1.10-/R/include" -DNDEBUG -I"C:/Users/biocbuild/bbs-3.10-bioc/R/library/Rcpp/include" -I"C:/extsoft/include" -O2 -Wall -mtune=core2 -c RcppExports.cpp -o RcppExports.o
C:/Rtools/mingw_64/bin/g++ -std=gnu++11 -I"C:/Users/BIOCBU~1/BBS-3~1.10-/R/include" -DNDEBUG -I"C:/Users/biocbuild/bbs-3.10-bioc/R/library/Rcpp/include" -I"C:/extsoft/include" -O2 -Wall -mtune=core2 -c scoring.cpp -o scoring.o
C:/Rtools/mingw_64/bin/g++ -shared -s -static-libgcc -o transite.dll tmp.def RcppExports.o scoring.o -LC:/extsoft/lib/x64 -LC:/extsoft/lib -LC:/Users/BIOCBU~1/BBS-3~1.10-/R/bin/x64 -lR
installing to C:/Users/biocbuild/bbs-3.10-bioc/meat/transite.buildbin-libdir/transite/libs/x64
** testing if installed package can be loaded
* MD5 sums
packaged installation of 'transite' as transite_1.4.0.zip
* DONE (transite)
* installing to library 'C:/Users/biocbuild/bbs-3.10-bioc/R/library'
package 'transite' successfully unpacked and MD5 sums checked