| Back to Multiple platform build/check report for BioC 3.10 |
|
This page was generated on 2020-04-15 12:14:51 -0400 (Wed, 15 Apr 2020).
| Package 1746/1823 | Hostname | OS / Arch | INSTALL | BUILD | CHECK | BUILD BIN | ||||||
| transite 1.4.0 Konstantin Krismer
| malbec1 | Linux (Ubuntu 18.04.4 LTS) / x86_64 | OK | OK | [ OK ] | |||||||
| tokay1 | Windows Server 2012 R2 Standard / x64 | OK | OK | OK | OK | |||||||
| merida1 | OS X 10.11.6 El Capitan / x86_64 | OK | OK | OK | OK |
| Package: transite |
| Version: 1.4.0 |
| Command: /home/biocbuild/bbs-3.10-bioc/R/bin/R CMD check --install=check:transite.install-out.txt --library=/home/biocbuild/bbs-3.10-bioc/R/library --no-vignettes --timings transite_1.4.0.tar.gz |
| StartedAt: 2020-04-15 06:05:35 -0400 (Wed, 15 Apr 2020) |
| EndedAt: 2020-04-15 06:09:36 -0400 (Wed, 15 Apr 2020) |
| EllapsedTime: 240.9 seconds |
| RetCode: 0 |
| Status: OK |
| CheckDir: transite.Rcheck |
| Warnings: 0 |
##############################################################################
##############################################################################
###
### Running command:
###
### /home/biocbuild/bbs-3.10-bioc/R/bin/R CMD check --install=check:transite.install-out.txt --library=/home/biocbuild/bbs-3.10-bioc/R/library --no-vignettes --timings transite_1.4.0.tar.gz
###
##############################################################################
##############################################################################
* using log directory ‘/home/biocbuild/bbs-3.10-bioc/meat/transite.Rcheck’
* using R version 3.6.3 (2020-02-29)
* using platform: x86_64-pc-linux-gnu (64-bit)
* using session charset: UTF-8
* using option ‘--no-vignettes’
* checking for file ‘transite/DESCRIPTION’ ... OK
* this is package ‘transite’ version ‘1.4.0’
* package encoding: UTF-8
* checking package namespace information ... OK
* checking package dependencies ... OK
* checking if this is a source package ... OK
* checking if there is a namespace ... OK
* checking for hidden files and directories ... OK
* checking for portable file names ... OK
* checking for sufficient/correct file permissions ... OK
* checking whether package ‘transite’ can be installed ... OK
* checking installed package size ... OK
* checking package directory ... OK
* checking ‘build’ directory ... OK
* checking DESCRIPTION meta-information ... OK
* checking top-level files ... OK
* checking for left-over files ... OK
* checking index information ... OK
* checking package subdirectories ... OK
* checking R files for non-ASCII characters ... OK
* checking R files for syntax errors ... OK
* checking whether the package can be loaded ... OK
* checking whether the package can be loaded with stated dependencies ... OK
* checking whether the package can be unloaded cleanly ... OK
* checking whether the namespace can be loaded with stated dependencies ... OK
* checking whether the namespace can be unloaded cleanly ... OK
* checking dependencies in R code ... OK
* checking S3 generic/method consistency ... OK
* checking replacement functions ... OK
* checking foreign function calls ... OK
* checking R code for possible problems ... OK
* checking Rd files ... OK
* checking Rd metadata ... OK
* checking Rd cross-references ... OK
* checking for missing documentation entries ... OK
* checking for code/documentation mismatches ... OK
* checking Rd \usage sections ... OK
* checking Rd contents ... OK
* checking for unstated dependencies in examples ... OK
* checking contents of ‘data’ directory ... OK
* checking data for non-ASCII characters ... OK
* checking data for ASCII and uncompressed saves ... OK
* checking line endings in C/C++/Fortran sources/headers ... OK
* checking compiled code ... NOTE
Note: information on .o files is not available
* checking files in ‘vignettes’ ... OK
* checking examples ... OK
Examples with CPU or elapsed time > 5s
user system elapsed
runKmerTSMA 56.252 0.076 56.793
runKmerSPMA 50.652 0.076 50.894
calculateKmerEnrichment 7.212 0.004 7.235
runMatrixSPMA 3.068 0.028 5.130
* checking for unstated dependencies in vignettes ... OK
* checking package vignettes in ‘inst/doc’ ... OK
* checking running R code from vignettes ... SKIPPED
* checking re-building of vignette outputs ... SKIPPED
* checking PDF version of manual ... OK
* DONE
Status: 1 NOTE
See
‘/home/biocbuild/bbs-3.10-bioc/meat/transite.Rcheck/00check.log’
for details.
transite.Rcheck/00install.out
############################################################################## ############################################################################## ### ### Running command: ### ### /home/biocbuild/bbs-3.10-bioc/R/bin/R CMD INSTALL transite ### ############################################################################## ############################################################################## * installing to library ‘/home/biocbuild/bbs-3.10-bioc/R/library’ * installing *source* package ‘transite’ ... ** using staged installation ** libs g++ -std=gnu++11 -I"/home/biocbuild/bbs-3.10-bioc/R/include" -DNDEBUG -I"/home/biocbuild/bbs-3.10-bioc/R/library/Rcpp/include" -I/usr/local/include -fpic -g -O2 -Wall -c RcppExports.cpp -o RcppExports.o g++ -std=gnu++11 -I"/home/biocbuild/bbs-3.10-bioc/R/include" -DNDEBUG -I"/home/biocbuild/bbs-3.10-bioc/R/library/Rcpp/include" -I/usr/local/include -fpic -g -O2 -Wall -c scoring.cpp -o scoring.o g++ -std=gnu++11 -shared -L/home/biocbuild/bbs-3.10-bioc/R/lib -L/usr/local/lib -o transite.so RcppExports.o scoring.o -L/home/biocbuild/bbs-3.10-bioc/R/lib -lR installing to /home/biocbuild/bbs-3.10-bioc/R/library/00LOCK-transite/00new/transite/libs ** R ** data ** inst ** byte-compile and prepare package for lazy loading ** help *** installing help indices ** building package indices ** installing vignettes ** testing if installed package can be loaded from temporary location ** checking absolute paths in shared objects and dynamic libraries ** testing if installed package can be loaded from final location ** testing if installed package keeps a record of temporary installation path * DONE (transite)
transite.Rcheck/transite-Ex.timings
| name | user | system | elapsed | |
| RBPMotif-class | 0.004 | 0.000 | 0.005 | |
| SpectrumScore-class | 0.000 | 0.000 | 0.001 | |
| calculateKmerEnrichment | 7.212 | 0.004 | 7.235 | |
| calculateKmerScores | 0.004 | 0.000 | 0.005 | |
| calculateLocalConsistency | 0.680 | 0.024 | 0.705 | |
| calculateMotifEnrichment | 1.608 | 0.004 | 1.614 | |
| calculateTranscriptMC | 0.008 | 0.000 | 0.008 | |
| checkKmers | 0 | 0 | 0 | |
| computeKmerEnrichment | 3.792 | 0.044 | 3.844 | |
| createKmerMotif | 0.000 | 0.000 | 0.002 | |
| createMatrixMotif | 0.004 | 0.000 | 0.002 | |
| drawVolcanoPlot | 0.404 | 0.012 | 0.416 | |
| empiricalEnrichmentMeanCDF | 0.004 | 0.000 | 0.003 | |
| generateIUPACByKmers | 0 | 0 | 0 | |
| generateIUPACByMatrix | 0.004 | 0.000 | 0.001 | |
| generateKmers | 0.112 | 0.004 | 0.118 | |
| generateKmersFromIUPAC | 0.004 | 0.000 | 0.002 | |
| geometricMean | 0.000 | 0.000 | 0.001 | |
| getMotifById | 0.004 | 0.000 | 0.003 | |
| getMotifByRBP | 0.004 | 0.000 | 0.004 | |
| getMotifs | 0 | 0 | 0 | |
| getPPM | 0.004 | 0.000 | 0.005 | |
| initIUPAClookupTable | 0.000 | 0.000 | 0.002 | |
| motifsMetaInfo | 0.020 | 0.004 | 0.025 | |
| pCombine | 0.000 | 0.000 | 0.001 | |
| runKmerSPMA | 50.652 | 0.076 | 50.894 | |
| runKmerTSMA | 56.252 | 0.076 | 56.793 | |
| runMatrixSPMA | 3.068 | 0.028 | 5.130 | |
| runMatrixTSMA | 0.012 | 0.000 | 0.011 | |
| scoreSequences | 0.008 | 0.000 | 0.005 | |
| scoreSpectrum | 1.108 | 0.008 | 1.125 | |
| scoreTranscripts | 0.008 | 0.000 | 0.010 | |
| setMotifs | 0.004 | 0.000 | 0.003 | |
| spectrumClassifier | 1.180 | 0.004 | 1.183 | |
| subdivideData | 0.004 | 0.000 | 0.005 | |