| Back to Multiple platform build/check report for BioC 3.10 |
|
This page was generated on 2020-04-15 12:48:13 -0400 (Wed, 15 Apr 2020).
| Package 1746/1823 | Hostname | OS / Arch | INSTALL | BUILD | CHECK | BUILD BIN | ||||||
| transite 1.4.0 Konstantin Krismer
| malbec1 | Linux (Ubuntu 18.04.4 LTS) / x86_64 | OK | OK | OK | |||||||
| tokay1 | Windows Server 2012 R2 Standard / x64 | OK | OK | OK | OK | |||||||
| merida1 | OS X 10.11.6 El Capitan / x86_64 | OK | OK | [ OK ] | OK |
| Package: transite |
| Version: 1.4.0 |
| Command: /Library/Frameworks/R.framework/Versions/Current/Resources/bin/R CMD check --install=check:transite.install-out.txt --library=/Library/Frameworks/R.framework/Versions/Current/Resources/library --no-vignettes --timings transite_1.4.0.tar.gz |
| StartedAt: 2020-04-15 06:14:06 -0400 (Wed, 15 Apr 2020) |
| EndedAt: 2020-04-15 06:18:57 -0400 (Wed, 15 Apr 2020) |
| EllapsedTime: 291.3 seconds |
| RetCode: 0 |
| Status: OK |
| CheckDir: transite.Rcheck |
| Warnings: 0 |
##############################################################################
##############################################################################
###
### Running command:
###
### /Library/Frameworks/R.framework/Versions/Current/Resources/bin/R CMD check --install=check:transite.install-out.txt --library=/Library/Frameworks/R.framework/Versions/Current/Resources/library --no-vignettes --timings transite_1.4.0.tar.gz
###
##############################################################################
##############################################################################
* using log directory ‘/Users/biocbuild/bbs-3.10-bioc/meat/transite.Rcheck’
* using R version 3.6.3 (2020-02-29)
* using platform: x86_64-apple-darwin15.6.0 (64-bit)
* using session charset: UTF-8
* using option ‘--no-vignettes’
* checking for file ‘transite/DESCRIPTION’ ... OK
* this is package ‘transite’ version ‘1.4.0’
* package encoding: UTF-8
* checking package namespace information ... OK
* checking package dependencies ... OK
* checking if this is a source package ... OK
* checking if there is a namespace ... OK
* checking for hidden files and directories ... OK
* checking for portable file names ... OK
* checking for sufficient/correct file permissions ... OK
* checking whether package ‘transite’ can be installed ... OK
* checking installed package size ... OK
* checking package directory ... OK
* checking ‘build’ directory ... OK
* checking DESCRIPTION meta-information ... OK
* checking top-level files ... OK
* checking for left-over files ... OK
* checking index information ... OK
* checking package subdirectories ... OK
* checking R files for non-ASCII characters ... OK
* checking R files for syntax errors ... OK
* checking whether the package can be loaded ... OK
* checking whether the package can be loaded with stated dependencies ... OK
* checking whether the package can be unloaded cleanly ... OK
* checking whether the namespace can be loaded with stated dependencies ... OK
* checking whether the namespace can be unloaded cleanly ... OK
* checking dependencies in R code ... OK
* checking S3 generic/method consistency ... OK
* checking replacement functions ... OK
* checking foreign function calls ... OK
* checking R code for possible problems ... OK
* checking Rd files ... OK
* checking Rd metadata ... OK
* checking Rd cross-references ... OK
* checking for missing documentation entries ... OK
* checking for code/documentation mismatches ... OK
* checking Rd \usage sections ... OK
* checking Rd contents ... OK
* checking for unstated dependencies in examples ... OK
* checking contents of ‘data’ directory ... OK
* checking data for non-ASCII characters ... OK
* checking data for ASCII and uncompressed saves ... OK
* checking line endings in C/C++/Fortran sources/headers ... OK
* checking compiled code ... NOTE
Note: information on .o files is not available
* checking files in ‘vignettes’ ... OK
* checking examples ... OK
Examples with CPU or elapsed time > 5s
user system elapsed
runKmerSPMA 59.081 0.606 70.908
runKmerTSMA 58.328 0.266 64.368
calculateKmerEnrichment 7.887 0.018 7.975
runMatrixSPMA 3.244 0.076 5.584
* checking for unstated dependencies in vignettes ... OK
* checking package vignettes in ‘inst/doc’ ... OK
* checking running R code from vignettes ... SKIPPED
* checking re-building of vignette outputs ... SKIPPED
* checking PDF version of manual ... OK
* DONE
Status: 1 NOTE
See
‘/Users/biocbuild/bbs-3.10-bioc/meat/transite.Rcheck/00check.log’
for details.
transite.Rcheck/00install.out
############################################################################## ############################################################################## ### ### Running command: ### ### /Library/Frameworks/R.framework/Versions/Current/Resources/bin/R CMD INSTALL transite ### ############################################################################## ############################################################################## * installing to library ‘/Library/Frameworks/R.framework/Versions/3.6/Resources/library’ * installing *source* package ‘transite’ ... ** using staged installation ** libs clang++ -std=gnu++11 -I"/Library/Frameworks/R.framework/Resources/include" -DNDEBUG -I"/Library/Frameworks/R.framework/Versions/3.6/Resources/library/Rcpp/include" -isysroot /Library/Developer/CommandLineTools/SDKs/MacOSX.sdk -I/usr/local/include -fPIC -Wall -g -O2 -c RcppExports.cpp -o RcppExports.o clang++ -std=gnu++11 -I"/Library/Frameworks/R.framework/Resources/include" -DNDEBUG -I"/Library/Frameworks/R.framework/Versions/3.6/Resources/library/Rcpp/include" -isysroot /Library/Developer/CommandLineTools/SDKs/MacOSX.sdk -I/usr/local/include -fPIC -Wall -g -O2 -c scoring.cpp -o scoring.o clang++ -std=gnu++11 -dynamiclib -Wl,-headerpad_max_install_names -undefined dynamic_lookup -single_module -multiply_defined suppress -L/Library/Frameworks/R.framework/Resources/lib -L/usr/local/lib -o transite.so RcppExports.o scoring.o -F/Library/Frameworks/R.framework/.. -framework R -Wl,-framework -Wl,CoreFoundation installing to /Library/Frameworks/R.framework/Versions/3.6/Resources/library/00LOCK-transite/00new/transite/libs ** R ** data ** inst ** byte-compile and prepare package for lazy loading ** help *** installing help indices ** building package indices ** installing vignettes ** testing if installed package can be loaded from temporary location ** checking absolute paths in shared objects and dynamic libraries ** testing if installed package can be loaded from final location ** testing if installed package keeps a record of temporary installation path * DONE (transite)
transite.Rcheck/transite-Ex.timings
| name | user | system | elapsed | |
| RBPMotif-class | 0.005 | 0.000 | 0.006 | |
| SpectrumScore-class | 0.002 | 0.001 | 0.003 | |
| calculateKmerEnrichment | 7.887 | 0.018 | 7.975 | |
| calculateKmerScores | 0.004 | 0.000 | 0.005 | |
| calculateLocalConsistency | 1.013 | 0.016 | 1.035 | |
| calculateMotifEnrichment | 1.432 | 0.028 | 1.477 | |
| calculateTranscriptMC | 0.009 | 0.001 | 0.010 | |
| checkKmers | 0.001 | 0.000 | 0.001 | |
| computeKmerEnrichment | 4.332 | 0.075 | 4.455 | |
| createKmerMotif | 0.003 | 0.000 | 0.004 | |
| createMatrixMotif | 0.005 | 0.000 | 0.005 | |
| drawVolcanoPlot | 0.527 | 0.016 | 0.559 | |
| empiricalEnrichmentMeanCDF | 0.003 | 0.001 | 0.003 | |
| generateIUPACByKmers | 0.001 | 0.000 | 0.001 | |
| generateIUPACByMatrix | 0.004 | 0.000 | 0.004 | |
| generateKmers | 0.167 | 0.004 | 0.174 | |
| generateKmersFromIUPAC | 0.002 | 0.000 | 0.003 | |
| geometricMean | 0 | 0 | 0 | |
| getMotifById | 0.007 | 0.000 | 0.008 | |
| getMotifByRBP | 0.009 | 0.002 | 0.010 | |
| getMotifs | 0.000 | 0.000 | 0.001 | |
| getPPM | 0.010 | 0.001 | 0.010 | |
| initIUPAClookupTable | 0.004 | 0.000 | 0.004 | |
| motifsMetaInfo | 0.037 | 0.007 | 0.045 | |
| pCombine | 0.001 | 0.001 | 0.001 | |
| runKmerSPMA | 59.081 | 0.606 | 70.908 | |
| runKmerTSMA | 58.328 | 0.266 | 64.368 | |
| runMatrixSPMA | 3.244 | 0.076 | 5.584 | |
| runMatrixTSMA | 0.016 | 0.001 | 0.017 | |
| scoreSequences | 0.007 | 0.001 | 0.007 | |
| scoreSpectrum | 1.394 | 0.030 | 1.433 | |
| scoreTranscripts | 0.012 | 0.000 | 0.013 | |
| setMotifs | 0.002 | 0.000 | 0.002 | |
| spectrumClassifier | 1.395 | 0.029 | 1.435 | |
| subdivideData | 0.005 | 0.000 | 0.006 | |