| Back to Multiple platform build/check report for BioC 3.10 | 
  | 
This page was generated on 2020-03-05 12:53:19 -0500 (Thu, 05 Mar 2020).
| Package 250/1823 | Hostname | OS / Arch | INSTALL | BUILD | CHECK | BUILD BIN | ||||||
| cellTree 1.16.0 David duVerle 
  | malbec1 | Linux (Ubuntu 18.04.4 LTS) / x86_64 | OK | OK | OK | |||||||
| tokay1 | Windows Server 2012 R2 Standard / x64 | OK | OK | WARNINGS | [ OK ] | |||||||
| merida1 | OS X 10.11.6 El Capitan / x86_64 | OK | OK | OK | OK | 
| Package: cellTree | 
| Version: 1.16.0 | 
| Command: rm -rf cellTree.buildbin-libdir && mkdir cellTree.buildbin-libdir && C:\Users\biocbuild\bbs-3.10-bioc\R\bin\R.exe CMD INSTALL --merge-multiarch --build --library=cellTree.buildbin-libdir cellTree_1.16.0.tar.gz | 
| StartedAt: 2020-03-05 08:44:59 -0500 (Thu, 05 Mar 2020) | 
| EndedAt: 2020-03-05 08:45:40 -0500 (Thu, 05 Mar 2020) | 
| EllapsedTime: 41.4 seconds | 
| RetCode: 0 | 
| Status: OK | 
| PackageFile: cellTree_1.16.0.zip | 
| PackageFileSize: 1.018 MiB | 
##############################################################################
##############################################################################
###
### Running command:
###
###   rm -rf cellTree.buildbin-libdir && mkdir cellTree.buildbin-libdir && C:\Users\biocbuild\bbs-3.10-bioc\R\bin\R.exe CMD INSTALL --merge-multiarch --build --library=cellTree.buildbin-libdir cellTree_1.16.0.tar.gz
###
##############################################################################
##############################################################################
install for i386
* installing *source* package 'cellTree' ...
** using staged installation
** R
** data
*** moving datasets to lazyload DB
** inst
** byte-compile and prepare package for lazy loading
groupGOTerms: 	GOBPTerm, GOMFTerm, GOCCTerm environments built.
** help
*** installing help indices
  converting help for package 'cellTree'
    finding HTML links ... done
    HSMM_lda_model                          html  
    cell.ordering.table                     html  
Rd warning: C:/Users/biocbuild/bbs-3.10-bioc/tmpdir/RtmpCgFCWA/R.INSTALL386c3eb477ad/cellTree/man/cell.ordering.table.Rd:10: file link 'igraph' in package 'igraph' does not exist and so has been treated as a topic
    cellTree-package                        html  
    compute.backbone.tree                   html  
Rd warning: C:/Users/biocbuild/bbs-3.10-bioc/tmpdir/RtmpCgFCWA/R.INSTALL386c3eb477ad/cellTree/man/compute.backbone.tree.Rd:34: file link 'igraph' in package 'igraph' does not exist and so has been treated as a topic
    compute.go.enrichment                   html  
Rd warning: C:/Users/biocbuild/bbs-3.10-bioc/tmpdir/RtmpCgFCWA/R.INSTALL386c3eb477ad/cellTree/man/compute.go.enrichment.Rd:30: file link 'igraph' in package 'igraph' does not exist and so has been treated as a topic
    compute.lda                             html  
Rd warning: C:/Users/biocbuild/bbs-3.10-bioc/tmpdir/RtmpCgFCWA/R.INSTALL386c3eb477ad/cellTree/man/compute.lda.Rd:25: file link 'LDA-class' in package 'topicmodels' does not exist and so has been treated as a topic
Rd warning: C:/Users/biocbuild/bbs-3.10-bioc/tmpdir/RtmpCgFCWA/R.INSTALL386c3eb477ad/cellTree/man/compute.lda.Rd:69: file link 'LDA' in package 'topicmodels' does not exist and so has been treated as a topic
Rd warning: C:/Users/biocbuild/bbs-3.10-bioc/tmpdir/RtmpCgFCWA/R.INSTALL386c3eb477ad/cellTree/man/compute.lda.Rd:69: file link 'LDA_Gibbscontrol-class' in package 'topicmodels' does not exist and so has been treated as a topic
Rd warning: C:/Users/biocbuild/bbs-3.10-bioc/tmpdir/RtmpCgFCWA/R.INSTALL386c3eb477ad/cellTree/man/compute.lda.Rd:69: file link 'CTM_VEMcontrol-class' in package 'topicmodels' does not exist and so has been treated as a topic
    ct.plot.go.dag                          html  
Rd warning: C:/Users/biocbuild/bbs-3.10-bioc/tmpdir/RtmpCgFCWA/R.INSTALL386c3eb477ad/cellTree/man/ct.plot.go.dag.Rd:27: file link 'igraph' in package 'igraph' does not exist and so has been treated as a topic
    ct.plot.grouping                        html  
Rd warning: C:/Users/biocbuild/bbs-3.10-bioc/tmpdir/RtmpCgFCWA/R.INSTALL386c3eb477ad/cellTree/man/ct.plot.grouping.Rd:12: file link 'igraph' in package 'igraph' does not exist and so has been treated as a topic
Rd warning: C:/Users/biocbuild/bbs-3.10-bioc/tmpdir/RtmpCgFCWA/R.INSTALL386c3eb477ad/cellTree/man/ct.plot.grouping.Rd:31: file link 'igraph' in package 'igraph' does not exist and so has been treated as a topic
    ct.plot.heatmap                         html  
    ct.plot.topics                          html  
Rd warning: C:/Users/biocbuild/bbs-3.10-bioc/tmpdir/RtmpCgFCWA/R.INSTALL386c3eb477ad/cellTree/man/ct.plot.topics.Rd:12: file link 'igraph' in package 'igraph' does not exist and so has been treated as a topic
Rd warning: C:/Users/biocbuild/bbs-3.10-bioc/tmpdir/RtmpCgFCWA/R.INSTALL386c3eb477ad/cellTree/man/ct.plot.topics.Rd:27: file link 'igraph' in package 'igraph' does not exist and so has been treated as a topic
    get.cell.dists                          html  
    go.results.to.latex                     html  
** building package indices
** installing vignettes
** testing if installed package can be loaded from temporary location
groupGOTerms: 	GOBPTerm, GOMFTerm, GOCCTerm environments built.
** testing if installed package can be loaded from final location
groupGOTerms: 	GOBPTerm, GOMFTerm, GOCCTerm environments built.
** testing if installed package keeps a record of temporary installation path
install for x64
* installing *source* package 'cellTree' ...
** testing if installed package can be loaded
groupGOTerms: 	GOBPTerm, GOMFTerm, GOCCTerm environments built.
* MD5 sums
packaged installation of 'cellTree' as cellTree_1.16.0.zip
* DONE (cellTree)