| Back to Multiple platform build/check report for BioC 3.10 |
|
This page was generated on 2020-04-15 12:25:58 -0400 (Wed, 15 Apr 2020).
| Package 250/1823 | Hostname | OS / Arch | INSTALL | BUILD | CHECK | BUILD BIN | ||||||
| cellTree 1.16.0 David duVerle
| malbec1 | Linux (Ubuntu 18.04.4 LTS) / x86_64 | ERROR | ERROR | skipped | |||||||
| tokay1 | Windows Server 2012 R2 Standard / x64 | [ ERROR ] | ERROR | skipped | skipped | |||||||
| merida1 | OS X 10.11.6 El Capitan / x86_64 | ERROR | ERROR | skipped | skipped |
| Package: cellTree |
| Version: 1.16.0 |
| Command: C:\cygwin\bin\curl.exe -O https://malbec1.bioconductor.org/BBS/3.10/bioc/src/contrib/cellTree_1.16.0.tar.gz && rm -rf cellTree.buildbin-libdir && mkdir cellTree.buildbin-libdir && C:\Users\biocbuild\bbs-3.10-bioc\R\bin\R.exe CMD INSTALL --merge-multiarch --build --library=cellTree.buildbin-libdir cellTree_1.16.0.tar.gz && C:\Users\biocbuild\bbs-3.10-bioc\R\bin\R.exe CMD INSTALL cellTree_1.16.0.zip && rm cellTree_1.16.0.tar.gz cellTree_1.16.0.zip |
| StartedAt: 2020-04-14 20:42:23 -0400 (Tue, 14 Apr 2020) |
| EndedAt: 2020-04-14 20:42:24 -0400 (Tue, 14 Apr 2020) |
| EllapsedTime: 1.0 seconds |
| RetCode: 1 |
| Status: ERROR |
##############################################################################
##############################################################################
###
### Running command:
###
### C:\cygwin\bin\curl.exe -O https://malbec1.bioconductor.org/BBS/3.10/bioc/src/contrib/cellTree_1.16.0.tar.gz && rm -rf cellTree.buildbin-libdir && mkdir cellTree.buildbin-libdir && C:\Users\biocbuild\bbs-3.10-bioc\R\bin\R.exe CMD INSTALL --merge-multiarch --build --library=cellTree.buildbin-libdir cellTree_1.16.0.tar.gz && C:\Users\biocbuild\bbs-3.10-bioc\R\bin\R.exe CMD INSTALL cellTree_1.16.0.zip && rm cellTree_1.16.0.tar.gz cellTree_1.16.0.zip
###
##############################################################################
##############################################################################
% Total % Received % Xferd Average Speed Time Time Time Current
Dload Upload Total Spent Left Speed
0 0 0 0 0 0 0 0 --:--:-- --:--:-- --:--:-- 0
100 499k 100 499k 0 0 5589k 0 --:--:-- --:--:-- --:--:-- 5805k
install for i386
ERROR: dependency 'maptpx' is not available for package 'cellTree'
* removing 'C:/Users/biocbuild/bbs-3.10-bioc/meat/cellTree.buildbin-libdir/cellTree'