| Back to Multiple platform build/check report for BioC 3.10 |
|
This page was generated on 2020-04-15 12:25:58 -0400 (Wed, 15 Apr 2020).
| Package 250/1823 | Hostname | OS / Arch | INSTALL | BUILD | CHECK | BUILD BIN | ||||||
| cellTree 1.16.0 David duVerle
| malbec1 | Linux (Ubuntu 18.04.4 LTS) / x86_64 | ERROR | ERROR | skipped | |||||||
| tokay1 | Windows Server 2012 R2 Standard / x64 | ERROR | [ ERROR ] | skipped | skipped | |||||||
| merida1 | OS X 10.11.6 El Capitan / x86_64 | ERROR | ERROR | skipped | skipped |
| Package: cellTree |
| Version: 1.16.0 |
| Command: chmod a+r cellTree -R && C:\Users\biocbuild\bbs-3.10-bioc\R\bin\R.exe CMD build --keep-empty-dirs --no-resave-data cellTree |
| StartedAt: 2020-04-14 22:44:35 -0400 (Tue, 14 Apr 2020) |
| EndedAt: 2020-04-14 22:44:38 -0400 (Tue, 14 Apr 2020) |
| EllapsedTime: 2.5 seconds |
| RetCode: 1 |
| Status: ERROR |
| PackageFile: cellTree_1.16.0.tar.gz |
| PackageFileSize: 499.2 KiB |
##############################################################################
##############################################################################
###
### Running command:
###
### chmod a+r cellTree -R && C:\Users\biocbuild\bbs-3.10-bioc\R\bin\R.exe CMD build --keep-empty-dirs --no-resave-data cellTree
###
##############################################################################
##############################################################################
* checking for file 'cellTree/DESCRIPTION' ... OK
* preparing 'cellTree':
* checking DESCRIPTION meta-information ... OK
* installing the package to build vignettes
-----------------------------------
ERROR: dependency 'maptpx' is not available for package 'cellTree'
* removing 'C:/Users/biocbuild/bbs-3.10-bioc/tmpdir/RtmpOmGcCL/Rinst18208272efd/cellTree'
-----------------------------------
ERROR: package installation failed