| Back to Multiple platform build/check report for BioC 3.10 |
|
This page was generated on 2020-04-15 12:29:07 -0400 (Wed, 15 Apr 2020).
| Package 1105/1823 | Hostname | OS / Arch | INSTALL | BUILD | CHECK | BUILD BIN | ||||||
| MSstatsQC 2.4.1 Eralp Dogu
| malbec1 | Linux (Ubuntu 18.04.4 LTS) / x86_64 | ERROR | ERROR | skipped | |||||||
| tokay1 | Windows Server 2012 R2 Standard / x64 | ERROR | [ ERROR ] | skipped | skipped | |||||||
| merida1 | OS X 10.11.6 El Capitan / x86_64 | ERROR | ERROR | skipped | skipped |
| Package: MSstatsQC |
| Version: 2.4.1 |
| Command: chmod a+r MSstatsQC -R && C:\Users\biocbuild\bbs-3.10-bioc\R\bin\R.exe CMD build --keep-empty-dirs --no-resave-data MSstatsQC |
| StartedAt: 2020-04-14 23:48:41 -0400 (Tue, 14 Apr 2020) |
| EndedAt: 2020-04-14 23:48:43 -0400 (Tue, 14 Apr 2020) |
| EllapsedTime: 2.0 seconds |
| RetCode: 1 |
| Status: ERROR |
| PackageFile: MSstatsQC_2.4.1.tar.gz |
| PackageFileSize: 429.8 KiB |
##############################################################################
##############################################################################
###
### Running command:
###
### chmod a+r MSstatsQC -R && C:\Users\biocbuild\bbs-3.10-bioc\R\bin\R.exe CMD build --keep-empty-dirs --no-resave-data MSstatsQC
###
##############################################################################
##############################################################################
* checking for file 'MSstatsQC/DESCRIPTION' ... OK
* preparing 'MSstatsQC':
* checking DESCRIPTION meta-information ... OK
* installing the package to build vignettes
-----------------------------------
* installing *source* package 'MSstatsQC' ...
** using staged installation
** R
Error in parse(outFile) :
C:/Users/biocbuild/bbs-3.10-bioc/tmpdir/RtmpwPBVFg/Rbuild24e877b33932/MSstatsQC/R/DataValidation.R:48:1: unexpected input
47: #auotomatically change RT to Retention Time)
48: <<
^
ERROR: unable to collate and parse R files for package 'MSstatsQC'
* removing 'C:/Users/biocbuild/bbs-3.10-bioc/tmpdir/RtmpwPBVFg/Rinst24e8476bd30/MSstatsQC'
-----------------------------------
ERROR: package installation failed