| Back to Multiple platform build/check report for BioC 3.10 |
|
This page was generated on 2020-04-15 12:46:04 -0400 (Wed, 15 Apr 2020).
| Package 1105/1823 | Hostname | OS / Arch | INSTALL | BUILD | CHECK | BUILD BIN | ||||||
| MSstatsQC 2.4.1 Eralp Dogu
| malbec1 | Linux (Ubuntu 18.04.4 LTS) / x86_64 | ERROR | ERROR | skipped | |||||||
| tokay1 | Windows Server 2012 R2 Standard / x64 | ERROR | ERROR | skipped | skipped | |||||||
| merida1 | OS X 10.11.6 El Capitan / x86_64 | [ ERROR ] | ERROR | skipped | skipped |
| Package: MSstatsQC |
| Version: 2.4.1 |
| Command: /Library/Frameworks/R.framework/Versions/Current/Resources/bin/R CMD INSTALL MSstatsQC |
| StartedAt: 2020-04-14 19:19:30 -0400 (Tue, 14 Apr 2020) |
| EndedAt: 2020-04-14 19:19:43 -0400 (Tue, 14 Apr 2020) |
| EllapsedTime: 12.4 seconds |
| RetCode: 1 |
| Status: ERROR |
##############################################################################
##############################################################################
###
### Running command:
###
### /Library/Frameworks/R.framework/Versions/Current/Resources/bin/R CMD INSTALL MSstatsQC
###
##############################################################################
##############################################################################
* installing to library ‘/Library/Frameworks/R.framework/Versions/3.6/Resources/library’
* installing *source* package ‘MSstatsQC’ ...
** using staged installation
** R
Error in parse(outFile) :
/Users/biocbuild/bbs-3.10-bioc/meat/MSstatsQC/R/DataValidation.R:48:1: unexpected input
47: #auotomatically change RT to Retention Time)
48: <<
^
ERROR: unable to collate and parse R files for package ‘MSstatsQC’
* removing ‘/Library/Frameworks/R.framework/Versions/3.6/Resources/library/MSstatsQC’
* restoring previous ‘/Library/Frameworks/R.framework/Versions/3.6/Resources/library/MSstatsQC’