| Back to Multiple platform build/check report for BioC 3.10 |
|
This page was generated on 2020-04-15 12:13:14 -0400 (Wed, 15 Apr 2020).
| Package 1105/1823 | Hostname | OS / Arch | INSTALL | BUILD | CHECK | BUILD BIN | ||||||
| MSstatsQC 2.4.1 Eralp Dogu
| malbec1 | Linux (Ubuntu 18.04.4 LTS) / x86_64 | ERROR | [ ERROR ] | skipped | |||||||
| tokay1 | Windows Server 2012 R2 Standard / x64 | ERROR | ERROR | skipped | skipped | |||||||
| merida1 | OS X 10.11.6 El Capitan / x86_64 | ERROR | ERROR | skipped | skipped |
| Package: MSstatsQC |
| Version: 2.4.1 |
| Command: /home/biocbuild/bbs-3.10-bioc/R/bin/R CMD build --keep-empty-dirs --no-resave-data MSstatsQC |
| StartedAt: 2020-04-14 22:42:18 -0400 (Tue, 14 Apr 2020) |
| EndedAt: 2020-04-14 22:42:19 -0400 (Tue, 14 Apr 2020) |
| EllapsedTime: 1.0 seconds |
| RetCode: 1 |
| Status: ERROR |
| PackageFile: None |
| PackageFileSize: NA |
##############################################################################
##############################################################################
###
### Running command:
###
### /home/biocbuild/bbs-3.10-bioc/R/bin/R CMD build --keep-empty-dirs --no-resave-data MSstatsQC
###
##############################################################################
##############################################################################
* checking for file ‘MSstatsQC/DESCRIPTION’ ... OK
* preparing ‘MSstatsQC’:
* checking DESCRIPTION meta-information ... OK
* installing the package to build vignettes
-----------------------------------
* installing *source* package ‘MSstatsQC’ ...
** using staged installation
** R
Error in parse(outFile) :
/tmp/RtmpQ7DmOa/Rbuild26d832dfc92b/MSstatsQC/R/DataValidation.R:48:1: unexpected input
47: #auotomatically change RT to Retention Time)
48: <<
^
ERROR: unable to collate and parse R files for package ‘MSstatsQC’
* removing ‘/tmp/RtmpQ7DmOa/Rinst26d83a7d3144/MSstatsQC’
-----------------------------------
ERROR: package installation failed