| Back to Multiple platform build/check report for BioC 3.10 |
|
This page was generated on 2020-03-19 13:40:31 -0400 (Thu, 19 Mar 2020).
| Package 1074/1823 | Hostname | OS / Arch | INSTALL | BUILD | CHECK | BUILD BIN | ||||||
| MMUPHin 1.0.0 Siyuan MA
| malbec1 | Linux (Ubuntu 18.04.4 LTS) / x86_64 | OK | OK | OK | |||||||
| tokay1 | Windows Server 2012 R2 Standard / x64 | OK | OK | OK | OK | |||||||
| merida1 | OS X 10.11.6 El Capitan / x86_64 | OK | OK | OK | [ OK ] |
| Package: MMUPHin |
| Version: 1.0.0 |
| Command: rm -rf MMUPHin.buildbin-libdir && mkdir MMUPHin.buildbin-libdir && /Users/biocbuild/BBS/utils/build-universal.sh MMUPHin_1.0.0.tar.gz /Library/Frameworks/R.framework/Versions/Current/Resources/bin/R MMUPHin.buildbin-libdir |
| StartedAt: 2020-03-19 08:14:12 -0400 (Thu, 19 Mar 2020) |
| EndedAt: 2020-03-19 08:15:08 -0400 (Thu, 19 Mar 2020) |
| EllapsedTime: 56.1 seconds |
| RetCode: 0 |
| Status: OK |
| PackageFile: MMUPHin_1.0.0.tgz |
| PackageFileSize: 1.275 MiB |
############################################################################## ############################################################################## ### ### Running command: ### ### rm -rf MMUPHin.buildbin-libdir && mkdir MMUPHin.buildbin-libdir && /Users/biocbuild/BBS/utils/build-universal.sh MMUPHin_1.0.0.tar.gz /Library/Frameworks/R.framework/Versions/Current/Resources/bin/R MMUPHin.buildbin-libdir ### ############################################################################## ############################################################################## >>>>>>> >>>>>>> INSTALLATION WITH 'R CMD INSTALL --preclean --no-multiarch --library=MMUPHin.buildbin-libdir MMUPHin_1.0.0.tar.gz' >>>>>>> * installing *source* package ‘MMUPHin’ ... ** using staged installation ** R ** data ** inst ** byte-compile and prepare package for lazy loading ** help *** installing help indices ** building package indices ** installing vignettes ** testing if installed package can be loaded from temporary location ** testing if installed package can be loaded from final location ** testing if installed package keeps a record of temporary installation path * DONE (MMUPHin)