| Back to Multiple platform build/check report for BioC 3.10 |
|
This page was generated on 2020-04-15 12:16:27 -0400 (Wed, 15 Apr 2020).
| Package 1074/1823 | Hostname | OS / Arch | INSTALL | BUILD | CHECK | BUILD BIN | ||||||
| MMUPHin 1.0.0 Siyuan MA
| malbec1 | Linux (Ubuntu 18.04.4 LTS) / x86_64 | OK | [ OK ] | OK | |||||||
| tokay1 | Windows Server 2012 R2 Standard / x64 | OK | OK | OK | OK | |||||||
| merida1 | OS X 10.11.6 El Capitan / x86_64 | OK | ERROR | skipped | skipped |
| Package: MMUPHin |
| Version: 1.0.0 |
| Command: /home/biocbuild/bbs-3.10-bioc/R/bin/R CMD build --keep-empty-dirs --no-resave-data MMUPHin |
| StartedAt: 2020-04-14 23:58:10 -0400 (Tue, 14 Apr 2020) |
| EndedAt: 2020-04-14 23:59:14 -0400 (Tue, 14 Apr 2020) |
| EllapsedTime: 64.0 seconds |
| RetCode: 0 |
| Status: OK |
| PackageFile: MMUPHin_1.0.0.tar.gz |
| PackageFileSize: 1.097 MiB |
############################################################################## ############################################################################## ### ### Running command: ### ### /home/biocbuild/bbs-3.10-bioc/R/bin/R CMD build --keep-empty-dirs --no-resave-data MMUPHin ### ############################################################################## ############################################################################## * checking for file ‘MMUPHin/DESCRIPTION’ ... OK * preparing ‘MMUPHin’: * checking DESCRIPTION meta-information ... OK * installing the package to build vignettes * creating vignettes ... OK * checking for LF line-endings in source and make files and shell scripts * checking for empty or unneeded directories * looking to see if a ‘data/datalist’ file should be added * building ‘MMUPHin_1.0.0.tar.gz’