| Back to Multiple platform build/check report for BioC 3.10 |
|
This page was generated on 2020-04-15 12:24:01 -0400 (Wed, 15 Apr 2020).
| Package 200/1823 | Hostname | OS / Arch | INSTALL | BUILD | CHECK | BUILD BIN | ||||||
| BridgeDbR 1.20.3 Egon Willighagen
| malbec1 | Linux (Ubuntu 18.04.4 LTS) / x86_64 | OK | OK | OK | |||||||
| tokay1 | Windows Server 2012 R2 Standard / x64 | [ OK ] | OK | ERROR | OK | |||||||
| merida1 | OS X 10.11.6 El Capitan / x86_64 | OK | OK | OK | OK |
| Package: BridgeDbR |
| Version: 1.20.3 |
| Command: C:\cygwin\bin\curl.exe -O https://malbec1.bioconductor.org/BBS/3.10/bioc/src/contrib/BridgeDbR_1.20.3.tar.gz && rm -rf BridgeDbR.buildbin-libdir && mkdir BridgeDbR.buildbin-libdir && C:\Users\biocbuild\bbs-3.10-bioc\R\bin\R.exe CMD INSTALL --merge-multiarch --build --library=BridgeDbR.buildbin-libdir BridgeDbR_1.20.3.tar.gz && C:\Users\biocbuild\bbs-3.10-bioc\R\bin\R.exe CMD INSTALL BridgeDbR_1.20.3.zip && rm BridgeDbR_1.20.3.tar.gz BridgeDbR_1.20.3.zip |
| StartedAt: 2020-04-14 18:43:03 -0400 (Tue, 14 Apr 2020) |
| EndedAt: 2020-04-14 18:44:36 -0400 (Tue, 14 Apr 2020) |
| EllapsedTime: 93.0 seconds |
| RetCode: 0 |
| Status: OK |
##############################################################################
##############################################################################
###
### Running command:
###
### C:\cygwin\bin\curl.exe -O https://malbec1.bioconductor.org/BBS/3.10/bioc/src/contrib/BridgeDbR_1.20.3.tar.gz && rm -rf BridgeDbR.buildbin-libdir && mkdir BridgeDbR.buildbin-libdir && C:\Users\biocbuild\bbs-3.10-bioc\R\bin\R.exe CMD INSTALL --merge-multiarch --build --library=BridgeDbR.buildbin-libdir BridgeDbR_1.20.3.tar.gz && C:\Users\biocbuild\bbs-3.10-bioc\R\bin\R.exe CMD INSTALL BridgeDbR_1.20.3.zip && rm BridgeDbR_1.20.3.tar.gz BridgeDbR_1.20.3.zip
###
##############################################################################
##############################################################################
% Total % Received % Xferd Average Speed Time Time Time Current
Dload Upload Total Spent Left Speed
0 0 0 0 0 0 0 0 --:--:-- --:--:-- --:--:-- 0
100 2407k 100 2407k 0 0 27.7M 0 --:--:-- --:--:-- --:--:-- 29.0M
install for i386
* installing *source* package 'BridgeDbR' ...
** using staged installation
** R
** inst
** byte-compile and prepare package for lazy loading
** help
*** installing help indices
converting help for package 'BridgeDbR'
finding HTML links ... done
BridgeDbR html
fullNameExists html
getAttributes html
getBridgeNames html
getDataSource html
getDatabase html
getFullName html
getMatchingSources html
getOrganismCode html
getSystemCode html
loadDatabase html
map html
registerDataSource html
systemCodeExists html
** building package indices
** installing vignettes
** testing if installed package can be loaded from temporary location
** testing if installed package can be loaded from final location
** testing if installed package keeps a record of temporary installation path
install for x64
* installing *source* package 'BridgeDbR' ...
** testing if installed package can be loaded
* MD5 sums
packaged installation of 'BridgeDbR' as BridgeDbR_1.20.3.zip
* DONE (BridgeDbR)
* installing to library 'C:/Users/biocbuild/bbs-3.10-bioc/R/library'
package 'BridgeDbR' successfully unpacked and MD5 sums checked