| Back to Multiple platform build/check report for BioC 3.10 |
|
This page was generated on 2020-04-15 12:24:02 -0400 (Wed, 15 Apr 2020).
| Package 200/1823 | Hostname | OS / Arch | INSTALL | BUILD | CHECK | BUILD BIN | ||||||
| BridgeDbR 1.20.3 Egon Willighagen
| malbec1 | Linux (Ubuntu 18.04.4 LTS) / x86_64 | OK | OK | OK | |||||||
| tokay1 | Windows Server 2012 R2 Standard / x64 | OK | [ OK ] | ERROR | OK | |||||||
| merida1 | OS X 10.11.6 El Capitan / x86_64 | OK | OK | OK | OK |
| Package: BridgeDbR |
| Version: 1.20.3 |
| Command: chmod a+r BridgeDbR -R && C:\Users\biocbuild\bbs-3.10-bioc\R\bin\R.exe CMD build --keep-empty-dirs --no-resave-data BridgeDbR |
| StartedAt: 2020-04-14 22:18:28 -0400 (Tue, 14 Apr 2020) |
| EndedAt: 2020-04-14 22:18:37 -0400 (Tue, 14 Apr 2020) |
| EllapsedTime: 9.3 seconds |
| RetCode: 0 |
| Status: OK |
| PackageFile: BridgeDbR_1.20.3.tar.gz |
| PackageFileSize: 2.623 MiB |
############################################################################## ############################################################################## ### ### Running command: ### ### chmod a+r BridgeDbR -R && C:\Users\biocbuild\bbs-3.10-bioc\R\bin\R.exe CMD build --keep-empty-dirs --no-resave-data BridgeDbR ### ############################################################################## ############################################################################## * checking for file 'BridgeDbR/DESCRIPTION' ... OK * preparing 'BridgeDbR': * checking DESCRIPTION meta-information ... OK * installing the package to build vignettes * creating vignettes ... OK * checking for LF line-endings in source and make files and shell scripts * checking for empty or unneeded directories * building 'BridgeDbR_1.20.3.tar.gz'