| Back to Multiple platform build/check report for BioC 3.10 |
|
This page was generated on 2020-04-15 12:24:02 -0400 (Wed, 15 Apr 2020).
| Package 200/1823 | Hostname | OS / Arch | INSTALL | BUILD | CHECK | BUILD BIN | ||||||
| BridgeDbR 1.20.3 Egon Willighagen
| malbec1 | Linux (Ubuntu 18.04.4 LTS) / x86_64 | OK | OK | OK | |||||||
| tokay1 | Windows Server 2012 R2 Standard / x64 | OK | OK | ERROR | [ OK ] | |||||||
| merida1 | OS X 10.11.6 El Capitan / x86_64 | OK | OK | OK | OK |
| Package: BridgeDbR |
| Version: 1.20.3 |
| Command: rm -rf BridgeDbR.buildbin-libdir && mkdir BridgeDbR.buildbin-libdir && C:\Users\biocbuild\bbs-3.10-bioc\R\bin\R.exe CMD INSTALL --merge-multiarch --build --library=BridgeDbR.buildbin-libdir BridgeDbR_1.20.3.tar.gz |
| StartedAt: 2020-04-15 08:19:13 -0400 (Wed, 15 Apr 2020) |
| EndedAt: 2020-04-15 08:19:34 -0400 (Wed, 15 Apr 2020) |
| EllapsedTime: 21.0 seconds |
| RetCode: 0 |
| Status: OK |
| PackageFile: BridgeDbR_1.20.3.zip |
| PackageFileSize: 2.665 MiB |
##############################################################################
##############################################################################
###
### Running command:
###
### rm -rf BridgeDbR.buildbin-libdir && mkdir BridgeDbR.buildbin-libdir && C:\Users\biocbuild\bbs-3.10-bioc\R\bin\R.exe CMD INSTALL --merge-multiarch --build --library=BridgeDbR.buildbin-libdir BridgeDbR_1.20.3.tar.gz
###
##############################################################################
##############################################################################
install for i386
* installing *source* package 'BridgeDbR' ...
** using staged installation
** R
** inst
** byte-compile and prepare package for lazy loading
** help
*** installing help indices
converting help for package 'BridgeDbR'
finding HTML links ... done
BridgeDbR html
fullNameExists html
getAttributes html
getBridgeNames html
getDataSource html
getDatabase html
getFullName html
getMatchingSources html
getOrganismCode html
getSystemCode html
loadDatabase html
map html
registerDataSource html
systemCodeExists html
** building package indices
** installing vignettes
** testing if installed package can be loaded from temporary location
** testing if installed package can be loaded from final location
** testing if installed package keeps a record of temporary installation path
install for x64
* installing *source* package 'BridgeDbR' ...
** testing if installed package can be loaded
* MD5 sums
packaged installation of 'BridgeDbR' as BridgeDbR_1.20.3.zip
* DONE (BridgeDbR)