Back to Workflows build report for BioC 3.21

This page was generated on 2025-07-22 16:30 -0400 (Tue, 22 Jul 2025).

HostnameOSArch (*)R versionInstalled pkgs
nebbiolo1Linux (Ubuntu 24.04.2 LTS)x86_644.5.1 (2025-06-13) -- "Great Square Root" 4821
palomino7Windows Server 2022 Datacenterx644.5.1 (2025-06-13 ucrt) -- "Great Square Root" 4563
merida1macOS 12.7.5 Montereyx86_644.5.1 RC (2025-06-05 r88288) -- "Great Square Root" 4601
Click on any hostname to see more info about the system (e.g. compilers)      (*) as reported by 'uname -p', except on Windows and Mac OS X

Package 18/30HostnameOS / ArchINSTALLBUILD
methylationArrayAnalysis 1.32.0  (landing page)
Jovana Maksimovic
Snapshot Date: 2025-07-22 12:45 -0400 (Tue, 22 Jul 2025)
git_url: https://git.bioconductor.org/packages/methylationArrayAnalysis
git_branch: RELEASE_3_21
git_last_commit: 793d642
git_last_commit_date: 2025-05-29 01:03:35 -0400 (Thu, 29 May 2025)
nebbiolo1Linux (Ubuntu 24.04.2 LTS) / x86_64  OK    ERROR  
palomino7Windows Server 2022 Datacenter / x64  OK    ERROR  
merida1macOS 12.7.5 Monterey / x86_64  OK    OK  


INSTALL results for methylationArrayAnalysis on palomino7

To the developers/maintainers of the methylationArrayAnalysis package:
- Use the following Renviron settings to reproduce errors and warnings.
- If 'R CMD check' started to fail recently on the Linux builder(s) over a missing dependency, add the missing dependency to 'Suggests:' in your DESCRIPTION file. See Renviron.bioc for more information.

raw results


Summary

Package: methylationArrayAnalysis
Version: 1.32.0
Command: E:\biocbuild\bbs-3.21-bioc\R\bin\R.exe CMD INSTALL methylationArrayAnalysis
StartedAt: 2025-07-22 13:02:05 -0400 (Tue, 22 Jul 2025)
EndedAt: 2025-07-22 13:05:50 -0400 (Tue, 22 Jul 2025)
EllapsedTime: 225.2 seconds
RetCode: 0
Status:   OK  

Command output

##############################################################################
##############################################################################
###
### Running command:
###
###   E:\biocbuild\bbs-3.21-bioc\R\bin\R.exe CMD INSTALL methylationArrayAnalysis
###
##############################################################################
##############################################################################


* installing to library 'E:/biocbuild/bbs-3.21-bioc/R/library'
* installing *source* package 'methylationArrayAnalysis' ...
** this is package 'methylationArrayAnalysis' version '1.32.0'
** using staged installation
** inst
** help
No man pages found in package  'methylationArrayAnalysis' 
*** installing help indices
** building package indices
** installing vignettes
** testing if installed package can be loaded from temporary location
** testing if installed package can be loaded from final location
** testing if installed package keeps a record of temporary installation path
* DONE (methylationArrayAnalysis)