| Back to Rapid builds (Linux only) of a subset of BioC 3.22 Report updated every 6 hours |
This page was generated on 2025-10-30 14:25 -0400 (Thu, 30 Oct 2025).
| Hostname | OS | Arch (*) | R version | Installed pkgs |
|---|---|---|---|---|
| teran2 | Linux (Ubuntu 24.04.3 LTS) | x86_64 | 4.5.1 (2025-06-13) -- "Great Square Root" | 896 |
| Click on any hostname to see more info about the system (e.g. compilers) (*) as reported by 'uname -p', except on Windows and Mac OS X | ||||
| Package 140/229 | Hostname | OS / Arch | INSTALL | BUILD | CHECK | |||||||
| metagenomeSeq 1.53.0 (landing page) Joseph N. Paulson
| teran2 | Linux (Ubuntu 24.04.3 LTS) / x86_64 | OK | OK | OK | |||||||
|
To the developers/maintainers of the metagenomeSeq package: - Use the following Renviron settings to reproduce errors and warnings. - If 'R CMD check' started to fail recently on the Linux builder(s) over a missing dependency, add the missing dependency to 'Suggests:' in your DESCRIPTION file. See Renviron.bioc for more information. |
| Package: metagenomeSeq |
| Version: 1.53.0 |
| Command: /home/rapidbuild/bbs-3.22-bioc-rapid/R/bin/R CMD check --install=check:metagenomeSeq.install-out.txt --library=/home/rapidbuild/bbs-3.22-bioc-rapid/R/site-library --timings metagenomeSeq_1.53.0.tar.gz |
| StartedAt: 2025-10-30 13:46:02 -0400 (Thu, 30 Oct 2025) |
| EndedAt: 2025-10-30 13:48:51 -0400 (Thu, 30 Oct 2025) |
| EllapsedTime: 169.9 seconds |
| RetCode: 0 |
| Status: OK |
| CheckDir: metagenomeSeq.Rcheck |
| Warnings: 0 |
##############################################################################
##############################################################################
###
### Running command:
###
### /home/rapidbuild/bbs-3.22-bioc-rapid/R/bin/R CMD check --install=check:metagenomeSeq.install-out.txt --library=/home/rapidbuild/bbs-3.22-bioc-rapid/R/site-library --timings metagenomeSeq_1.53.0.tar.gz
###
##############################################################################
##############################################################################
* using log directory ‘/media/volume/teran2_disk/rapidbuild/bbs-3.22-bioc-rapid/meat/metagenomeSeq.Rcheck’
* using R version 4.5.1 (2025-06-13)
* using platform: x86_64-pc-linux-gnu
* R was compiled by
gcc (Ubuntu 13.3.0-6ubuntu2~24.04) 13.3.0
GNU Fortran (Ubuntu 13.3.0-6ubuntu2~24.04) 13.3.0
* running under: Ubuntu 24.04.3 LTS
* using session charset: UTF-8
* checking for file ‘metagenomeSeq/DESCRIPTION’ ... OK
* this is package ‘metagenomeSeq’ version ‘1.53.0’
* checking package namespace information ... OK
* checking package dependencies ... OK
* checking if this is a source package ... OK
* checking if there is a namespace ... OK
* checking for hidden files and directories ... OK
* checking for portable file names ... OK
* checking for sufficient/correct file permissions ... OK
* checking whether package ‘metagenomeSeq’ can be installed ... OK
* checking installed package size ... OK
* checking package directory ... OK
* checking ‘build’ directory ... OK
* checking DESCRIPTION meta-information ... OK
* checking top-level files ... OK
* checking for left-over files ... OK
* checking index information ... OK
* checking package subdirectories ... OK
* checking code files for non-ASCII characters ... OK
* checking R files for syntax errors ... OK
* checking whether the package can be loaded ... OK
* checking whether the package can be loaded with stated dependencies ... OK
* checking whether the package can be unloaded cleanly ... OK
* checking whether the namespace can be loaded with stated dependencies ... OK
* checking whether the namespace can be unloaded cleanly ... OK
* checking loading without being on the library search path ... OK
* checking dependencies in R code ... OK
* checking S3 generic/method consistency ... OK
* checking replacement functions ... OK
* checking foreign function calls ... OK
* checking R code for possible problems ... OK
* checking Rd files ... OK
* checking Rd metadata ... OK
* checking Rd cross-references ... OK
* checking for missing documentation entries ... OK
* checking for code/documentation mismatches ... OK
* checking Rd \usage sections ... OK
* checking Rd contents ... OK
* checking for unstated dependencies in examples ... OK
* checking contents of ‘data’ directory ... OK
* checking data for non-ASCII characters ... OK
* checking data for ASCII and uncompressed saves ... OK
* checking files in ‘vignettes’ ... OK
* checking examples ... OK
Examples with CPU (user + system) or elapsed time > 5s
user system elapsed
wrenchNorm 8.117 0.318 8.444
* checking for unstated dependencies in ‘tests’ ... OK
* checking tests ...
Running ‘testthat.R’
OK
* checking for unstated dependencies in vignettes ... OK
* checking package vignettes ... OK
* checking re-building of vignette outputs ... OK
* checking PDF version of manual ... OK
* DONE
Status: OK
metagenomeSeq.Rcheck/00install.out
############################################################################## ############################################################################## ### ### Running command: ### ### /home/rapidbuild/bbs-3.22-bioc-rapid/R/bin/R CMD INSTALL metagenomeSeq ### ############################################################################## ############################################################################## * installing to library ‘/media/volume/teran2_disk/rapidbuild/bbs-3.22-bioc-rapid/R/site-library’ * installing *source* package ‘metagenomeSeq’ ... ** this is package ‘metagenomeSeq’ version ‘1.53.0’ ** using staged installation ** R ** data ** inst ** byte-compile and prepare package for lazy loading in method for ‘MRihw’ with signature ‘"fitFeatureModelResults"’: no definition for class “fitFeatureModelResults” in method for ‘MRihw’ with signature ‘"fitZigResults"’: no definition for class “fitZigResults” ** help *** installing help indices ** building package indices ** installing vignettes ** testing if installed package can be loaded from temporary location ** testing if installed package can be loaded from final location ** testing if installed package keeps a record of temporary installation path * DONE (metagenomeSeq)
metagenomeSeq.Rcheck/tests/testthat.Rout
R version 4.5.1 (2025-06-13) -- "Great Square Root"
Copyright (C) 2025 The R Foundation for Statistical Computing
Platform: x86_64-pc-linux-gnu
R is free software and comes with ABSOLUTELY NO WARRANTY.
You are welcome to redistribute it under certain conditions.
Type 'license()' or 'licence()' for distribution details.
R is a collaborative project with many contributors.
Type 'contributors()' for more information and
'citation()' on how to cite R or R packages in publications.
Type 'demo()' for some demos, 'help()' for on-line help, or
'help.start()' for an HTML browser interface to help.
Type 'q()' to quit R.
> library("testthat")
> packageVersion("metagenomeSeq")
[1] '1.53.0'
> # As suggested for opt-out option on testing by users,
> # recommended by CRAN: http://adv-r.had.co.nz/Testing.html
> # Previously, best practice was to put all test files in inst/tests
> # and ensure that R CMD check ran them by putting the following code in tests/test-all.R:
> # >library(testthat)
> # >library(yourpackage)
> # >test_package("yourpackage")
> # Now, recommended practice is to put your tests in tests/testthat,
> # and ensure R CMD check runs them by putting the following code in tests/test-all.R:
> # >library(testthat)
> # >test_check("yourpackage")
> # The advantage of this new structure is that the user has control over whether or not tests are installed using the –install-tests parameter to
> # R CMD install, or INSTALL_opts = c(“–install-tests”) argument to install.packages(). I’m not sure why you wouldn’t want to install the tests,
> # but now you have the flexibility as requested by CRAN maintainers.
> test_check("metagenomeSeq")
Loading required package: metagenomeSeq
Loading required package: Biobase
Loading required package: BiocGenerics
Loading required package: generics
Attaching package: 'generics'
The following objects are masked from 'package:base':
as.difftime, as.factor, as.ordered, intersect, is.element, setdiff,
setequal, union
Attaching package: 'BiocGenerics'
The following objects are masked from 'package:stats':
IQR, mad, sd, var, xtabs
The following objects are masked from 'package:base':
Filter, Find, Map, Position, Reduce, anyDuplicated, aperm, append,
as.data.frame, basename, cbind, colnames, dirname, do.call,
duplicated, eval, evalq, get, grep, grepl, is.unsorted, lapply,
mapply, match, mget, order, paste, pmax, pmax.int, pmin, pmin.int,
rank, rbind, rownames, sapply, saveRDS, table, tapply, unique,
unsplit, which.max, which.min
Welcome to Bioconductor
Vignettes contain introductory material; view with
'browseVignettes()'. To cite Bioconductor, see
'citation("Biobase")', and for packages 'citation("pkgname")'.
Loading required package: limma
Attaching package: 'limma'
The following object is masked from 'package:BiocGenerics':
plotMA
Loading required package: glmnet
Loading required package: Matrix
Loaded glmnet 4.1-10
Loading required package: RColorBrewer
[ FAIL 0 | WARN 6 | SKIP 0 | PASS 15 ]
[ FAIL 0 | WARN 6 | SKIP 0 | PASS 15 ]
>
> proc.time()
user system elapsed
53.891 1.443 55.347
metagenomeSeq.Rcheck/metagenomeSeq-Ex.timings
| name | user | system | elapsed | |
| MRcoefs | 0.733 | 0.055 | 0.789 | |
| MRcounts | 0.325 | 0.022 | 0.347 | |
| MRexperiment-class | 0 | 0 | 0 | |
| MRfulltable | 0.637 | 0.037 | 3.491 | |
| MRtable | 0.623 | 0.005 | 0.630 | |
| aggregateBySample | 0.095 | 0.010 | 0.106 | |
| aggregateByTaxonomy | 0.108 | 0.009 | 0.118 | |
| biom2MRexperiment | 0.130 | 0.004 | 0.134 | |
| calcNormFactors | 0.387 | 0.016 | 0.403 | |
| correctIndices | 0.077 | 0.007 | 0.085 | |
| correlationTest | 0.148 | 0.016 | 0.165 | |
| cumNorm | 0.241 | 0.014 | 0.255 | |
| cumNormMat | 0.256 | 0.027 | 0.284 | |
| cumNormStat | 0.410 | 0.011 | 0.421 | |
| cumNormStatFast | 0.179 | 0.009 | 0.188 | |
| expSummary | 0.070 | 0.007 | 0.076 | |
| exportMat | 0.628 | 0.632 | 1.260 | |
| exportStats | 0.239 | 0.002 | 0.241 | |
| extractMR | 0.376 | 0.299 | 0.675 | |
| filterData | 0.106 | 0.012 | 0.118 | |
| fitDO | 0.235 | 0.004 | 1.818 | |
| fitFeatureModel | 0.664 | 0.040 | 0.703 | |
| fitLogNormal | 0.941 | 0.026 | 0.967 | |
| fitMultipleTimeSeries | 1.131 | 0.017 | 1.148 | |
| fitPA | 0.233 | 0.006 | 1.933 | |
| fitSSTimeSeries | 0.255 | 0.007 | 0.262 | |
| fitTimeSeries | 0.243 | 0.012 | 0.254 | |
| fitZig | 0.987 | 0.004 | 0.991 | |
| libSize-set | 0.188 | 0.020 | 0.208 | |
| libSize | 0.182 | 0.000 | 0.182 | |
| loadBiom | 0.023 | 0.000 | 0.023 | |
| loadMeta | 0.010 | 0.000 | 0.012 | |
| loadMetaQ | 0 | 0 | 0 | |
| loadPhenoData | 0.004 | 0.000 | 0.006 | |
| makeLabels | 0.000 | 0.001 | 0.000 | |
| mergeMRexperiments | 0.984 | 0.249 | 1.234 | |
| newMRexperiment | 0.016 | 0.000 | 0.016 | |
| normFactors-set | 0.188 | 0.002 | 0.189 | |
| normFactors | 0.176 | 0.020 | 0.196 | |
| plotBubble | 0.165 | 0.032 | 1.763 | |
| plotClassTimeSeries | 0.619 | 0.037 | 0.657 | |
| plotCorr | 0.262 | 0.033 | 0.295 | |
| plotFeature | 0.101 | 0.017 | 0.118 | |
| plotGenus | 0.085 | 0.021 | 0.107 | |
| plotMRheatmap | 1.122 | 0.023 | 1.145 | |
| plotOTU | 0.089 | 0.010 | 0.099 | |
| plotOrd | 0.131 | 0.010 | 0.140 | |
| plotRare | 0.084 | 0.010 | 0.096 | |
| plotTimeSeries | 0.613 | 0.012 | 0.626 | |
| posteriorProbs | 0.935 | 0.050 | 0.986 | |
| returnAppropriateObj | 0.177 | 0.002 | 0.179 | |
| ssFit | 0 | 0 | 0 | |
| ssIntervalCandidate | 0 | 0 | 0 | |
| ssPerm | 0 | 0 | 0 | |
| ssPermAnalysis | 0 | 0 | 0 | |
| trapz | 0.001 | 0.000 | 0.000 | |
| ts2MRexperiment | 0.927 | 0.010 | 0.936 | |
| uniqueFeatures | 0.076 | 0.009 | 0.084 | |
| wrenchNorm | 8.117 | 0.318 | 8.444 | |
| zigControl | 0 | 0 | 0 | |