| Back to Rapid builds (Linux only) of a subset of BioC 3.22 Report updated every 6 hours |
This page was generated on 2025-10-30 14:25 -0400 (Thu, 30 Oct 2025).
LibPath Version Built
abind /media/volume/teran2_disk/rapidbuild/bbs-3.22-bioc-rapid/R/site-library 1.4-8 4.5.1
ada /media/volume/teran2_disk/rapidbuild/bbs-3.22-bioc-rapid/R/site-library 2.0-5 4.5.1
ade4 /media/volume/teran2_disk/rapidbuild/bbs-3.22-bioc-rapid/R/site-library 1.7-23 4.5.1
affxparser /media/volume/teran2_disk/rapidbuild/bbs-3.22-bioc-rapid/R/site-library 1.83.0 4.5.1
affy /media/volume/teran2_disk/rapidbuild/bbs-3.22-bioc-rapid/R/site-library 1.89.0 4.5.1
affydata /media/volume/teran2_disk/rapidbuild/bbs-3.22-bioc-rapid/R/site-library 1.57.0 4.5.1
affyio /media/volume/teran2_disk/rapidbuild/bbs-3.22-bioc-rapid/R/site-library 1.81.0 4.5.1
AffymetrixDataTestFiles /media/volume/teran2_disk/rapidbuild/bbs-3.22-bioc-rapid/R/site-library 0.47.0 4.5.1
affyPLM /media/volume/teran2_disk/rapidbuild/bbs-3.22-bioc-rapid/R/site-library 1.87.0 4.5.1
aggregation /media/volume/teran2_disk/rapidbuild/bbs-3.22-bioc-rapid/R/site-library 1.0.1 4.5.1
airway /media/volume/teran2_disk/rapidbuild/bbs-3.22-bioc-rapid/R/site-library 1.29.0 4.5.1
akima /media/volume/teran2_disk/rapidbuild/bbs-3.22-bioc-rapid/R/site-library 0.6-3.6 4.5.1
alabaster.base /media/volume/teran2_disk/rapidbuild/bbs-3.22-bioc-rapid/R/site-library 1.11.0 4.5.1
alabaster.matrix /media/volume/teran2_disk/rapidbuild/bbs-3.22-bioc-rapid/R/site-library 1.11.0 4.5.1
alabaster.ranges /media/volume/teran2_disk/rapidbuild/bbs-3.22-bioc-rapid/R/site-library 1.11.0 4.5.1
alabaster.sce /media/volume/teran2_disk/rapidbuild/bbs-3.22-bioc-rapid/R/site-library 1.11.0 4.5.1
alabaster.schemas /media/volume/teran2_disk/rapidbuild/bbs-3.22-bioc-rapid/R/site-library 1.11.0 4.5.1
alabaster.se /media/volume/teran2_disk/rapidbuild/bbs-3.22-bioc-rapid/R/site-library 1.11.0 4.5.1
ALL /media/volume/teran2_disk/rapidbuild/bbs-3.22-bioc-rapid/R/site-library 1.51.0 4.5.1
anndata /media/volume/teran2_disk/rapidbuild/bbs-3.22-bioc-rapid/R/site-library 0.8.0 4.5.1
annotate /media/volume/teran2_disk/rapidbuild/bbs-3.22-bioc-rapid/R/site-library 1.89.0 4.5.1
AnnotationDbi /media/volume/teran2_disk/rapidbuild/bbs-3.22-bioc-rapid/R/site-library 1.73.0 4.5.1
AnnotationFilter /media/volume/teran2_disk/rapidbuild/bbs-3.22-bioc-rapid/R/site-library 1.35.0 4.5.1
AnnotationForge /media/volume/teran2_disk/rapidbuild/bbs-3.22-bioc-rapid/R/site-library 1.53.0 4.5.1
apcluster /media/volume/teran2_disk/rapidbuild/bbs-3.22-bioc-rapid/R/site-library 1.4.14 4.5.1
ape /media/volume/teran2_disk/rapidbuild/bbs-3.22-bioc-rapid/R/site-library 5.8-1 4.5.1
apeglm /media/volume/teran2_disk/rapidbuild/bbs-3.22-bioc-rapid/R/site-library 1.33.0 4.5.1
aplot /media/volume/teran2_disk/rapidbuild/bbs-3.22-bioc-rapid/R/site-library 0.2.9 4.5.1
aroma.light /media/volume/teran2_disk/rapidbuild/bbs-3.22-bioc-rapid/R/site-library 3.41.0 4.5.1
arrow /media/volume/teran2_disk/rapidbuild/bbs-3.22-bioc-rapid/R/site-library 22.0.0 4.5.1
ash /media/volume/teran2_disk/rapidbuild/bbs-3.22-bioc-rapid/R/site-library 1.0-15 4.5.1
ashr /media/volume/teran2_disk/rapidbuild/bbs-3.22-bioc-rapid/R/site-library 2.2-63 4.5.1
askpass /media/volume/teran2_disk/rapidbuild/bbs-3.22-bioc-rapid/R/site-library 1.2.1 4.5.1
assertthat /media/volume/teran2_disk/rapidbuild/bbs-3.22-bioc-rapid/R/site-library 0.2.1 4.5.1
assorthead /media/volume/teran2_disk/rapidbuild/bbs-3.22-bioc-rapid/R/site-library 1.5.0 4.5.1
available /media/volume/teran2_disk/rapidbuild/bbs-3.22-bioc-rapid/R/site-library 1.1.0 4.5.1
aws.s3 /media/volume/teran2_disk/rapidbuild/bbs-3.22-bioc-rapid/R/site-library 0.3.22 4.5.1
aws.signature /media/volume/teran2_disk/rapidbuild/bbs-3.22-bioc-rapid/R/site-library 0.6.0 4.5.1
babelgene /media/volume/teran2_disk/rapidbuild/bbs-3.22-bioc-rapid/R/site-library 22.9 4.5.1
backports /media/volume/teran2_disk/rapidbuild/bbs-3.22-bioc-rapid/R/site-library 1.5.0 4.5.1
bamsignals /media/volume/teran2_disk/rapidbuild/bbs-3.22-bioc-rapid/R/site-library 1.43.0 4.5.1
base64 /media/volume/teran2_disk/rapidbuild/bbs-3.22-bioc-rapid/R/site-library 2.0.2 4.5.1
base64enc /media/volume/teran2_disk/rapidbuild/bbs-3.22-bioc-rapid/R/site-library 0.1-3 4.5.1
base64url /media/volume/teran2_disk/rapidbuild/bbs-3.22-bioc-rapid/R/site-library 1.4 4.5.1
basilisk /media/volume/teran2_disk/rapidbuild/bbs-3.22-bioc-rapid/R/site-library 1.23.0 4.5.1
basilisk.utils /media/volume/teran2_disk/rapidbuild/bbs-3.22-bioc-rapid/R/site-library 1.23.0 4.5.1
batchelor /media/volume/teran2_disk/rapidbuild/bbs-3.22-bioc-rapid/R/site-library 1.27.0 4.5.1
batchtools /media/volume/teran2_disk/rapidbuild/bbs-3.22-bioc-rapid/R/site-library 0.9.18 4.5.1
BBmisc /media/volume/teran2_disk/rapidbuild/bbs-3.22-bioc-rapid/R/site-library 1.13 4.5.1
bbmle /media/volume/teran2_disk/rapidbuild/bbs-3.22-bioc-rapid/R/site-library 1.0.25.1 4.5.1
bdsmatrix /media/volume/teran2_disk/rapidbuild/bbs-3.22-bioc-rapid/R/site-library 1.3-7 4.5.1
beachmat /media/volume/teran2_disk/rapidbuild/bbs-3.22-bioc-rapid/R/site-library 2.27.0 4.5.1
beachmat.hdf5 /media/volume/teran2_disk/rapidbuild/bbs-3.22-bioc-rapid/R/site-library 1.9.0 4.5.1
beanplot /media/volume/teran2_disk/rapidbuild/bbs-3.22-bioc-rapid/R/site-library 1.3.1 4.5.1
beeswarm /media/volume/teran2_disk/rapidbuild/bbs-3.22-bioc-rapid/R/site-library 0.4.0 4.5.1
bench /media/volume/teran2_disk/rapidbuild/bbs-3.22-bioc-rapid/R/site-library 1.1.4 4.5.1
benchmarkme /media/volume/teran2_disk/rapidbuild/bbs-3.22-bioc-rapid/R/site-library 1.0.8 4.5.1
benchmarkmeData /media/volume/teran2_disk/rapidbuild/bbs-3.22-bioc-rapid/R/site-library 1.0.4 4.5.1
berryFunctions /media/volume/teran2_disk/rapidbuild/bbs-3.22-bioc-rapid/R/site-library 1.22.13 4.5.1
bezier /media/volume/teran2_disk/rapidbuild/bbs-3.22-bioc-rapid/R/site-library 1.1.2 4.5.1
BH /media/volume/teran2_disk/rapidbuild/bbs-3.22-bioc-rapid/R/site-library 1.87.0-1 4.5.1
BiasedUrn /media/volume/teran2_disk/rapidbuild/bbs-3.22-bioc-rapid/R/site-library 2.0.12 4.5.1
bibtex /media/volume/teran2_disk/rapidbuild/bbs-3.22-bioc-rapid/R/site-library 0.5.1 4.5.1
Biobase /media/volume/teran2_disk/rapidbuild/bbs-3.22-bioc-rapid/R/site-library 2.71.0 4.5.1
BiocBaseUtils /media/volume/teran2_disk/rapidbuild/bbs-3.22-bioc-rapid/R/site-library 1.13.0 4.5.1
BiocCheck /media/volume/teran2_disk/rapidbuild/bbs-3.22-bioc-rapid/R/site-library 1.47.0 4.5.1
BiocFileCache /media/volume/teran2_disk/rapidbuild/bbs-3.22-bioc-rapid/R/site-library 3.1.0 4.5.1
BiocGenerics /media/volume/teran2_disk/rapidbuild/bbs-3.22-bioc-rapid/R/site-library 0.57.0 4.5.1
BiocIO /media/volume/teran2_disk/rapidbuild/bbs-3.22-bioc-rapid/R/site-library 1.21.0 4.5.1
biocmake /media/volume/teran2_disk/rapidbuild/bbs-3.22-bioc-rapid/R/site-library 1.3.0 4.5.1
BiocManager /media/volume/teran2_disk/rapidbuild/bbs-3.22-bioc-rapid/R/site-library 1.30.26 4.5.1
BiocNeighbors /media/volume/teran2_disk/rapidbuild/bbs-3.22-bioc-rapid/R/site-library 2.5.0 4.5.1
BiocParallel /media/volume/teran2_disk/rapidbuild/bbs-3.22-bioc-rapid/R/site-library 1.45.0 4.5.1
BiocPkgTools /media/volume/teran2_disk/rapidbuild/bbs-3.22-bioc-rapid/R/site-library 1.29.0 4.5.1
BiocSingular /media/volume/teran2_disk/rapidbuild/bbs-3.22-bioc-rapid/R/site-library 1.27.0 4.5.1
BiocStyle /media/volume/teran2_disk/rapidbuild/bbs-3.22-bioc-rapid/R/site-library 2.39.0 4.5.1
biocthis /media/volume/teran2_disk/rapidbuild/bbs-3.22-bioc-rapid/R/site-library 1.21.0 4.5.1
biocViews /media/volume/teran2_disk/rapidbuild/bbs-3.22-bioc-rapid/R/site-library 1.79.0 4.5.1
biomaRt /media/volume/teran2_disk/rapidbuild/bbs-3.22-bioc-rapid/R/site-library 2.67.0 4.5.1
biomformat /media/volume/teran2_disk/rapidbuild/bbs-3.22-bioc-rapid/R/site-library 1.39.0 4.5.1
Biostrings /media/volume/teran2_disk/rapidbuild/bbs-3.22-bioc-rapid/R/site-library 2.79.0 4.5.1
bit /media/volume/teran2_disk/rapidbuild/bbs-3.22-bioc-rapid/R/site-library 4.6.0 4.5.1
bit64 /media/volume/teran2_disk/rapidbuild/bbs-3.22-bioc-rapid/R/site-library 4.6.0-1 4.5.1
bitops /media/volume/teran2_disk/rapidbuild/bbs-3.22-bioc-rapid/R/site-library 1.0-9 4.5.1
bladderbatch /media/volume/teran2_disk/rapidbuild/bbs-3.22-bioc-rapid/R/site-library 1.47.0 4.5.1
blastula /media/volume/teran2_disk/rapidbuild/bbs-3.22-bioc-rapid/R/site-library 0.3.6 4.5.1
blob /media/volume/teran2_disk/rapidbuild/bbs-3.22-bioc-rapid/R/site-library 1.2.4 4.5.1
bluster /media/volume/teran2_disk/rapidbuild/bbs-3.22-bioc-rapid/R/site-library 1.21.0 4.5.1
bookdown /media/volume/teran2_disk/rapidbuild/bbs-3.22-bioc-rapid/R/site-library 0.45 4.5.1
brew /media/volume/teran2_disk/rapidbuild/bbs-3.22-bioc-rapid/R/site-library 1.0-10 4.5.1
brio /media/volume/teran2_disk/rapidbuild/bbs-3.22-bioc-rapid/R/site-library 1.1.5 4.5.1
broom /media/volume/teran2_disk/rapidbuild/bbs-3.22-bioc-rapid/R/site-library 1.0.10 4.5.1
BSgenome.Celegans.UCSC.ce11 /media/volume/teran2_disk/rapidbuild/bbs-3.22-bioc-rapid/R/site-library 1.4.2 4.5.1
BSgenome.Celegans.UCSC.ce2 /media/volume/teran2_disk/rapidbuild/bbs-3.22-bioc-rapid/R/site-library 1.4.0 4.5.1
BSgenome.Dmelanogaster.UCSC.dm3 /media/volume/teran2_disk/rapidbuild/bbs-3.22-bioc-rapid/R/site-library 1.4.0 4.5.1
BSgenome.Drerio.UCSC.danRer10 /media/volume/teran2_disk/rapidbuild/bbs-3.22-bioc-rapid/R/site-library 1.4.2 4.5.1
BSgenome.Ggallus.UCSC.galGal3 /media/volume/teran2_disk/rapidbuild/bbs-3.22-bioc-rapid/R/site-library 1.4.0 4.5.1
BSgenome.Hsapiens.NCBI.GRCh38 /media/volume/teran2_disk/rapidbuild/bbs-3.22-bioc-rapid/R/site-library 1.3.1000 4.5.1
BSgenome.Hsapiens.UCSC.hg18 /media/volume/teran2_disk/rapidbuild/bbs-3.22-bioc-rapid/R/site-library 1.3.1000 4.5.1
BSgenome.Hsapiens.UCSC.hg19 /media/volume/teran2_disk/rapidbuild/bbs-3.22-bioc-rapid/R/site-library 1.4.3 4.5.1
BSgenome.Hsapiens.UCSC.hg19.masked /media/volume/teran2_disk/rapidbuild/bbs-3.22-bioc-rapid/R/site-library 1.3.993 4.5.1
BSgenome.Hsapiens.UCSC.hg38 /media/volume/teran2_disk/rapidbuild/bbs-3.22-bioc-rapid/R/site-library 1.4.5 4.5.1
BSgenome.Hsapiens.UCSC.hg38.masked /media/volume/teran2_disk/rapidbuild/bbs-3.22-bioc-rapid/R/site-library 1.4.5 4.5.1
BSgenome.Mmusculus.UCSC.mm10 /media/volume/teran2_disk/rapidbuild/bbs-3.22-bioc-rapid/R/site-library 1.4.3 4.5.1
BSgenome.Rnorvegicus.UCSC.rn5 /media/volume/teran2_disk/rapidbuild/bbs-3.22-bioc-rapid/R/site-library 1.4.0 4.5.1
BSgenome.Scerevisiae.UCSC.sacCer1 /media/volume/teran2_disk/rapidbuild/bbs-3.22-bioc-rapid/R/site-library 1.4.0 4.5.1
BSgenome.Scerevisiae.UCSC.sacCer2 /media/volume/teran2_disk/rapidbuild/bbs-3.22-bioc-rapid/R/site-library 1.4.0 4.5.1
bslib /media/volume/teran2_disk/rapidbuild/bbs-3.22-bioc-rapid/R/site-library 0.9.0 4.5.1
bsseqData /media/volume/teran2_disk/rapidbuild/bbs-3.22-bioc-rapid/R/site-library 0.47.0 4.5.1
BumpyMatrix /media/volume/teran2_disk/rapidbuild/bbs-3.22-bioc-rapid/R/site-library 1.19.0 4.5.1
c3net /media/volume/teran2_disk/rapidbuild/bbs-3.22-bioc-rapid/R/site-library 1.1.1.1 4.5.1
cachem /media/volume/teran2_disk/rapidbuild/bbs-3.22-bioc-rapid/R/site-library 1.1.0 4.5.1
Cairo /media/volume/teran2_disk/rapidbuild/bbs-3.22-bioc-rapid/R/site-library 1.7-0 4.5.1
callr /media/volume/teran2_disk/rapidbuild/bbs-3.22-bioc-rapid/R/site-library 3.7.6 4.5.1
car /media/volume/teran2_disk/rapidbuild/bbs-3.22-bioc-rapid/R/site-library 3.1-3 4.5.1
carData /media/volume/teran2_disk/rapidbuild/bbs-3.22-bioc-rapid/R/site-library 3.0-5 4.5.1
caret /media/volume/teran2_disk/rapidbuild/bbs-3.22-bioc-rapid/R/site-library 7.0-1 4.5.1
Category /media/volume/teran2_disk/rapidbuild/bbs-3.22-bioc-rapid/R/site-library 2.77.0 4.5.1
caTools /media/volume/teran2_disk/rapidbuild/bbs-3.22-bioc-rapid/R/site-library 1.18.3 4.5.1
celldex /media/volume/teran2_disk/rapidbuild/bbs-3.22-bioc-rapid/R/site-library 1.19.0 4.5.1
checkmate /media/volume/teran2_disk/rapidbuild/bbs-3.22-bioc-rapid/R/site-library 2.3.3 4.5.1
ChemmineDrugs /media/volume/teran2_disk/rapidbuild/bbs-3.22-bioc-rapid/R/site-library 1.0.2 4.5.1
ChemmineOB /media/volume/teran2_disk/rapidbuild/bbs-3.22-bioc-rapid/R/site-library 1.49.0 4.5.1
ChemmineR /media/volume/teran2_disk/rapidbuild/bbs-3.22-bioc-rapid/R/site-library 3.63.0 4.5.1
chihaya /media/volume/teran2_disk/rapidbuild/bbs-3.22-bioc-rapid/R/site-library 1.11.0 4.5.1
circlize /media/volume/teran2_disk/rapidbuild/bbs-3.22-bioc-rapid/R/site-library 0.4.16 4.5.1
classInt /media/volume/teran2_disk/rapidbuild/bbs-3.22-bioc-rapid/R/site-library 0.4-11 4.5.1
cli /media/volume/teran2_disk/rapidbuild/bbs-3.22-bioc-rapid/R/site-library 3.6.5 4.5.1
clipr /media/volume/teran2_disk/rapidbuild/bbs-3.22-bioc-rapid/R/site-library 0.8.0 4.5.1
clisymbols /media/volume/teran2_disk/rapidbuild/bbs-3.22-bioc-rapid/R/site-library 1.2.0 4.5.1
clock /media/volume/teran2_disk/rapidbuild/bbs-3.22-bioc-rapid/R/site-library 0.7.3 4.5.1
clue /media/volume/teran2_disk/rapidbuild/bbs-3.22-bioc-rapid/R/site-library 0.3-66 4.5.1
clusterProfiler /media/volume/teran2_disk/rapidbuild/bbs-3.22-bioc-rapid/R/site-library 4.19.0 4.5.1
ClusterR /media/volume/teran2_disk/rapidbuild/bbs-3.22-bioc-rapid/R/site-library 1.3.5 4.5.1
coda /media/volume/teran2_disk/rapidbuild/bbs-3.22-bioc-rapid/R/site-library 0.19-4.1 4.5.1
coin /media/volume/teran2_disk/rapidbuild/bbs-3.22-bioc-rapid/R/site-library 1.4-3 4.5.1
colorspace /media/volume/teran2_disk/rapidbuild/bbs-3.22-bioc-rapid/R/site-library 2.1-2 4.5.1
combinat /media/volume/teran2_disk/rapidbuild/bbs-3.22-bioc-rapid/R/site-library 0.0-8 4.5.1
commonmark /media/volume/teran2_disk/rapidbuild/bbs-3.22-bioc-rapid/R/site-library 2.0.0 4.5.1
ComplexHeatmap /media/volume/teran2_disk/rapidbuild/bbs-3.22-bioc-rapid/R/site-library 2.27.0 4.5.1
CompoundDb /media/volume/teran2_disk/rapidbuild/bbs-3.22-bioc-rapid/R/site-library 1.15.0 4.5.1
config /media/volume/teran2_disk/rapidbuild/bbs-3.22-bioc-rapid/R/site-library 0.3.2 4.5.1
ConsensusClusterPlus /media/volume/teran2_disk/rapidbuild/bbs-3.22-bioc-rapid/R/site-library 1.75.0 4.5.1
corpcor /media/volume/teran2_disk/rapidbuild/bbs-3.22-bioc-rapid/R/site-library 1.6.10 4.5.1
corrplot /media/volume/teran2_disk/rapidbuild/bbs-3.22-bioc-rapid/R/site-library 0.95 4.5.1
covr /media/volume/teran2_disk/rapidbuild/bbs-3.22-bioc-rapid/R/site-library 3.6.4 4.5.1
cowplot /media/volume/teran2_disk/rapidbuild/bbs-3.22-bioc-rapid/R/site-library 1.2.0 4.5.1
cpp11 /media/volume/teran2_disk/rapidbuild/bbs-3.22-bioc-rapid/R/site-library 0.5.2 4.5.1
crayon /media/volume/teran2_disk/rapidbuild/bbs-3.22-bioc-rapid/R/site-library 1.5.3 4.5.1
credentials /media/volume/teran2_disk/rapidbuild/bbs-3.22-bioc-rapid/R/site-library 2.0.3 4.5.1
crosstalk /media/volume/teran2_disk/rapidbuild/bbs-3.22-bioc-rapid/R/site-library 1.2.2 4.5.1
crul /media/volume/teran2_disk/rapidbuild/bbs-3.22-bioc-rapid/R/site-library 1.6.0 4.5.1
csaw /media/volume/teran2_disk/rapidbuild/bbs-3.22-bioc-rapid/R/site-library 1.45.0 4.5.1
curl /media/volume/teran2_disk/rapidbuild/bbs-3.22-bioc-rapid/R/site-library 7.0.0 4.5.1
cytolib /media/volume/teran2_disk/rapidbuild/bbs-3.22-bioc-rapid/R/site-library 2.23.0 4.5.1
CytoML /media/volume/teran2_disk/rapidbuild/bbs-3.22-bioc-rapid/R/site-library 2.23.0 4.5.1
data.table /media/volume/teran2_disk/rapidbuild/bbs-3.22-bioc-rapid/R/site-library 1.17.8 4.5.1
data.tree /media/volume/teran2_disk/rapidbuild/bbs-3.22-bioc-rapid/R/site-library 1.2.0 4.5.1
DBI /media/volume/teran2_disk/rapidbuild/bbs-3.22-bioc-rapid/R/site-library 1.2.3 4.5.1
dbplyr /media/volume/teran2_disk/rapidbuild/bbs-3.22-bioc-rapid/R/site-library 2.5.1 4.5.1
DECIPHER /media/volume/teran2_disk/rapidbuild/bbs-3.22-bioc-rapid/R/site-library 3.7.0 4.5.1
DelayedArray /media/volume/teran2_disk/rapidbuild/bbs-3.22-bioc-rapid/R/site-library 0.37.0 4.5.1
DelayedMatrixStats /media/volume/teran2_disk/rapidbuild/bbs-3.22-bioc-rapid/R/site-library 1.33.0 4.5.1
deldir /media/volume/teran2_disk/rapidbuild/bbs-3.22-bioc-rapid/R/site-library 2.0-4 4.5.1
dendextend /media/volume/teran2_disk/rapidbuild/bbs-3.22-bioc-rapid/R/site-library 1.19.1 4.5.1
dendsort /media/volume/teran2_disk/rapidbuild/bbs-3.22-bioc-rapid/R/site-library 0.3.4 4.5.1
densvis /media/volume/teran2_disk/rapidbuild/bbs-3.22-bioc-rapid/R/site-library 1.21.0 4.5.1
DEoptimR /media/volume/teran2_disk/rapidbuild/bbs-3.22-bioc-rapid/R/site-library 1.1-4 4.5.1
Deriv /media/volume/teran2_disk/rapidbuild/bbs-3.22-bioc-rapid/R/site-library 4.2.0 4.5.1
desc /media/volume/teran2_disk/rapidbuild/bbs-3.22-bioc-rapid/R/site-library 1.4.3 4.5.1
DESeq2 /media/volume/teran2_disk/rapidbuild/bbs-3.22-bioc-rapid/R/site-library 1.51.0 4.5.1
deSolve /media/volume/teran2_disk/rapidbuild/bbs-3.22-bioc-rapid/R/site-library 1.40 4.5.1
devtools /media/volume/teran2_disk/rapidbuild/bbs-3.22-bioc-rapid/R/site-library 2.4.6 4.5.1
DEXSeq /media/volume/teran2_disk/rapidbuild/bbs-3.22-bioc-rapid/R/site-library 1.57.0 4.5.1
diagram /media/volume/teran2_disk/rapidbuild/bbs-3.22-bioc-rapid/R/site-library 1.6.5 4.5.1
DiagrammeR /media/volume/teran2_disk/rapidbuild/bbs-3.22-bioc-rapid/R/site-library 1.0.11 4.5.1
dichromat /media/volume/teran2_disk/rapidbuild/bbs-3.22-bioc-rapid/R/site-library 2.0-0.1 4.5.1
diffobj /media/volume/teran2_disk/rapidbuild/bbs-3.22-bioc-rapid/R/site-library 0.3.6 4.5.1
digest /media/volume/teran2_disk/rapidbuild/bbs-3.22-bioc-rapid/R/site-library 0.6.37 4.5.1
diptest /media/volume/teran2_disk/rapidbuild/bbs-3.22-bioc-rapid/R/site-library 0.77-2 4.5.1
dir.expiry /media/volume/teran2_disk/rapidbuild/bbs-3.22-bioc-rapid/R/site-library 1.19.0 4.5.1
DirichletMultinomial /media/volume/teran2_disk/rapidbuild/bbs-3.22-bioc-rapid/R/site-library 1.53.0 4.5.1
DNAcopy /media/volume/teran2_disk/rapidbuild/bbs-3.22-bioc-rapid/R/site-library 1.85.0 4.5.1
DO.db /media/volume/teran2_disk/rapidbuild/bbs-3.22-bioc-rapid/R/site-library 2.9 4.5.1
doBy /media/volume/teran2_disk/rapidbuild/bbs-3.22-bioc-rapid/R/site-library 4.7.0 4.5.1
doParallel /media/volume/teran2_disk/rapidbuild/bbs-3.22-bioc-rapid/R/site-library 1.0.17 4.5.1
doRNG /media/volume/teran2_disk/rapidbuild/bbs-3.22-bioc-rapid/R/site-library 1.8.6.2 4.5.1
DOSE /media/volume/teran2_disk/rapidbuild/bbs-3.22-bioc-rapid/R/site-library 4.5.0 4.5.1
dotCall64 /media/volume/teran2_disk/rapidbuild/bbs-3.22-bioc-rapid/R/site-library 1.2 4.5.1
downlit /media/volume/teran2_disk/rapidbuild/bbs-3.22-bioc-rapid/R/site-library 0.4.4 4.5.1
downloader /media/volume/teran2_disk/rapidbuild/bbs-3.22-bioc-rapid/R/site-library 0.4.1 4.5.1
dplyr /media/volume/teran2_disk/rapidbuild/bbs-3.22-bioc-rapid/R/site-library 1.1.4 4.5.1
dqrng /media/volume/teran2_disk/rapidbuild/bbs-3.22-bioc-rapid/R/site-library 0.4.1 4.5.1
DropletTestFiles /media/volume/teran2_disk/rapidbuild/bbs-3.22-bioc-rapid/R/site-library 1.19.0 4.5.1
DropletUtils /media/volume/teran2_disk/rapidbuild/bbs-3.22-bioc-rapid/R/site-library 1.31.0 4.5.1
drosophila2probe /media/volume/teran2_disk/rapidbuild/bbs-3.22-bioc-rapid/R/site-library 2.18.0 4.5.1
DT /media/volume/teran2_disk/rapidbuild/bbs-3.22-bioc-rapid/R/site-library 0.34.0 4.5.1
dynamicTreeCut /media/volume/teran2_disk/rapidbuild/bbs-3.22-bioc-rapid/R/site-library 1.63-1 4.5.1
DynDoc /media/volume/teran2_disk/rapidbuild/bbs-3.22-bioc-rapid/R/site-library 1.89.0 4.5.1
e1071 /media/volume/teran2_disk/rapidbuild/bbs-3.22-bioc-rapid/R/site-library 1.7-16 4.5.1
EBarrays /media/volume/teran2_disk/rapidbuild/bbs-3.22-bioc-rapid/R/site-library 2.75.0 4.5.1
EBImage /media/volume/teran2_disk/rapidbuild/bbs-3.22-bioc-rapid/R/site-library 4.53.0 4.5.1
edgeR /media/volume/teran2_disk/rapidbuild/bbs-3.22-bioc-rapid/R/site-library 4.9.0 4.5.1
eds /media/volume/teran2_disk/rapidbuild/bbs-3.22-bioc-rapid/R/site-library 1.13.0 4.5.1
ellipse /media/volume/teran2_disk/rapidbuild/bbs-3.22-bioc-rapid/R/site-library 0.5.0 4.5.1
ellipsis /media/volume/teran2_disk/rapidbuild/bbs-3.22-bioc-rapid/R/site-library 0.3.2 4.5.1
emdbook /media/volume/teran2_disk/rapidbuild/bbs-3.22-bioc-rapid/R/site-library 1.3.14 4.5.1
emmeans /media/volume/teran2_disk/rapidbuild/bbs-3.22-bioc-rapid/R/site-library 2.0.0 4.5.1
emojifont /media/volume/teran2_disk/rapidbuild/bbs-3.22-bioc-rapid/R/site-library 0.5.5 4.5.1
EnhancedVolcano /media/volume/teran2_disk/rapidbuild/bbs-3.22-bioc-rapid/R/site-library 1.29.0 4.5.1
EnrichedHeatmap /media/volume/teran2_disk/rapidbuild/bbs-3.22-bioc-rapid/R/site-library 1.41.0 4.5.1
enrichplot /media/volume/teran2_disk/rapidbuild/bbs-3.22-bioc-rapid/R/site-library 1.31.0 4.5.1
EnsDb.Hsapiens.v75 /media/volume/teran2_disk/rapidbuild/bbs-3.22-bioc-rapid/R/site-library 2.99.0 4.5.1
EnsDb.Hsapiens.v86 /media/volume/teran2_disk/rapidbuild/bbs-3.22-bioc-rapid/R/site-library 2.99.0 4.5.1
estimability /media/volume/teran2_disk/rapidbuild/bbs-3.22-bioc-rapid/R/site-library 1.5.1 4.5.1
etrunct /media/volume/teran2_disk/rapidbuild/bbs-3.22-bioc-rapid/R/site-library 0.1 4.5.1
europepmc /media/volume/teran2_disk/rapidbuild/bbs-3.22-bioc-rapid/R/site-library 0.4.3 4.5.1
evaluate /media/volume/teran2_disk/rapidbuild/bbs-3.22-bioc-rapid/R/site-library 1.0.5 4.5.1
exactRankTests /media/volume/teran2_disk/rapidbuild/bbs-3.22-bioc-rapid/R/site-library 0.8-35 4.5.1
extrafont /media/volume/teran2_disk/rapidbuild/bbs-3.22-bioc-rapid/R/site-library 0.20 4.5.1
extrafontdb /media/volume/teran2_disk/rapidbuild/bbs-3.22-bioc-rapid/R/site-library 1.1 4.5.1
faahKO /media/volume/teran2_disk/rapidbuild/bbs-3.22-bioc-rapid/R/site-library 1.49.1 4.5.1
factoextra /media/volume/teran2_disk/rapidbuild/bbs-3.22-bioc-rapid/R/site-library 1.0.7 4.5.1
FactoMineR /media/volume/teran2_disk/rapidbuild/bbs-3.22-bioc-rapid/R/site-library 2.12 4.5.1
fansi /media/volume/teran2_disk/rapidbuild/bbs-3.22-bioc-rapid/R/site-library 1.0.6 4.5.1
farver /media/volume/teran2_disk/rapidbuild/bbs-3.22-bioc-rapid/R/site-library 2.1.2 4.5.1
fastcluster /media/volume/teran2_disk/rapidbuild/bbs-3.22-bioc-rapid/R/site-library 1.3.0 4.5.1
fastDummies /media/volume/teran2_disk/rapidbuild/bbs-3.22-bioc-rapid/R/site-library 1.7.5 4.5.1
fastmap /media/volume/teran2_disk/rapidbuild/bbs-3.22-bioc-rapid/R/site-library 1.2.0 4.5.1
fastmatch /media/volume/teran2_disk/rapidbuild/bbs-3.22-bioc-rapid/R/site-library 1.1-6 4.5.1
fauxpas /media/volume/teran2_disk/rapidbuild/bbs-3.22-bioc-rapid/R/site-library 0.5.2 4.5.1
fda /media/volume/teran2_disk/rapidbuild/bbs-3.22-bioc-rapid/R/site-library 6.3.0 4.5.1
FDb.UCSC.tRNAs /media/volume/teran2_disk/rapidbuild/bbs-3.22-bioc-rapid/R/site-library 1.0.1 4.5.1
fdrtool /media/volume/teran2_disk/rapidbuild/bbs-3.22-bioc-rapid/R/site-library 1.2.18 4.5.1
fds /media/volume/teran2_disk/rapidbuild/bbs-3.22-bioc-rapid/R/site-library 1.8 4.5.1
fftwtools /media/volume/teran2_disk/rapidbuild/bbs-3.22-bioc-rapid/R/site-library 0.9-11 4.5.1
fgsea /media/volume/teran2_disk/rapidbuild/bbs-3.22-bioc-rapid/R/site-library 1.37.0 4.5.1
fibroEset /media/volume/teran2_disk/rapidbuild/bbs-3.22-bioc-rapid/R/site-library 1.51.0 4.5.1
fields /media/volume/teran2_disk/rapidbuild/bbs-3.22-bioc-rapid/R/site-library 17.1 4.5.1
filelock /media/volume/teran2_disk/rapidbuild/bbs-3.22-bioc-rapid/R/site-library 1.0.3 4.5.1
fishpond /media/volume/teran2_disk/rapidbuild/bbs-3.22-bioc-rapid/R/site-library 2.17.0 4.5.1
fitdistrplus /media/volume/teran2_disk/rapidbuild/bbs-3.22-bioc-rapid/R/site-library 1.2-4 4.5.1
flashClust /media/volume/teran2_disk/rapidbuild/bbs-3.22-bioc-rapid/R/site-library 1.01-2 4.5.1
flexmix /media/volume/teran2_disk/rapidbuild/bbs-3.22-bioc-rapid/R/site-library 2.3-20 4.5.1
flowClust /media/volume/teran2_disk/rapidbuild/bbs-3.22-bioc-rapid/R/site-library 3.49.0 4.5.1
flowCore /media/volume/teran2_disk/rapidbuild/bbs-3.22-bioc-rapid/R/site-library 2.23.0 4.5.1
FlowSorted.Blood.450k /media/volume/teran2_disk/rapidbuild/bbs-3.22-bioc-rapid/R/site-library 1.47.0 4.5.1
flowStats /media/volume/teran2_disk/rapidbuild/bbs-3.22-bioc-rapid/R/site-library 4.23.0 4.5.1
flowViz /media/volume/teran2_disk/rapidbuild/bbs-3.22-bioc-rapid/R/site-library 1.75.0 4.5.1
flowWorkspace /media/volume/teran2_disk/rapidbuild/bbs-3.22-bioc-rapid/R/site-library 4.23.0 4.5.1
flowWorkspaceData /media/volume/teran2_disk/rapidbuild/bbs-3.22-bioc-rapid/R/site-library 3.21.0 4.5.1
fmcsR /media/volume/teran2_disk/rapidbuild/bbs-3.22-bioc-rapid/R/site-library 1.53.0 4.5.1
FNN /media/volume/teran2_disk/rapidbuild/bbs-3.22-bioc-rapid/R/site-library 1.1.4.1 4.5.1
fontawesome /media/volume/teran2_disk/rapidbuild/bbs-3.22-bioc-rapid/R/site-library 0.5.3 4.5.1
fontBitstreamVera /media/volume/teran2_disk/rapidbuild/bbs-3.22-bioc-rapid/R/site-library 0.1.1 4.5.1
fontLiberation /media/volume/teran2_disk/rapidbuild/bbs-3.22-bioc-rapid/R/site-library 0.1.0 4.5.1
fontquiver /media/volume/teran2_disk/rapidbuild/bbs-3.22-bioc-rapid/R/site-library 0.2.1 4.5.1
forcats /media/volume/teran2_disk/rapidbuild/bbs-3.22-bioc-rapid/R/site-library 1.0.1 4.5.1
foreach /media/volume/teran2_disk/rapidbuild/bbs-3.22-bioc-rapid/R/site-library 1.5.2 4.5.1
formatR /media/volume/teran2_disk/rapidbuild/bbs-3.22-bioc-rapid/R/site-library 1.14 4.5.1
Formula /media/volume/teran2_disk/rapidbuild/bbs-3.22-bioc-rapid/R/site-library 1.2-5 4.5.1
fpc /media/volume/teran2_disk/rapidbuild/bbs-3.22-bioc-rapid/R/site-library 2.2-13 4.5.1
fs /media/volume/teran2_disk/rapidbuild/bbs-3.22-bioc-rapid/R/site-library 1.6.6 4.5.1
futile.logger /media/volume/teran2_disk/rapidbuild/bbs-3.22-bioc-rapid/R/site-library 1.4.3 4.5.1
futile.options /media/volume/teran2_disk/rapidbuild/bbs-3.22-bioc-rapid/R/site-library 1.0.1 4.5.1
future /media/volume/teran2_disk/rapidbuild/bbs-3.22-bioc-rapid/R/site-library 1.67.0 4.5.1
future.apply /media/volume/teran2_disk/rapidbuild/bbs-3.22-bioc-rapid/R/site-library 1.20.0 4.5.1
gage /media/volume/teran2_disk/rapidbuild/bbs-3.22-bioc-rapid/R/site-library 2.61.0 4.5.1
gageData /media/volume/teran2_disk/rapidbuild/bbs-3.22-bioc-rapid/R/site-library 2.47.0 4.5.1
gbm /media/volume/teran2_disk/rapidbuild/bbs-3.22-bioc-rapid/R/site-library 2.2.2 4.5.1
gcrma /media/volume/teran2_disk/rapidbuild/bbs-3.22-bioc-rapid/R/site-library 2.83.0 4.5.1
gdata /media/volume/teran2_disk/rapidbuild/bbs-3.22-bioc-rapid/R/site-library 3.0.1 4.5.1
gdsfmt /media/volume/teran2_disk/rapidbuild/bbs-3.22-bioc-rapid/R/site-library 1.47.0 4.5.1
gdtools /media/volume/teran2_disk/rapidbuild/bbs-3.22-bioc-rapid/R/site-library 0.4.4 4.5.1
genefilter /media/volume/teran2_disk/rapidbuild/bbs-3.22-bioc-rapid/R/site-library 1.93.0 4.5.1
geneplotter /media/volume/teran2_disk/rapidbuild/bbs-3.22-bioc-rapid/R/site-library 1.89.0 4.5.1
generics /media/volume/teran2_disk/rapidbuild/bbs-3.22-bioc-rapid/R/site-library 0.1.4 4.5.1
GenomeInfoDb /media/volume/teran2_disk/rapidbuild/bbs-3.22-bioc-rapid/R/site-library 1.47.0 4.5.1
GenomeInfoDbData /media/volume/teran2_disk/rapidbuild/bbs-3.22-bioc-rapid/R/site-library 1.2.15 4.5.1
GenomicRanges /media/volume/teran2_disk/rapidbuild/bbs-3.22-bioc-rapid/R/site-library 1.63.0 4.5.1
GEOquery /media/volume/teran2_disk/rapidbuild/bbs-3.22-bioc-rapid/R/site-library 2.79.0 4.5.1
gert /media/volume/teran2_disk/rapidbuild/bbs-3.22-bioc-rapid/R/site-library 2.1.5 4.5.1
GetoptLong /media/volume/teran2_disk/rapidbuild/bbs-3.22-bioc-rapid/R/site-library 1.0.5 4.5.1
getPass /media/volume/teran2_disk/rapidbuild/bbs-3.22-bioc-rapid/R/site-library 0.2-4 4.5.1
GGally /media/volume/teran2_disk/rapidbuild/bbs-3.22-bioc-rapid/R/site-library 2.4.0 4.5.1
ggalt /media/volume/teran2_disk/rapidbuild/bbs-3.22-bioc-rapid/R/site-library 0.4.0 4.5.1
ggarchery /media/volume/teran2_disk/rapidbuild/bbs-3.22-bioc-rapid/R/site-library 0.4.4 4.5.1
ggbeeswarm /media/volume/teran2_disk/rapidbuild/bbs-3.22-bioc-rapid/R/site-library 0.7.2 4.5.1
ggcyto /media/volume/teran2_disk/rapidbuild/bbs-3.22-bioc-rapid/R/site-library 1.39.0 4.5.1
ggforce /media/volume/teran2_disk/rapidbuild/bbs-3.22-bioc-rapid/R/site-library 0.5.0 4.5.1
ggfun /media/volume/teran2_disk/rapidbuild/bbs-3.22-bioc-rapid/R/site-library 0.2.0 4.5.1
ggHoriPlot /media/volume/teran2_disk/rapidbuild/bbs-3.22-bioc-rapid/R/site-library 1.0.1 4.5.1
ggimage /media/volume/teran2_disk/rapidbuild/bbs-3.22-bioc-rapid/R/site-library 0.3.4 4.5.1
ggiraph /media/volume/teran2_disk/rapidbuild/bbs-3.22-bioc-rapid/R/site-library 0.9.2 4.5.1
ggnewscale /media/volume/teran2_disk/rapidbuild/bbs-3.22-bioc-rapid/R/site-library 0.5.2 4.5.1
ggplot2 /media/volume/teran2_disk/rapidbuild/bbs-3.22-bioc-rapid/R/site-library 4.0.0 4.5.1
ggplotify /media/volume/teran2_disk/rapidbuild/bbs-3.22-bioc-rapid/R/site-library 0.1.3 4.5.1
ggpubr /media/volume/teran2_disk/rapidbuild/bbs-3.22-bioc-rapid/R/site-library 0.6.2 4.5.1
ggrastr /media/volume/teran2_disk/rapidbuild/bbs-3.22-bioc-rapid/R/site-library 1.0.2 4.5.1
ggrepel /media/volume/teran2_disk/rapidbuild/bbs-3.22-bioc-rapid/R/site-library 0.9.6 4.5.1
ggridges /media/volume/teran2_disk/rapidbuild/bbs-3.22-bioc-rapid/R/site-library 0.5.7 4.5.1
ggsci /media/volume/teran2_disk/rapidbuild/bbs-3.22-bioc-rapid/R/site-library 4.1.0 4.5.1
ggsignif /media/volume/teran2_disk/rapidbuild/bbs-3.22-bioc-rapid/R/site-library 0.6.4 4.5.1
ggstar /media/volume/teran2_disk/rapidbuild/bbs-3.22-bioc-rapid/R/site-library 1.0.6 4.5.1
ggstats /media/volume/teran2_disk/rapidbuild/bbs-3.22-bioc-rapid/R/site-library 0.11.0 4.5.1
ggtangle /media/volume/teran2_disk/rapidbuild/bbs-3.22-bioc-rapid/R/site-library 0.0.7 4.5.1
ggtext /media/volume/teran2_disk/rapidbuild/bbs-3.22-bioc-rapid/R/site-library 0.1.2 4.5.1
ggtree /media/volume/teran2_disk/rapidbuild/bbs-3.22-bioc-rapid/R/site-library 4.1.1 4.5.1
ggtreeExtra /media/volume/teran2_disk/rapidbuild/bbs-3.22-bioc-rapid/R/site-library 1.21.0 4.5.1
ggupset /media/volume/teran2_disk/rapidbuild/bbs-3.22-bioc-rapid/R/site-library 0.4.1 4.5.1
ggvis /media/volume/teran2_disk/rapidbuild/bbs-3.22-bioc-rapid/R/site-library 0.4.9 4.5.1
gh /media/volume/teran2_disk/rapidbuild/bbs-3.22-bioc-rapid/R/site-library 1.5.0 4.5.1
gitcreds /media/volume/teran2_disk/rapidbuild/bbs-3.22-bioc-rapid/R/site-library 0.1.2 4.5.1
glmGamPoi /media/volume/teran2_disk/rapidbuild/bbs-3.22-bioc-rapid/R/site-library 1.23.0 4.5.1
glmnet /media/volume/teran2_disk/rapidbuild/bbs-3.22-bioc-rapid/R/site-library 4.1-10 4.5.1
GlobalOptions /media/volume/teran2_disk/rapidbuild/bbs-3.22-bioc-rapid/R/site-library 0.1.2 4.5.1
globals /media/volume/teran2_disk/rapidbuild/bbs-3.22-bioc-rapid/R/site-library 0.18.0 4.5.1
glue /media/volume/teran2_disk/rapidbuild/bbs-3.22-bioc-rapid/R/site-library 1.8.0 4.5.1
gmm /media/volume/teran2_disk/rapidbuild/bbs-3.22-bioc-rapid/R/site-library 1.9-1 4.5.1
gmp /media/volume/teran2_disk/rapidbuild/bbs-3.22-bioc-rapid/R/site-library 0.7-5 4.5.1
GO.db /media/volume/teran2_disk/rapidbuild/bbs-3.22-bioc-rapid/R/site-library 3.22.0 4.5.1
goftest /media/volume/teran2_disk/rapidbuild/bbs-3.22-bioc-rapid/R/site-library 1.2-3 4.5.1
golubEsets /media/volume/teran2_disk/rapidbuild/bbs-3.22-bioc-rapid/R/site-library 1.51.0 4.5.1
GOSemSim /media/volume/teran2_disk/rapidbuild/bbs-3.22-bioc-rapid/R/site-library 2.37.0 4.5.1
GOstats /media/volume/teran2_disk/rapidbuild/bbs-3.22-bioc-rapid/R/site-library 2.77.0 4.5.1
gower /media/volume/teran2_disk/rapidbuild/bbs-3.22-bioc-rapid/R/site-library 1.0.2 4.5.1
gplots /media/volume/teran2_disk/rapidbuild/bbs-3.22-bioc-rapid/R/site-library 3.2.0 4.5.1
gpls /media/volume/teran2_disk/rapidbuild/bbs-3.22-bioc-rapid/R/site-library 1.83.0 4.5.1
graph /media/volume/teran2_disk/rapidbuild/bbs-3.22-bioc-rapid/R/site-library 1.89.0 4.5.1
grasp2db /media/volume/teran2_disk/rapidbuild/bbs-3.22-bioc-rapid/R/site-library 1.1.1 4.5.1
gridBase /media/volume/teran2_disk/rapidbuild/bbs-3.22-bioc-rapid/R/site-library 0.4-7 4.5.1
gridExtra /media/volume/teran2_disk/rapidbuild/bbs-3.22-bioc-rapid/R/site-library 2.3 4.5.1
gridGraphics /media/volume/teran2_disk/rapidbuild/bbs-3.22-bioc-rapid/R/site-library 0.5-1 4.5.1
gridSVG /media/volume/teran2_disk/rapidbuild/bbs-3.22-bioc-rapid/R/site-library 1.7-6 4.5.1
gridtext /media/volume/teran2_disk/rapidbuild/bbs-3.22-bioc-rapid/R/site-library 0.1.5 4.5.1
grImport /media/volume/teran2_disk/rapidbuild/bbs-3.22-bioc-rapid/R/site-library 0.9-7 4.5.1
grImport2 /media/volume/teran2_disk/rapidbuild/bbs-3.22-bioc-rapid/R/site-library 0.3-3 4.5.1
GSA /media/volume/teran2_disk/rapidbuild/bbs-3.22-bioc-rapid/R/site-library 1.03.3 4.5.1
GSEABase /media/volume/teran2_disk/rapidbuild/bbs-3.22-bioc-rapid/R/site-library 1.73.0 4.5.1
gson /media/volume/teran2_disk/rapidbuild/bbs-3.22-bioc-rapid/R/site-library 0.1.0 4.5.1
gss /media/volume/teran2_disk/rapidbuild/bbs-3.22-bioc-rapid/R/site-library 2.2-9 4.5.1
GSVA /media/volume/teran2_disk/rapidbuild/bbs-3.22-bioc-rapid/R/site-library 2.5.0 4.5.1
GSVAdata /media/volume/teran2_disk/rapidbuild/bbs-3.22-bioc-rapid/R/site-library 1.45.0 4.5.1
gtable /media/volume/teran2_disk/rapidbuild/bbs-3.22-bioc-rapid/R/site-library 0.3.6 4.5.1
gtools /media/volume/teran2_disk/rapidbuild/bbs-3.22-bioc-rapid/R/site-library 3.9.5 4.5.1
gypsum /media/volume/teran2_disk/rapidbuild/bbs-3.22-bioc-rapid/R/site-library 1.7.0 4.5.1
h5mread /media/volume/teran2_disk/rapidbuild/bbs-3.22-bioc-rapid/R/site-library 1.3.0 4.5.1
h5vcData /media/volume/teran2_disk/rapidbuild/bbs-3.22-bioc-rapid/R/site-library 2.29.0 4.5.1
hardhat /media/volume/teran2_disk/rapidbuild/bbs-3.22-bioc-rapid/R/site-library 1.4.2 4.5.1
haven /media/volume/teran2_disk/rapidbuild/bbs-3.22-bioc-rapid/R/site-library 2.5.5 4.5.1
HDF5Array /media/volume/teran2_disk/rapidbuild/bbs-3.22-bioc-rapid/R/site-library 1.39.0 4.5.1
hdrcde /media/volume/teran2_disk/rapidbuild/bbs-3.22-bioc-rapid/R/site-library 3.4 4.5.1
here /media/volume/teran2_disk/rapidbuild/bbs-3.22-bioc-rapid/R/site-library 1.0.2 4.5.1
hexbin /media/volume/teran2_disk/rapidbuild/bbs-3.22-bioc-rapid/R/site-library 1.28.5 4.5.1
hgu133a.db /media/volume/teran2_disk/rapidbuild/bbs-3.22-bioc-rapid/R/site-library 3.13.0 4.5.1
hgu133aprobe /media/volume/teran2_disk/rapidbuild/bbs-3.22-bioc-rapid/R/site-library 2.18.0 4.5.1
hgu133plus2.db /media/volume/teran2_disk/rapidbuild/bbs-3.22-bioc-rapid/R/site-library 3.13.0 4.5.1
hgu95a.db /media/volume/teran2_disk/rapidbuild/bbs-3.22-bioc-rapid/R/site-library 3.13.0 4.5.1
hgu95av2 /media/volume/teran2_disk/rapidbuild/bbs-3.22-bioc-rapid/R/site-library 2.2.0 4.5.1
hgu95av2.db /media/volume/teran2_disk/rapidbuild/bbs-3.22-bioc-rapid/R/site-library 3.13.0 4.5.1
hgu95av2cdf /media/volume/teran2_disk/rapidbuild/bbs-3.22-bioc-rapid/R/site-library 2.18.0 4.5.1
hgu95av2probe /media/volume/teran2_disk/rapidbuild/bbs-3.22-bioc-rapid/R/site-library 2.18.0 4.5.1
highr /media/volume/teran2_disk/rapidbuild/bbs-3.22-bioc-rapid/R/site-library 0.11 4.5.1
Hmisc /media/volume/teran2_disk/rapidbuild/bbs-3.22-bioc-rapid/R/site-library 5.2-4 4.5.1
hms /media/volume/teran2_disk/rapidbuild/bbs-3.22-bioc-rapid/R/site-library 1.1.4 4.5.1
Homo.sapiens /media/volume/teran2_disk/rapidbuild/bbs-3.22-bioc-rapid/R/site-library 1.3.1 4.5.1
htmlTable /media/volume/teran2_disk/rapidbuild/bbs-3.22-bioc-rapid/R/site-library 2.4.3 4.5.1
htmltools /media/volume/teran2_disk/rapidbuild/bbs-3.22-bioc-rapid/R/site-library 0.5.8.1 4.5.1
htmlwidgets /media/volume/teran2_disk/rapidbuild/bbs-3.22-bioc-rapid/R/site-library 1.6.4 4.5.1
httpcode /media/volume/teran2_disk/rapidbuild/bbs-3.22-bioc-rapid/R/site-library 0.3.0 4.5.1
httptest2 /media/volume/teran2_disk/rapidbuild/bbs-3.22-bioc-rapid/R/site-library 1.2.1 4.5.1
httpuv /media/volume/teran2_disk/rapidbuild/bbs-3.22-bioc-rapid/R/site-library 1.6.16 4.5.1
httr /media/volume/teran2_disk/rapidbuild/bbs-3.22-bioc-rapid/R/site-library 1.4.7 4.5.1
httr2 /media/volume/teran2_disk/rapidbuild/bbs-3.22-bioc-rapid/R/site-library 1.2.1 4.5.1
hu6800.db /media/volume/teran2_disk/rapidbuild/bbs-3.22-bioc-rapid/R/site-library 3.13.0 4.5.1
HubPub /media/volume/teran2_disk/rapidbuild/bbs-3.22-bioc-rapid/R/site-library 1.19.0 4.5.1
human.db0 /media/volume/teran2_disk/rapidbuild/bbs-3.22-bioc-rapid/R/site-library 3.22.0 4.5.1
humanCHRLOC /media/volume/teran2_disk/rapidbuild/bbs-3.22-bioc-rapid/R/site-library 2.1.6 4.5.1
humanStemCell /media/volume/teran2_disk/rapidbuild/bbs-3.22-bioc-rapid/R/site-library 0.49.0 4.5.1
hunspell /media/volume/teran2_disk/rapidbuild/bbs-3.22-bioc-rapid/R/site-library 3.0.6 4.5.1
hwriter /media/volume/teran2_disk/rapidbuild/bbs-3.22-bioc-rapid/R/site-library 1.3.2.1 4.5.1
ica /media/volume/teran2_disk/rapidbuild/bbs-3.22-bioc-rapid/R/site-library 1.0-3 4.5.1
IDPmisc /media/volume/teran2_disk/rapidbuild/bbs-3.22-bioc-rapid/R/site-library 1.1.21 4.5.1
igraph /media/volume/teran2_disk/rapidbuild/bbs-3.22-bioc-rapid/R/site-library 2.2.1 4.5.1
IHW /media/volume/teran2_disk/rapidbuild/bbs-3.22-bioc-rapid/R/site-library 1.39.0 4.5.1
IlluminaDataTestFiles /media/volume/teran2_disk/rapidbuild/bbs-3.22-bioc-rapid/R/site-library 1.47.0 4.5.1
IlluminaHumanMethylation450kanno.ilmn12.hg19 /media/volume/teran2_disk/rapidbuild/bbs-3.22-bioc-rapid/R/site-library 0.6.1 4.5.1
IlluminaHumanMethylation450kmanifest /media/volume/teran2_disk/rapidbuild/bbs-3.22-bioc-rapid/R/site-library 0.4.0 4.5.1
IlluminaHumanMethylationEPICanno.ilm10b2.hg19 /media/volume/teran2_disk/rapidbuild/bbs-3.22-bioc-rapid/R/site-library 0.6.0 4.5.1
IlluminaHumanMethylationEPICmanifest /media/volume/teran2_disk/rapidbuild/bbs-3.22-bioc-rapid/R/site-library 0.3.0 4.5.1
illuminaio /media/volume/teran2_disk/rapidbuild/bbs-3.22-bioc-rapid/R/site-library 0.53.0 4.5.1
impute /media/volume/teran2_disk/rapidbuild/bbs-3.22-bioc-rapid/R/site-library 1.85.0 4.5.1
imputeLCMD /media/volume/teran2_disk/rapidbuild/bbs-3.22-bioc-rapid/R/site-library 2.1 4.5.1
infotheo /media/volume/teran2_disk/rapidbuild/bbs-3.22-bioc-rapid/R/site-library 1.2.0.1 4.5.1
ini /media/volume/teran2_disk/rapidbuild/bbs-3.22-bioc-rapid/R/site-library 0.3.1 4.5.1
interactiveDisplay /media/volume/teran2_disk/rapidbuild/bbs-3.22-bioc-rapid/R/site-library 1.49.0 4.5.1
interactiveDisplayBase /media/volume/teran2_disk/rapidbuild/bbs-3.22-bioc-rapid/R/site-library 1.49.0 4.5.1
interp /media/volume/teran2_disk/rapidbuild/bbs-3.22-bioc-rapid/R/site-library 1.1-6 4.5.1
inum /media/volume/teran2_disk/rapidbuild/bbs-3.22-bioc-rapid/R/site-library 1.0-5 4.5.1
invgamma /media/volume/teran2_disk/rapidbuild/bbs-3.22-bioc-rapid/R/site-library 1.2 4.5.1
ipred /media/volume/teran2_disk/rapidbuild/bbs-3.22-bioc-rapid/R/site-library 0.9-15 4.5.1
IRanges /media/volume/teran2_disk/rapidbuild/bbs-3.22-bioc-rapid/R/site-library 2.45.0 4.5.1
irlba /media/volume/teran2_disk/rapidbuild/bbs-3.22-bioc-rapid/R/site-library 2.3.5.1 4.5.1
isoband /media/volume/teran2_disk/rapidbuild/bbs-3.22-bioc-rapid/R/site-library 0.2.7 4.5.1
iterators /media/volume/teran2_disk/rapidbuild/bbs-3.22-bioc-rapid/R/site-library 1.0.14 4.5.1
itertools /media/volume/teran2_disk/rapidbuild/bbs-3.22-bioc-rapid/R/site-library 0.1-3 4.5.1
janeaustenr /media/volume/teran2_disk/rapidbuild/bbs-3.22-bioc-rapid/R/site-library 1.0.0 4.5.1
JASPAR2014 /media/volume/teran2_disk/rapidbuild/bbs-3.22-bioc-rapid/R/site-library 1.45.0 4.5.1
JASPAR2016 /media/volume/teran2_disk/rapidbuild/bbs-3.22-bioc-rapid/R/site-library 1.37.0 4.5.1
JASPAR2018 /media/volume/teran2_disk/rapidbuild/bbs-3.22-bioc-rapid/R/site-library 1.1.1 4.5.1
jpeg /media/volume/teran2_disk/rapidbuild/bbs-3.22-bioc-rapid/R/site-library 0.1-11 4.5.1
jquerylib /media/volume/teran2_disk/rapidbuild/bbs-3.22-bioc-rapid/R/site-library 0.1.4 4.5.1
jsonlite /media/volume/teran2_disk/rapidbuild/bbs-3.22-bioc-rapid/R/site-library 2.0.0 4.5.1
jsonvalidate /media/volume/teran2_disk/rapidbuild/bbs-3.22-bioc-rapid/R/site-library 1.5.0 4.5.1
kableExtra /media/volume/teran2_disk/rapidbuild/bbs-3.22-bioc-rapid/R/site-library 1.4.0 4.5.1
KEGGgraph /media/volume/teran2_disk/rapidbuild/bbs-3.22-bioc-rapid/R/site-library 1.71.0 4.5.1
keggorthology /media/volume/teran2_disk/rapidbuild/bbs-3.22-bioc-rapid/R/site-library 2.63.0 4.5.1
KEGGREST /media/volume/teran2_disk/rapidbuild/bbs-3.22-bioc-rapid/R/site-library 1.51.0 4.5.1
keras /media/volume/teran2_disk/rapidbuild/bbs-3.22-bioc-rapid/R/site-library 2.16.0 4.5.1
kernlab /media/volume/teran2_disk/rapidbuild/bbs-3.22-bioc-rapid/R/site-library 0.9-33 4.5.1
klaR /media/volume/teran2_disk/rapidbuild/bbs-3.22-bioc-rapid/R/site-library 1.7-3 4.5.1
km.ci /media/volume/teran2_disk/rapidbuild/bbs-3.22-bioc-rapid/R/site-library 0.5-6 4.5.1
KMsurv /media/volume/teran2_disk/rapidbuild/bbs-3.22-bioc-rapid/R/site-library 0.1-6 4.5.1
knitcitations /media/volume/teran2_disk/rapidbuild/bbs-3.22-bioc-rapid/R/site-library 1.0.12 4.5.1
knitr /media/volume/teran2_disk/rapidbuild/bbs-3.22-bioc-rapid/R/site-library 1.50 4.5.1
knitrBootstrap /media/volume/teran2_disk/rapidbuild/bbs-3.22-bioc-rapid/R/site-library 1.0.3 4.5.1
kohonen /media/volume/teran2_disk/rapidbuild/bbs-3.22-bioc-rapid/R/site-library 3.0.12 4.5.1
ks /media/volume/teran2_disk/rapidbuild/bbs-3.22-bioc-rapid/R/site-library 1.15.1 4.5.1
labeling /media/volume/teran2_disk/rapidbuild/bbs-3.22-bioc-rapid/R/site-library 0.4.3 4.5.1
labelled /media/volume/teran2_disk/rapidbuild/bbs-3.22-bioc-rapid/R/site-library 2.16.0 4.5.1
lambda.r /media/volume/teran2_disk/rapidbuild/bbs-3.22-bioc-rapid/R/site-library 1.2.4 4.5.1
LaplacesDemon /media/volume/teran2_disk/rapidbuild/bbs-3.22-bioc-rapid/R/site-library 16.1.6 4.5.1
later /media/volume/teran2_disk/rapidbuild/bbs-3.22-bioc-rapid/R/site-library 1.4.4 4.5.1
latticeExtra /media/volume/teran2_disk/rapidbuild/bbs-3.22-bioc-rapid/R/site-library 0.6-31 4.5.1
lava /media/volume/teran2_disk/rapidbuild/bbs-3.22-bioc-rapid/R/site-library 1.8.2 4.5.1
lazyeval /media/volume/teran2_disk/rapidbuild/bbs-3.22-bioc-rapid/R/site-library 0.2.2 4.5.1
leaps /media/volume/teran2_disk/rapidbuild/bbs-3.22-bioc-rapid/R/site-library 3.2 4.5.1
leeBamViews /media/volume/teran2_disk/rapidbuild/bbs-3.22-bioc-rapid/R/site-library 1.45.0 4.5.1
leidenbase /media/volume/teran2_disk/rapidbuild/bbs-3.22-bioc-rapid/R/site-library 0.1.35 4.5.1
libcoin /media/volume/teran2_disk/rapidbuild/bbs-3.22-bioc-rapid/R/site-library 1.0-10 4.5.1
lifecycle /media/volume/teran2_disk/rapidbuild/bbs-3.22-bioc-rapid/R/site-library 1.0.4 4.5.1
limma /media/volume/teran2_disk/rapidbuild/bbs-3.22-bioc-rapid/R/site-library 3.67.0 4.5.1
listenv /media/volume/teran2_disk/rapidbuild/bbs-3.22-bioc-rapid/R/site-library 0.9.1 4.5.1
litedown /media/volume/teran2_disk/rapidbuild/bbs-3.22-bioc-rapid/R/site-library 0.7 4.5.1
lme4 /media/volume/teran2_disk/rapidbuild/bbs-3.22-bioc-rapid/R/site-library 1.1-37 4.5.1
lmtest /media/volume/teran2_disk/rapidbuild/bbs-3.22-bioc-rapid/R/site-library 0.9-40 4.5.1
lobstr /media/volume/teran2_disk/rapidbuild/bbs-3.22-bioc-rapid/R/site-library 1.1.2 4.5.1
locfit /media/volume/teran2_disk/rapidbuild/bbs-3.22-bioc-rapid/R/site-library 1.5-9.12 4.5.1
LoomExperiment /media/volume/teran2_disk/rapidbuild/bbs-3.22-bioc-rapid/R/site-library 1.29.0 4.5.1
lpSolve /media/volume/teran2_disk/rapidbuild/bbs-3.22-bioc-rapid/R/site-library 5.6.23 4.5.1
lpsymphony /media/volume/teran2_disk/rapidbuild/bbs-3.22-bioc-rapid/R/site-library 1.39.0 4.5.1
lubridate /media/volume/teran2_disk/rapidbuild/bbs-3.22-bioc-rapid/R/site-library 1.9.4 4.5.1
macrophage /media/volume/teran2_disk/rapidbuild/bbs-3.22-bioc-rapid/R/site-library 1.25.0 4.5.1
maftools /media/volume/teran2_disk/rapidbuild/bbs-3.22-bioc-rapid/R/site-library 2.27.0 4.5.1
magick /media/volume/teran2_disk/rapidbuild/bbs-3.22-bioc-rapid/R/site-library 2.9.0 4.5.1
magrittr /media/volume/teran2_disk/rapidbuild/bbs-3.22-bioc-rapid/R/site-library 2.0.4 4.5.1
MALDIquant /media/volume/teran2_disk/rapidbuild/bbs-3.22-bioc-rapid/R/site-library 1.22.3 4.5.1
mapproj /media/volume/teran2_disk/rapidbuild/bbs-3.22-bioc-rapid/R/site-library 1.2.12 4.5.1
maps /media/volume/teran2_disk/rapidbuild/bbs-3.22-bioc-rapid/R/site-library 3.4.3 4.5.1
markdown /media/volume/teran2_disk/rapidbuild/bbs-3.22-bioc-rapid/R/site-library 2.0 4.5.1
MassSpecWavelet /media/volume/teran2_disk/rapidbuild/bbs-3.22-bioc-rapid/R/site-library 1.77.0 4.5.1
MatrixGenerics /media/volume/teran2_disk/rapidbuild/bbs-3.22-bioc-rapid/R/site-library 1.23.0 4.5.1
MatrixModels /media/volume/teran2_disk/rapidbuild/bbs-3.22-bioc-rapid/R/site-library 0.5-4 4.5.1
matrixStats /media/volume/teran2_disk/rapidbuild/bbs-3.22-bioc-rapid/R/site-library 1.5.0 4.5.1
maxstat /media/volume/teran2_disk/rapidbuild/bbs-3.22-bioc-rapid/R/site-library 0.7-26 4.5.1
mbkmeans /media/volume/teran2_disk/rapidbuild/bbs-3.22-bioc-rapid/R/site-library 1.27.0 4.5.1
mboost /media/volume/teran2_disk/rapidbuild/bbs-3.22-bioc-rapid/R/site-library 2.9-11 4.5.1
mclust /media/volume/teran2_disk/rapidbuild/bbs-3.22-bioc-rapid/R/site-library 6.1.1 4.5.1
memoise /media/volume/teran2_disk/rapidbuild/bbs-3.22-bioc-rapid/R/site-library 2.0.1 4.5.1
MetaboCoreUtils /media/volume/teran2_disk/rapidbuild/bbs-3.22-bioc-rapid/R/site-library 1.19.0 4.5.1
metagenomeSeq /media/volume/teran2_disk/rapidbuild/bbs-3.22-bioc-rapid/R/site-library 1.53.0 4.5.1
metapod /media/volume/teran2_disk/rapidbuild/bbs-3.22-bioc-rapid/R/site-library 1.19.0 4.5.1
microbenchmark /media/volume/teran2_disk/rapidbuild/bbs-3.22-bioc-rapid/R/site-library 1.5.0 4.5.1
microRNA /media/volume/teran2_disk/rapidbuild/bbs-3.22-bioc-rapid/R/site-library 1.69.0 4.5.1
mime /media/volume/teran2_disk/rapidbuild/bbs-3.22-bioc-rapid/R/site-library 0.13 4.5.1
minet /media/volume/teran2_disk/rapidbuild/bbs-3.22-bioc-rapid/R/site-library 3.69.0 4.5.1
minfiData /media/volume/teran2_disk/rapidbuild/bbs-3.22-bioc-rapid/R/site-library 0.55.0 4.5.1
minfiDataEPIC /media/volume/teran2_disk/rapidbuild/bbs-3.22-bioc-rapid/R/site-library 1.35.0 4.5.1
miniUI /media/volume/teran2_disk/rapidbuild/bbs-3.22-bioc-rapid/R/site-library 0.1.2 4.5.1
minqa /media/volume/teran2_disk/rapidbuild/bbs-3.22-bioc-rapid/R/site-library 1.2.8 4.5.1
missForest /media/volume/teran2_disk/rapidbuild/bbs-3.22-bioc-rapid/R/site-library 1.6.1 4.5.1
mixsqp /media/volume/teran2_disk/rapidbuild/bbs-3.22-bioc-rapid/R/site-library 0.3-54 4.5.1
mixtools /media/volume/teran2_disk/rapidbuild/bbs-3.22-bioc-rapid/R/site-library 2.0.0.1 4.5.1
mlbench /media/volume/teran2_disk/rapidbuild/bbs-3.22-bioc-rapid/R/site-library 2.1-6 4.5.1
MLInterfaces /media/volume/teran2_disk/rapidbuild/bbs-3.22-bioc-rapid/R/site-library 1.91.0 4.5.1
mnormt /media/volume/teran2_disk/rapidbuild/bbs-3.22-bioc-rapid/R/site-library 2.1.1 4.5.1
mockery /media/volume/teran2_disk/rapidbuild/bbs-3.22-bioc-rapid/R/site-library 0.4.5 4.5.1
ModelMetrics /media/volume/teran2_disk/rapidbuild/bbs-3.22-bioc-rapid/R/site-library 1.2.2.2 4.5.1
modelr /media/volume/teran2_disk/rapidbuild/bbs-3.22-bioc-rapid/R/site-library 0.1.11 4.5.1
modeltools /media/volume/teran2_disk/rapidbuild/bbs-3.22-bioc-rapid/R/site-library 0.2-24 4.5.1
MsBackendMgf /media/volume/teran2_disk/rapidbuild/bbs-3.22-bioc-rapid/R/site-library 1.19.0 4.5.1
MsBackendSql /media/volume/teran2_disk/rapidbuild/bbs-3.22-bioc-rapid/R/site-library 1.11.0 4.5.1
MsCoreUtils /media/volume/teran2_disk/rapidbuild/bbs-3.22-bioc-rapid/R/site-library 1.23.0 4.5.1
msdata /media/volume/teran2_disk/rapidbuild/bbs-3.22-bioc-rapid/R/site-library 0.49.0 4.5.1
msentropy /media/volume/teran2_disk/rapidbuild/bbs-3.22-bioc-rapid/R/site-library 0.1.4 4.5.1
MsExperiment /media/volume/teran2_disk/rapidbuild/bbs-3.22-bioc-rapid/R/site-library 1.13.0 4.5.1
MsFeatures /media/volume/teran2_disk/rapidbuild/bbs-3.22-bioc-rapid/R/site-library 1.19.0 4.5.1
msigdbr /media/volume/teran2_disk/rapidbuild/bbs-3.22-bioc-rapid/R/site-library 25.1.1 4.5.1
MSnbase /media/volume/teran2_disk/rapidbuild/bbs-3.22-bioc-rapid/R/site-library 2.37.0 4.5.1
multcomp /media/volume/teran2_disk/rapidbuild/bbs-3.22-bioc-rapid/R/site-library 1.4-29 4.5.1
multcompView /media/volume/teran2_disk/rapidbuild/bbs-3.22-bioc-rapid/R/site-library 0.1-10 4.5.1
MultiAssayExperiment /media/volume/teran2_disk/rapidbuild/bbs-3.22-bioc-rapid/R/site-library 1.37.0 4.5.1
multicool /media/volume/teran2_disk/rapidbuild/bbs-3.22-bioc-rapid/R/site-library 1.0.1 4.5.1
multitaper /media/volume/teran2_disk/rapidbuild/bbs-3.22-bioc-rapid/R/site-library 1.0-17 4.5.1
multtest /media/volume/teran2_disk/rapidbuild/bbs-3.22-bioc-rapid/R/site-library 2.67.0 4.5.1
muscData /media/volume/teran2_disk/rapidbuild/bbs-3.22-bioc-rapid/R/site-library 1.23.0 4.5.1
mvtnorm /media/volume/teran2_disk/rapidbuild/bbs-3.22-bioc-rapid/R/site-library 1.3-3 4.5.1
mzID /media/volume/teran2_disk/rapidbuild/bbs-3.22-bioc-rapid/R/site-library 1.49.0 4.5.1
mzR /media/volume/teran2_disk/rapidbuild/bbs-3.22-bioc-rapid/R/site-library 2.45.0 4.5.1
ncdf4 /media/volume/teran2_disk/rapidbuild/bbs-3.22-bioc-rapid/R/site-library 1.24 4.5.1
ncdfFlow /media/volume/teran2_disk/rapidbuild/bbs-3.22-bioc-rapid/R/site-library 2.57.0 4.5.1
networkD3 /media/volume/teran2_disk/rapidbuild/bbs-3.22-bioc-rapid/R/site-library 0.4.1 4.5.1
nipals /media/volume/teran2_disk/rapidbuild/bbs-3.22-bioc-rapid/R/site-library 1.0 4.5.1
nloptr /media/volume/teran2_disk/rapidbuild/bbs-3.22-bioc-rapid/R/site-library 2.2.1 4.5.1
NLP /media/volume/teran2_disk/rapidbuild/bbs-3.22-bioc-rapid/R/site-library 0.3-2 4.5.1
NMF /media/volume/teran2_disk/rapidbuild/bbs-3.22-bioc-rapid/R/site-library 0.28 4.5.1
nnls /media/volume/teran2_disk/rapidbuild/bbs-3.22-bioc-rapid/R/site-library 1.6 4.5.1
nor1mix /media/volume/teran2_disk/rapidbuild/bbs-3.22-bioc-rapid/R/site-library 1.3-3 4.5.1
norm /media/volume/teran2_disk/rapidbuild/bbs-3.22-bioc-rapid/R/site-library 1.0-11.1 4.5.1
numDeriv /media/volume/teran2_disk/rapidbuild/bbs-3.22-bioc-rapid/R/site-library 2016.8-1.1 4.5.1
openCyto /media/volume/teran2_disk/rapidbuild/bbs-3.22-bioc-rapid/R/site-library 2.23.0 4.5.1
openssl /media/volume/teran2_disk/rapidbuild/bbs-3.22-bioc-rapid/R/site-library 2.3.4 4.5.1
openxlsx /media/volume/teran2_disk/rapidbuild/bbs-3.22-bioc-rapid/R/site-library 4.2.8 4.5.1
org.At.tair.db /media/volume/teran2_disk/rapidbuild/bbs-3.22-bioc-rapid/R/site-library 3.22.0 4.5.1
org.Dm.eg.db /media/volume/teran2_disk/rapidbuild/bbs-3.22-bioc-rapid/R/site-library 3.22.0 4.5.1
org.Hs.eg.db /media/volume/teran2_disk/rapidbuild/bbs-3.22-bioc-rapid/R/site-library 3.22.0 4.5.1
org.Mm.eg.db /media/volume/teran2_disk/rapidbuild/bbs-3.22-bioc-rapid/R/site-library 3.22.0 4.5.1
org.Rn.eg.db /media/volume/teran2_disk/rapidbuild/bbs-3.22-bioc-rapid/R/site-library 3.22.0 4.5.1
org.Sc.sgd.db /media/volume/teran2_disk/rapidbuild/bbs-3.22-bioc-rapid/R/site-library 3.22.0 4.5.1
otel /media/volume/teran2_disk/rapidbuild/bbs-3.22-bioc-rapid/R/site-library 0.2.0 4.5.1
pals /media/volume/teran2_disk/rapidbuild/bbs-3.22-bioc-rapid/R/site-library 1.10 4.5.1
pamr /media/volume/teran2_disk/rapidbuild/bbs-3.22-bioc-rapid/R/site-library 1.57 4.5.1
pander /media/volume/teran2_disk/rapidbuild/bbs-3.22-bioc-rapid/R/site-library 0.6.6 4.5.1
parallelly /media/volume/teran2_disk/rapidbuild/bbs-3.22-bioc-rapid/R/site-library 1.45.1 4.5.1
parmigene /media/volume/teran2_disk/rapidbuild/bbs-3.22-bioc-rapid/R/site-library 1.1.1 4.5.1
party /media/volume/teran2_disk/rapidbuild/bbs-3.22-bioc-rapid/R/site-library 1.3-18 4.5.1
partykit /media/volume/teran2_disk/rapidbuild/bbs-3.22-bioc-rapid/R/site-library 1.2-24 4.5.1
pasilla /media/volume/teran2_disk/rapidbuild/bbs-3.22-bioc-rapid/R/site-library 1.37.0 4.5.1
pasillaBamSubset /media/volume/teran2_disk/rapidbuild/bbs-3.22-bioc-rapid/R/site-library 0.47.0 4.5.1
patchwork /media/volume/teran2_disk/rapidbuild/bbs-3.22-bioc-rapid/R/site-library 1.3.2 4.5.1
pathview /media/volume/teran2_disk/rapidbuild/bbs-3.22-bioc-rapid/R/site-library 1.51.0 4.5.1
patrick /media/volume/teran2_disk/rapidbuild/bbs-3.22-bioc-rapid/R/site-library 0.3.0 4.5.1
pbapply /media/volume/teran2_disk/rapidbuild/bbs-3.22-bioc-rapid/R/site-library 1.7-4 4.5.1
pbkrtest /media/volume/teran2_disk/rapidbuild/bbs-3.22-bioc-rapid/R/site-library 0.5.5 4.5.1
pcaMethods /media/volume/teran2_disk/rapidbuild/bbs-3.22-bioc-rapid/R/site-library 2.3.0 4.5.1
pcaPP /media/volume/teran2_disk/rapidbuild/bbs-3.22-bioc-rapid/R/site-library 2.0-5 4.5.1
permute /media/volume/teran2_disk/rapidbuild/bbs-3.22-bioc-rapid/R/site-library 0.9-8 4.5.1
PFAM.db /media/volume/teran2_disk/rapidbuild/bbs-3.22-bioc-rapid/R/site-library 3.22.0 4.5.1
phangorn /media/volume/teran2_disk/rapidbuild/bbs-3.22-bioc-rapid/R/site-library 2.12.1 4.5.1
pheatmap /media/volume/teran2_disk/rapidbuild/bbs-3.22-bioc-rapid/R/site-library 1.0.13 4.5.1
phyloseq /media/volume/teran2_disk/rapidbuild/bbs-3.22-bioc-rapid/R/site-library 1.55.0 4.5.1
pillar /media/volume/teran2_disk/rapidbuild/bbs-3.22-bioc-rapid/R/site-library 1.11.1 4.5.1
pixmap /media/volume/teran2_disk/rapidbuild/bbs-3.22-bioc-rapid/R/site-library 0.4-14 4.5.1
pkgbuild /media/volume/teran2_disk/rapidbuild/bbs-3.22-bioc-rapid/R/site-library 1.4.8 4.5.1
pkgconfig /media/volume/teran2_disk/rapidbuild/bbs-3.22-bioc-rapid/R/site-library 2.0.3 4.5.1
pkgdown /media/volume/teran2_disk/rapidbuild/bbs-3.22-bioc-rapid/R/site-library 2.1.3 4.5.1
pkgload /media/volume/teran2_disk/rapidbuild/bbs-3.22-bioc-rapid/R/site-library 1.4.1 4.5.1
plogr /media/volume/teran2_disk/rapidbuild/bbs-3.22-bioc-rapid/R/site-library 0.2.0 4.5.1
plotly /media/volume/teran2_disk/rapidbuild/bbs-3.22-bioc-rapid/R/site-library 4.11.0 4.5.1
pls /media/volume/teran2_disk/rapidbuild/bbs-3.22-bioc-rapid/R/site-library 2.8-5 4.5.1
plyr /media/volume/teran2_disk/rapidbuild/bbs-3.22-bioc-rapid/R/site-library 1.8.9 4.5.1
png /media/volume/teran2_disk/rapidbuild/bbs-3.22-bioc-rapid/R/site-library 0.1-8 4.5.1
polyclip /media/volume/teran2_disk/rapidbuild/bbs-3.22-bioc-rapid/R/site-library 1.10-7 4.5.1
polynom /media/volume/teran2_disk/rapidbuild/bbs-3.22-bioc-rapid/R/site-library 1.4-1 4.5.1
PolyPhen.Hsapiens.dbSNP131 /media/volume/teran2_disk/rapidbuild/bbs-3.22-bioc-rapid/R/site-library 1.0.2 4.5.1
poweRlaw /media/volume/teran2_disk/rapidbuild/bbs-3.22-bioc-rapid/R/site-library 1.0.0 4.5.1
prabclus /media/volume/teran2_disk/rapidbuild/bbs-3.22-bioc-rapid/R/site-library 2.3-4 4.5.1
pracma /media/volume/teran2_disk/rapidbuild/bbs-3.22-bioc-rapid/R/site-library 2.4.6 4.5.1
praise /media/volume/teran2_disk/rapidbuild/bbs-3.22-bioc-rapid/R/site-library 1.0.0 4.5.1
preprocessCore /media/volume/teran2_disk/rapidbuild/bbs-3.22-bioc-rapid/R/site-library 1.73.0 4.5.1
prettydoc /media/volume/teran2_disk/rapidbuild/bbs-3.22-bioc-rapid/R/site-library 0.4.1 4.5.1
prettyunits /media/volume/teran2_disk/rapidbuild/bbs-3.22-bioc-rapid/R/site-library 1.2.0 4.5.1
princurve /media/volume/teran2_disk/rapidbuild/bbs-3.22-bioc-rapid/R/site-library 2.1.6 4.5.1
pROC /media/volume/teran2_disk/rapidbuild/bbs-3.22-bioc-rapid/R/site-library 1.19.0.1 4.5.1
processx /media/volume/teran2_disk/rapidbuild/bbs-3.22-bioc-rapid/R/site-library 3.8.6 4.5.1
prodlim /media/volume/teran2_disk/rapidbuild/bbs-3.22-bioc-rapid/R/site-library 2025.04.28 4.5.1
profmem /media/volume/teran2_disk/rapidbuild/bbs-3.22-bioc-rapid/R/site-library 0.7.0 4.5.1
profvis /media/volume/teran2_disk/rapidbuild/bbs-3.22-bioc-rapid/R/site-library 0.4.0 4.5.1
progress /media/volume/teran2_disk/rapidbuild/bbs-3.22-bioc-rapid/R/site-library 1.2.3 4.5.1
progressr /media/volume/teran2_disk/rapidbuild/bbs-3.22-bioc-rapid/R/site-library 0.17.0 4.5.1
proj4 /media/volume/teran2_disk/rapidbuild/bbs-3.22-bioc-rapid/R/site-library 1.0-15 4.5.1
pRoloc /media/volume/teran2_disk/rapidbuild/bbs-3.22-bioc-rapid/R/site-library 1.51.0 4.5.1
pRolocdata /media/volume/teran2_disk/rapidbuild/bbs-3.22-bioc-rapid/R/site-library 1.47.0 4.5.1
promises /media/volume/teran2_disk/rapidbuild/bbs-3.22-bioc-rapid/R/site-library 1.4.0 4.5.1
ProtGenerics /media/volume/teran2_disk/rapidbuild/bbs-3.22-bioc-rapid/R/site-library 1.43.0 4.5.1
proto /media/volume/teran2_disk/rapidbuild/bbs-3.22-bioc-rapid/R/site-library 1.0.0 4.5.1
proxy /media/volume/teran2_disk/rapidbuild/bbs-3.22-bioc-rapid/R/site-library 0.4-27 4.5.1
pryr /media/volume/teran2_disk/rapidbuild/bbs-3.22-bioc-rapid/R/site-library 0.1.6 4.5.1
ps /media/volume/teran2_disk/rapidbuild/bbs-3.22-bioc-rapid/R/site-library 1.9.1 4.5.1
PSMatch /media/volume/teran2_disk/rapidbuild/bbs-3.22-bioc-rapid/R/site-library 1.15.0 4.5.1
purrr /media/volume/teran2_disk/rapidbuild/bbs-3.22-bioc-rapid/R/site-library 1.1.0 4.5.1
pwalign /media/volume/teran2_disk/rapidbuild/bbs-3.22-bioc-rapid/R/site-library 1.7.0 4.5.1
QFeatures /media/volume/teran2_disk/rapidbuild/bbs-3.22-bioc-rapid/R/site-library 1.21.0 4.5.1
quadprog /media/volume/teran2_disk/rapidbuild/bbs-3.22-bioc-rapid/R/site-library 1.5-8 4.5.1
quantreg /media/volume/teran2_disk/rapidbuild/bbs-3.22-bioc-rapid/R/site-library 6.1 4.5.1
quarto /media/volume/teran2_disk/rapidbuild/bbs-3.22-bioc-rapid/R/site-library 1.5.1 4.5.1
questionr /media/volume/teran2_disk/rapidbuild/bbs-3.22-bioc-rapid/R/site-library 0.8.1 4.5.1
qvalue /media/volume/teran2_disk/rapidbuild/bbs-3.22-bioc-rapid/R/site-library 2.43.0 4.5.1
R.cache /media/volume/teran2_disk/rapidbuild/bbs-3.22-bioc-rapid/R/site-library 0.17.0 4.5.1
R.methodsS3 /media/volume/teran2_disk/rapidbuild/bbs-3.22-bioc-rapid/R/site-library 1.8.2 4.5.1
R.oo /media/volume/teran2_disk/rapidbuild/bbs-3.22-bioc-rapid/R/site-library 1.27.1 4.5.1
R.utils /media/volume/teran2_disk/rapidbuild/bbs-3.22-bioc-rapid/R/site-library 2.13.0 4.5.1
R6 /media/volume/teran2_disk/rapidbuild/bbs-3.22-bioc-rapid/R/site-library 2.6.1 4.5.1
rae230a.db /media/volume/teran2_disk/rapidbuild/bbs-3.22-bioc-rapid/R/site-library 3.13.0 4.5.1
rae230aprobe /media/volume/teran2_disk/rapidbuild/bbs-3.22-bioc-rapid/R/site-library 2.18.0 4.5.1
ragg /media/volume/teran2_disk/rapidbuild/bbs-3.22-bioc-rapid/R/site-library 1.5.0 4.5.1
RaggedExperiment /media/volume/teran2_disk/rapidbuild/bbs-3.22-bioc-rapid/R/site-library 1.35.0 4.5.1
rainbow /media/volume/teran2_disk/rapidbuild/bbs-3.22-bioc-rapid/R/site-library 3.8 4.5.1
randomForest /media/volume/teran2_disk/rapidbuild/bbs-3.22-bioc-rapid/R/site-library 4.7-1.2 4.5.1
ranger /media/volume/teran2_disk/rapidbuild/bbs-3.22-bioc-rapid/R/site-library 0.17.0 4.5.1
RANN /media/volume/teran2_disk/rapidbuild/bbs-3.22-bioc-rapid/R/site-library 2.6.2 4.5.1
rappdirs /media/volume/teran2_disk/rapidbuild/bbs-3.22-bioc-rapid/R/site-library 0.3.3 4.5.1
Rattus.norvegicus /media/volume/teran2_disk/rapidbuild/bbs-3.22-bioc-rapid/R/site-library 1.3.1 4.5.1
RBGL /media/volume/teran2_disk/rapidbuild/bbs-3.22-bioc-rapid/R/site-library 1.87.0 4.5.1
rbibutils /media/volume/teran2_disk/rapidbuild/bbs-3.22-bioc-rapid/R/site-library 2.3 4.5.1
rBiopaxParser /media/volume/teran2_disk/rapidbuild/bbs-3.22-bioc-rapid/R/site-library 2.51.0 4.5.1
rcmdcheck /media/volume/teran2_disk/rapidbuild/bbs-3.22-bioc-rapid/R/site-library 1.4.0 4.5.1
RColorBrewer /media/volume/teran2_disk/rapidbuild/bbs-3.22-bioc-rapid/R/site-library 1.1-3 4.5.1
Rcpp /media/volume/teran2_disk/rapidbuild/bbs-3.22-bioc-rapid/R/site-library 1.1.0 4.5.1
RcppAnnoy /media/volume/teran2_disk/rapidbuild/bbs-3.22-bioc-rapid/R/site-library 0.0.22 4.5.1
RcppArmadillo /media/volume/teran2_disk/rapidbuild/bbs-3.22-bioc-rapid/R/site-library 15.0.2-2 4.5.1
RcppEigen /media/volume/teran2_disk/rapidbuild/bbs-3.22-bioc-rapid/R/site-library 0.3.4.0.2 4.5.1
RcppHNSW /media/volume/teran2_disk/rapidbuild/bbs-3.22-bioc-rapid/R/site-library 0.6.0 4.5.1
RcppML /media/volume/teran2_disk/rapidbuild/bbs-3.22-bioc-rapid/R/site-library 0.3.7 4.5.1
RcppNumerical /media/volume/teran2_disk/rapidbuild/bbs-3.22-bioc-rapid/R/site-library 0.6-0 4.5.1
RcppProgress /media/volume/teran2_disk/rapidbuild/bbs-3.22-bioc-rapid/R/site-library 0.4.2 4.5.1
RcppTOML /media/volume/teran2_disk/rapidbuild/bbs-3.22-bioc-rapid/R/site-library 0.2.3 4.5.1
RCurl /media/volume/teran2_disk/rapidbuild/bbs-3.22-bioc-rapid/R/site-library 1.98-1.17 4.5.1
Rdisop /media/volume/teran2_disk/rapidbuild/bbs-3.22-bioc-rapid/R/site-library 1.71.0 4.5.1
Rdpack /media/volume/teran2_disk/rapidbuild/bbs-3.22-bioc-rapid/R/site-library 2.6.4 4.5.1
reactome.db /media/volume/teran2_disk/rapidbuild/bbs-3.22-bioc-rapid/R/site-library 1.94.0 4.5.1
readr /media/volume/teran2_disk/rapidbuild/bbs-3.22-bioc-rapid/R/site-library 2.1.5 4.5.1
recipes /media/volume/teran2_disk/rapidbuild/bbs-3.22-bioc-rapid/R/site-library 1.3.1 4.5.1
RefManageR /media/volume/teran2_disk/rapidbuild/bbs-3.22-bioc-rapid/R/site-library 1.4.0 4.5.1
reformulas /media/volume/teran2_disk/rapidbuild/bbs-3.22-bioc-rapid/R/site-library 0.4.2 4.5.1
registry /media/volume/teran2_disk/rapidbuild/bbs-3.22-bioc-rapid/R/site-library 0.5-1 4.5.1
remotes /media/volume/teran2_disk/rapidbuild/bbs-3.22-bioc-rapid/R/site-library 2.5.0 4.5.1
rentrez /media/volume/teran2_disk/rapidbuild/bbs-3.22-bioc-rapid/R/site-library 1.2.4 4.5.1
reshape /media/volume/teran2_disk/rapidbuild/bbs-3.22-bioc-rapid/R/site-library 0.8.10 4.5.1
reshape2 /media/volume/teran2_disk/rapidbuild/bbs-3.22-bioc-rapid/R/site-library 1.4.4 4.5.1
ResidualMatrix /media/volume/teran2_disk/rapidbuild/bbs-3.22-bioc-rapid/R/site-library 1.21.0 4.5.1
restfulr /media/volume/teran2_disk/rapidbuild/bbs-3.22-bioc-rapid/R/site-library 0.0.16 4.5.1
reticulate /media/volume/teran2_disk/rapidbuild/bbs-3.22-bioc-rapid/R/site-library 1.44.0 4.5.1
rex /media/volume/teran2_disk/rapidbuild/bbs-3.22-bioc-rapid/R/site-library 1.2.1 4.5.1
rgl /media/volume/teran2_disk/rapidbuild/bbs-3.22-bioc-rapid/R/site-library 1.3.24 4.5.1
Rgraphviz /media/volume/teran2_disk/rapidbuild/bbs-3.22-bioc-rapid/R/site-library 2.55.0 4.5.1
rhdf5 /media/volume/teran2_disk/rapidbuild/bbs-3.22-bioc-rapid/R/site-library 2.55.0 4.5.1
rhdf5filters /media/volume/teran2_disk/rapidbuild/bbs-3.22-bioc-rapid/R/site-library 1.23.0 4.5.1
Rhdf5lib /media/volume/teran2_disk/rapidbuild/bbs-3.22-bioc-rapid/R/site-library 1.33.0 4.5.1
Rhtslib /media/volume/teran2_disk/rapidbuild/bbs-3.22-bioc-rapid/R/site-library 3.7.0 4.5.1
Rigraphlib /media/volume/teran2_disk/rapidbuild/bbs-3.22-bioc-rapid/R/site-library 1.3.0 4.5.1
rjson /media/volume/teran2_disk/rapidbuild/bbs-3.22-bioc-rapid/R/site-library 0.2.23 4.5.1
rjsoncons /media/volume/teran2_disk/rapidbuild/bbs-3.22-bioc-rapid/R/site-library 1.3.2 4.5.1
rlang /media/volume/teran2_disk/rapidbuild/bbs-3.22-bioc-rapid/R/site-library 1.1.6 4.5.1
RMariaDB /media/volume/teran2_disk/rapidbuild/bbs-3.22-bioc-rapid/R/site-library 1.3.4 4.5.1
rmarkdown /media/volume/teran2_disk/rapidbuild/bbs-3.22-bioc-rapid/R/site-library 2.30 4.5.1
RNAseqData.HNRNPC.bam.chr14 /media/volume/teran2_disk/rapidbuild/bbs-3.22-bioc-rapid/R/site-library 0.47.0 4.5.1
rngtools /media/volume/teran2_disk/rapidbuild/bbs-3.22-bioc-rapid/R/site-library 1.5.2 4.5.1
robustbase /media/volume/teran2_disk/rapidbuild/bbs-3.22-bioc-rapid/R/site-library 0.99-6 4.5.1
ROC /media/volume/teran2_disk/rapidbuild/bbs-3.22-bioc-rapid/R/site-library 1.87.0 4.5.1
ROCR /media/volume/teran2_disk/rapidbuild/bbs-3.22-bioc-rapid/R/site-library 1.0-11 4.5.1
rols /media/volume/teran2_disk/rapidbuild/bbs-3.22-bioc-rapid/R/site-library 3.7.0 4.5.1
rorcid /media/volume/teran2_disk/rapidbuild/bbs-3.22-bioc-rapid/R/site-library 0.7.0 4.5.1
roxygen2 /media/volume/teran2_disk/rapidbuild/bbs-3.22-bioc-rapid/R/site-library 7.3.3 4.5.1
RPMM /media/volume/teran2_disk/rapidbuild/bbs-3.22-bioc-rapid/R/site-library 1.25 4.5.1
RPostgreSQL /media/volume/teran2_disk/rapidbuild/bbs-3.22-bioc-rapid/R/site-library 0.7-8 4.5.1
rprojroot /media/volume/teran2_disk/rapidbuild/bbs-3.22-bioc-rapid/R/site-library 2.1.1 4.5.1
RProtoBufLib /media/volume/teran2_disk/rapidbuild/bbs-3.22-bioc-rapid/R/site-library 2.23.0 4.5.1
rpx /media/volume/teran2_disk/rapidbuild/bbs-3.22-bioc-rapid/R/site-library 2.19.0 4.5.1
rrcov /media/volume/teran2_disk/rapidbuild/bbs-3.22-bioc-rapid/R/site-library 1.7-7 4.5.1
Rsamtools /media/volume/teran2_disk/rapidbuild/bbs-3.22-bioc-rapid/R/site-library 2.27.0 4.5.1
RSpectra /media/volume/teran2_disk/rapidbuild/bbs-3.22-bioc-rapid/R/site-library 0.16-2 4.5.1
RSQLite /media/volume/teran2_disk/rapidbuild/bbs-3.22-bioc-rapid/R/site-library 2.4.3 4.5.1
rstatix /media/volume/teran2_disk/rapidbuild/bbs-3.22-bioc-rapid/R/site-library 0.7.3 4.5.1
rstudioapi /media/volume/teran2_disk/rapidbuild/bbs-3.22-bioc-rapid/R/site-library 0.17.1 4.5.1
Rsubread /media/volume/teran2_disk/rapidbuild/bbs-3.22-bioc-rapid/R/site-library 2.25.0 4.5.1
rsvd /media/volume/teran2_disk/rapidbuild/bbs-3.22-bioc-rapid/R/site-library 1.0.5 4.5.1
rsvg /media/volume/teran2_disk/rapidbuild/bbs-3.22-bioc-rapid/R/site-library 2.7.0 4.5.1
Rtsne /media/volume/teran2_disk/rapidbuild/bbs-3.22-bioc-rapid/R/site-library 0.17 4.5.1
Rttf2pt1 /media/volume/teran2_disk/rapidbuild/bbs-3.22-bioc-rapid/R/site-library 1.3.14 4.5.1
RUnit /media/volume/teran2_disk/rapidbuild/bbs-3.22-bioc-rapid/R/site-library 0.4.33.1 4.5.1
rversions /media/volume/teran2_disk/rapidbuild/bbs-3.22-bioc-rapid/R/site-library 3.0.0 4.5.1
rvest /media/volume/teran2_disk/rapidbuild/bbs-3.22-bioc-rapid/R/site-library 1.0.5 4.5.1
s2 /media/volume/teran2_disk/rapidbuild/bbs-3.22-bioc-rapid/R/site-library 1.1.9 4.5.1
S4Arrays /media/volume/teran2_disk/rapidbuild/bbs-3.22-bioc-rapid/R/site-library 1.11.0 4.5.1
S4Vectors /media/volume/teran2_disk/rapidbuild/bbs-3.22-bioc-rapid/R/site-library 0.49.0 4.5.1
S7 /media/volume/teran2_disk/rapidbuild/bbs-3.22-bioc-rapid/R/site-library 0.2.0 4.5.1
sampling /media/volume/teran2_disk/rapidbuild/bbs-3.22-bioc-rapid/R/site-library 2.11 4.5.1
samr /media/volume/teran2_disk/rapidbuild/bbs-3.22-bioc-rapid/R/site-library 3.0 4.5.1
sandwich /media/volume/teran2_disk/rapidbuild/bbs-3.22-bioc-rapid/R/site-library 3.1-1 4.5.1
sass /media/volume/teran2_disk/rapidbuild/bbs-3.22-bioc-rapid/R/site-library 0.4.10 4.5.1
ScaledMatrix /media/volume/teran2_disk/rapidbuild/bbs-3.22-bioc-rapid/R/site-library 1.19.0 4.5.1
scales /media/volume/teran2_disk/rapidbuild/bbs-3.22-bioc-rapid/R/site-library 1.4.0 4.5.1
scater /media/volume/teran2_disk/rapidbuild/bbs-3.22-bioc-rapid/R/site-library 1.39.0 4.5.1
scattermore /media/volume/teran2_disk/rapidbuild/bbs-3.22-bioc-rapid/R/site-library 1.2 4.5.1
scatterpie /media/volume/teran2_disk/rapidbuild/bbs-3.22-bioc-rapid/R/site-library 0.2.6 4.5.1
scatterplot3d /media/volume/teran2_disk/rapidbuild/bbs-3.22-bioc-rapid/R/site-library 0.3-44 4.5.1
scran /media/volume/teran2_disk/rapidbuild/bbs-3.22-bioc-rapid/R/site-library 1.39.0 4.5.1
scrapper /media/volume/teran2_disk/rapidbuild/bbs-3.22-bioc-rapid/R/site-library 1.5.0 4.5.1
scrime /media/volume/teran2_disk/rapidbuild/bbs-3.22-bioc-rapid/R/site-library 1.3.5 4.5.1
scRNAseq /media/volume/teran2_disk/rapidbuild/bbs-3.22-bioc-rapid/R/site-library 2.23.1 4.5.1
sctransform /media/volume/teran2_disk/rapidbuild/bbs-3.22-bioc-rapid/R/site-library 0.4.2 4.5.1
scuttle /media/volume/teran2_disk/rapidbuild/bbs-3.22-bioc-rapid/R/site-library 1.21.0 4.5.1
segmented /media/volume/teran2_disk/rapidbuild/bbs-3.22-bioc-rapid/R/site-library 2.1-4 4.5.1
selectr /media/volume/teran2_disk/rapidbuild/bbs-3.22-bioc-rapid/R/site-library 0.4-2 4.5.1
Seqinfo /media/volume/teran2_disk/rapidbuild/bbs-3.22-bioc-rapid/R/site-library 1.1.0 4.5.1
seqLogo /media/volume/teran2_disk/rapidbuild/bbs-3.22-bioc-rapid/R/site-library 1.77.0 4.5.1
sesame /media/volume/teran2_disk/rapidbuild/bbs-3.22-bioc-rapid/R/site-library 1.29.0 4.5.1
sesameData /media/volume/teran2_disk/rapidbuild/bbs-3.22-bioc-rapid/R/site-library 1.27.1 4.5.1
sessioninfo /media/volume/teran2_disk/rapidbuild/bbs-3.22-bioc-rapid/R/site-library 1.2.3 4.5.1
Seurat /media/volume/teran2_disk/rapidbuild/bbs-3.22-bioc-rapid/R/site-library 5.3.1 4.5.1
SeuratObject /media/volume/teran2_disk/rapidbuild/bbs-3.22-bioc-rapid/R/site-library 5.2.0 4.5.1
sf /media/volume/teran2_disk/rapidbuild/bbs-3.22-bioc-rapid/R/site-library 1.0-21 4.5.1
sfsmisc /media/volume/teran2_disk/rapidbuild/bbs-3.22-bioc-rapid/R/site-library 1.1-22 4.5.1
shadowtext /media/volume/teran2_disk/rapidbuild/bbs-3.22-bioc-rapid/R/site-library 0.1.6 4.5.1
shape /media/volume/teran2_disk/rapidbuild/bbs-3.22-bioc-rapid/R/site-library 1.4.6.1 4.5.1
shiny /media/volume/teran2_disk/rapidbuild/bbs-3.22-bioc-rapid/R/site-library 1.11.1 4.5.1
shinybusy /media/volume/teran2_disk/rapidbuild/bbs-3.22-bioc-rapid/R/site-library 0.3.3 4.5.1
shinydashboard /media/volume/teran2_disk/rapidbuild/bbs-3.22-bioc-rapid/R/site-library 0.7.3 4.5.1
shinyFiles /media/volume/teran2_disk/rapidbuild/bbs-3.22-bioc-rapid/R/site-library 0.9.3 4.5.1
shinyjs /media/volume/teran2_disk/rapidbuild/bbs-3.22-bioc-rapid/R/site-library 2.1.0 4.5.1
showtext /media/volume/teran2_disk/rapidbuild/bbs-3.22-bioc-rapid/R/site-library 0.9-7 4.5.1
showtextdb /media/volume/teran2_disk/rapidbuild/bbs-3.22-bioc-rapid/R/site-library 3.0 4.5.1
SIFT.Hsapiens.dbSNP132 /media/volume/teran2_disk/rapidbuild/bbs-3.22-bioc-rapid/R/site-library 1.0.2 4.5.1
SIFT.Hsapiens.dbSNP137 /media/volume/teran2_disk/rapidbuild/bbs-3.22-bioc-rapid/R/site-library 1.0.0 4.5.1
siggenes /media/volume/teran2_disk/rapidbuild/bbs-3.22-bioc-rapid/R/site-library 1.85.0 4.5.1
signal /media/volume/teran2_disk/rapidbuild/bbs-3.22-bioc-rapid/R/site-library 1.8-1 4.5.1
SingleCellExperiment /media/volume/teran2_disk/rapidbuild/bbs-3.22-bioc-rapid/R/site-library 1.33.0 4.5.1
SingleR /media/volume/teran2_disk/rapidbuild/bbs-3.22-bioc-rapid/R/site-library 2.13.0 4.5.1
sitmo /media/volume/teran2_disk/rapidbuild/bbs-3.22-bioc-rapid/R/site-library 2.0.2 4.5.1
slam /media/volume/teran2_disk/rapidbuild/bbs-3.22-bioc-rapid/R/site-library 0.1-55 4.5.1
snifter /media/volume/teran2_disk/rapidbuild/bbs-3.22-bioc-rapid/R/site-library 1.21.0 4.5.1
snow /media/volume/teran2_disk/rapidbuild/bbs-3.22-bioc-rapid/R/site-library 0.4-4 4.5.1
SnowballC /media/volume/teran2_disk/rapidbuild/bbs-3.22-bioc-rapid/R/site-library 0.7.1 4.5.1
SNPlocs.Hsapiens.dbSNP144.GRCh37 /media/volume/teran2_disk/rapidbuild/bbs-3.22-bioc-rapid/R/site-library 0.99.20 4.5.1
SNPlocs.Hsapiens.dbSNP144.GRCh38 /media/volume/teran2_disk/rapidbuild/bbs-3.22-bioc-rapid/R/site-library 0.99.20 4.5.1
snpStats /media/volume/teran2_disk/rapidbuild/bbs-3.22-bioc-rapid/R/site-library 1.61.0 4.5.1
som /media/volume/teran2_disk/rapidbuild/bbs-3.22-bioc-rapid/R/site-library 0.3-5.2 4.5.1
sourcetools /media/volume/teran2_disk/rapidbuild/bbs-3.22-bioc-rapid/R/site-library 0.1.7-1 4.5.1
sp /media/volume/teran2_disk/rapidbuild/bbs-3.22-bioc-rapid/R/site-library 2.2-0 4.5.1
spam /media/volume/teran2_disk/rapidbuild/bbs-3.22-bioc-rapid/R/site-library 2.11-1 4.5.1
SparseArray /media/volume/teran2_disk/rapidbuild/bbs-3.22-bioc-rapid/R/site-library 1.11.0 4.5.1
SparseM /media/volume/teran2_disk/rapidbuild/bbs-3.22-bioc-rapid/R/site-library 1.84-2 4.5.1
sparseMatrixStats /media/volume/teran2_disk/rapidbuild/bbs-3.22-bioc-rapid/R/site-library 1.23.0 4.5.1
sparsevctrs /media/volume/teran2_disk/rapidbuild/bbs-3.22-bioc-rapid/R/site-library 0.3.4 4.5.1
SpatialExperiment /media/volume/teran2_disk/rapidbuild/bbs-3.22-bioc-rapid/R/site-library 1.21.0 4.5.1
spatstat.data /media/volume/teran2_disk/rapidbuild/bbs-3.22-bioc-rapid/R/site-library 3.1-9 4.5.1
spatstat.explore /media/volume/teran2_disk/rapidbuild/bbs-3.22-bioc-rapid/R/site-library 3.5-3 4.5.1
spatstat.geom /media/volume/teran2_disk/rapidbuild/bbs-3.22-bioc-rapid/R/site-library 3.6-0 4.5.1
spatstat.random /media/volume/teran2_disk/rapidbuild/bbs-3.22-bioc-rapid/R/site-library 3.4-2 4.5.1
spatstat.sparse /media/volume/teran2_disk/rapidbuild/bbs-3.22-bioc-rapid/R/site-library 3.1-0 4.5.1
spatstat.univar /media/volume/teran2_disk/rapidbuild/bbs-3.22-bioc-rapid/R/site-library 3.1-4 4.5.1
spatstat.utils /media/volume/teran2_disk/rapidbuild/bbs-3.22-bioc-rapid/R/site-library 3.2-0 4.5.1
Spectra /media/volume/teran2_disk/rapidbuild/bbs-3.22-bioc-rapid/R/site-library 1.21.0 4.5.1
spelling /media/volume/teran2_disk/rapidbuild/bbs-3.22-bioc-rapid/R/site-library 2.3.2 4.5.1
SPIA /media/volume/teran2_disk/rapidbuild/bbs-3.22-bioc-rapid/R/site-library 2.63.0 4.5.1
SQUAREM /media/volume/teran2_disk/rapidbuild/bbs-3.22-bioc-rapid/R/site-library 2021.1 4.5.1
stabs /media/volume/teran2_disk/rapidbuild/bbs-3.22-bioc-rapid/R/site-library 0.6-4 4.5.1
statmod /media/volume/teran2_disk/rapidbuild/bbs-3.22-bioc-rapid/R/site-library 1.5.1 4.5.1
stringdist /media/volume/teran2_disk/rapidbuild/bbs-3.22-bioc-rapid/R/site-library 0.9.15 4.5.1
stringi /media/volume/teran2_disk/rapidbuild/bbs-3.22-bioc-rapid/R/site-library 1.8.7 4.5.1
stringr /media/volume/teran2_disk/rapidbuild/bbs-3.22-bioc-rapid/R/site-library 1.5.2 4.5.1
strucchange /media/volume/teran2_disk/rapidbuild/bbs-3.22-bioc-rapid/R/site-library 1.5-4 4.5.1
styler /media/volume/teran2_disk/rapidbuild/bbs-3.22-bioc-rapid/R/site-library 1.11.0 4.5.1
SummarizedExperiment /media/volume/teran2_disk/rapidbuild/bbs-3.22-bioc-rapid/R/site-library 1.41.0 4.5.1
survminer /media/volume/teran2_disk/rapidbuild/bbs-3.22-bioc-rapid/R/site-library 0.5.1 4.5.1
survMisc /media/volume/teran2_disk/rapidbuild/bbs-3.22-bioc-rapid/R/site-library 0.5.6 4.5.1
sva /media/volume/teran2_disk/rapidbuild/bbs-3.22-bioc-rapid/R/site-library 3.59.0 4.5.1
svglite /media/volume/teran2_disk/rapidbuild/bbs-3.22-bioc-rapid/R/site-library 2.2.2 4.5.1
svMisc /media/volume/teran2_disk/rapidbuild/bbs-3.22-bioc-rapid/R/site-library 1.4.3 4.5.1
sys /media/volume/teran2_disk/rapidbuild/bbs-3.22-bioc-rapid/R/site-library 3.4.3 4.5.1
sysfonts /media/volume/teran2_disk/rapidbuild/bbs-3.22-bioc-rapid/R/site-library 0.8.9 4.5.1
systemfonts /media/volume/teran2_disk/rapidbuild/bbs-3.22-bioc-rapid/R/site-library 1.3.1 4.5.1
TCGAbiolinks /media/volume/teran2_disk/rapidbuild/bbs-3.22-bioc-rapid/R/site-library 2.39.0 4.5.1
TCGAbiolinksGUI.data /media/volume/teran2_disk/rapidbuild/bbs-3.22-bioc-rapid/R/site-library 1.29.0 4.5.1
tensor /media/volume/teran2_disk/rapidbuild/bbs-3.22-bioc-rapid/R/site-library 1.5.1 4.5.1
tensorflow /media/volume/teran2_disk/rapidbuild/bbs-3.22-bioc-rapid/R/site-library 2.20.0 4.5.1
TENxBrainData /media/volume/teran2_disk/rapidbuild/bbs-3.22-bioc-rapid/R/site-library 1.29.0 4.5.1
TENxIO /media/volume/teran2_disk/rapidbuild/bbs-3.22-bioc-rapid/R/site-library 1.13.0 4.5.1
TENxPBMCData /media/volume/teran2_disk/rapidbuild/bbs-3.22-bioc-rapid/R/site-library 1.27.0 4.5.1
testthat /media/volume/teran2_disk/rapidbuild/bbs-3.22-bioc-rapid/R/site-library 3.2.3 4.5.1
textshaping /media/volume/teran2_disk/rapidbuild/bbs-3.22-bioc-rapid/R/site-library 1.0.4 4.5.1
tfautograph /media/volume/teran2_disk/rapidbuild/bbs-3.22-bioc-rapid/R/site-library 0.3.2 4.5.1
TFMPvalue /media/volume/teran2_disk/rapidbuild/bbs-3.22-bioc-rapid/R/site-library 0.0.9 4.5.1
tfruns /media/volume/teran2_disk/rapidbuild/bbs-3.22-bioc-rapid/R/site-library 1.5.4 4.5.1
TH.data /media/volume/teran2_disk/rapidbuild/bbs-3.22-bioc-rapid/R/site-library 1.1-4 4.5.1
threejs /media/volume/teran2_disk/rapidbuild/bbs-3.22-bioc-rapid/R/site-library 0.3.4 4.5.1
tibble /media/volume/teran2_disk/rapidbuild/bbs-3.22-bioc-rapid/R/site-library 3.3.0 4.5.1
tidydr /media/volume/teran2_disk/rapidbuild/bbs-3.22-bioc-rapid/R/site-library 0.0.6 4.5.1
tidyr /media/volume/teran2_disk/rapidbuild/bbs-3.22-bioc-rapid/R/site-library 1.3.1 4.5.1
tidyselect /media/volume/teran2_disk/rapidbuild/bbs-3.22-bioc-rapid/R/site-library 1.2.1 4.5.1
tidytext /media/volume/teran2_disk/rapidbuild/bbs-3.22-bioc-rapid/R/site-library 0.4.3 4.5.1
tidytree /media/volume/teran2_disk/rapidbuild/bbs-3.22-bioc-rapid/R/site-library 0.4.6 4.5.1
tiff /media/volume/teran2_disk/rapidbuild/bbs-3.22-bioc-rapid/R/site-library 0.1-12 4.5.1
timechange /media/volume/teran2_disk/rapidbuild/bbs-3.22-bioc-rapid/R/site-library 0.3.0 4.5.1
timeDate /media/volume/teran2_disk/rapidbuild/bbs-3.22-bioc-rapid/R/site-library 4051.111 4.5.1
tinytest /media/volume/teran2_disk/rapidbuild/bbs-3.22-bioc-rapid/R/site-library 1.4.1 4.5.1
tinytex /media/volume/teran2_disk/rapidbuild/bbs-3.22-bioc-rapid/R/site-library 0.57 4.5.1
tkWidgets /media/volume/teran2_disk/rapidbuild/bbs-3.22-bioc-rapid/R/site-library 1.89.0 4.5.1
tm /media/volume/teran2_disk/rapidbuild/bbs-3.22-bioc-rapid/R/site-library 0.7-16 4.5.1
tmvtnorm /media/volume/teran2_disk/rapidbuild/bbs-3.22-bioc-rapid/R/site-library 1.7 4.5.1
tokenizers /media/volume/teran2_disk/rapidbuild/bbs-3.22-bioc-rapid/R/site-library 0.3.0 4.5.1
treeio /media/volume/teran2_disk/rapidbuild/bbs-3.22-bioc-rapid/R/site-library 1.35.0 4.5.1
triebeard /media/volume/teran2_disk/rapidbuild/bbs-3.22-bioc-rapid/R/site-library 0.4.1 4.5.1
truncnorm /media/volume/teran2_disk/rapidbuild/bbs-3.22-bioc-rapid/R/site-library 1.0-9 4.5.1
tweenr /media/volume/teran2_disk/rapidbuild/bbs-3.22-bioc-rapid/R/site-library 2.0.3 4.5.1
TxDb.Athaliana.BioMart.plantsmart22 /media/volume/teran2_disk/rapidbuild/bbs-3.22-bioc-rapid/R/site-library 3.0.1 4.5.1
TxDb.Celegans.UCSC.ce11.ensGene /media/volume/teran2_disk/rapidbuild/bbs-3.22-bioc-rapid/R/site-library 3.15.0 4.5.1
TxDb.Dmelanogaster.UCSC.dm3.ensGene /media/volume/teran2_disk/rapidbuild/bbs-3.22-bioc-rapid/R/site-library 3.2.2 4.5.1
TxDb.Drerio.UCSC.danRer10.refGene /media/volume/teran2_disk/rapidbuild/bbs-3.22-bioc-rapid/R/site-library 3.4.6 4.5.1
TxDb.Hsapiens.UCSC.hg18.knownGene /media/volume/teran2_disk/rapidbuild/bbs-3.22-bioc-rapid/R/site-library 3.2.2 4.5.1
TxDb.Hsapiens.UCSC.hg19.knownGene /media/volume/teran2_disk/rapidbuild/bbs-3.22-bioc-rapid/R/site-library 3.22.1 4.5.1
TxDb.Hsapiens.UCSC.hg19.lincRNAsTranscripts /media/volume/teran2_disk/rapidbuild/bbs-3.22-bioc-rapid/R/site-library 3.2.2 4.5.1
TxDb.Hsapiens.UCSC.hg38.knownGene /media/volume/teran2_disk/rapidbuild/bbs-3.22-bioc-rapid/R/site-library 3.22.0 4.5.1
TxDb.Mmusculus.UCSC.mm10.knownGene /media/volume/teran2_disk/rapidbuild/bbs-3.22-bioc-rapid/R/site-library 3.10.0 4.5.1
TxDb.Mmusculus.UCSC.mm9.knownGene /media/volume/teran2_disk/rapidbuild/bbs-3.22-bioc-rapid/R/site-library 3.2.2 4.5.1
TxDb.Rnorvegicus.UCSC.rn5.refGene /media/volume/teran2_disk/rapidbuild/bbs-3.22-bioc-rapid/R/site-library 3.12.0 4.5.1
tximport /media/volume/teran2_disk/rapidbuild/bbs-3.22-bioc-rapid/R/site-library 1.39.0 4.5.1
tximportData /media/volume/teran2_disk/rapidbuild/bbs-3.22-bioc-rapid/R/site-library 1.37.5 4.5.1
tzdb /media/volume/teran2_disk/rapidbuild/bbs-3.22-bioc-rapid/R/site-library 0.5.0 4.5.1
UCSC.utils /media/volume/teran2_disk/rapidbuild/bbs-3.22-bioc-rapid/R/site-library 1.7.0 4.5.1
umap /media/volume/teran2_disk/rapidbuild/bbs-3.22-bioc-rapid/R/site-library 0.2.10.0 4.5.1
units /media/volume/teran2_disk/rapidbuild/bbs-3.22-bioc-rapid/R/site-library 1.0-0 4.5.1
UpSetR /media/volume/teran2_disk/rapidbuild/bbs-3.22-bioc-rapid/R/site-library 1.4.0 4.5.1
urlchecker /media/volume/teran2_disk/rapidbuild/bbs-3.22-bioc-rapid/R/site-library 1.0.1 4.5.1
urltools /media/volume/teran2_disk/rapidbuild/bbs-3.22-bioc-rapid/R/site-library 1.7.3.1 4.5.1
usethis /media/volume/teran2_disk/rapidbuild/bbs-3.22-bioc-rapid/R/site-library 3.2.1 4.5.1
utf8 /media/volume/teran2_disk/rapidbuild/bbs-3.22-bioc-rapid/R/site-library 1.2.6 4.5.1
uuid /media/volume/teran2_disk/rapidbuild/bbs-3.22-bioc-rapid/R/site-library 1.2-1 4.5.1
uwot /media/volume/teran2_disk/rapidbuild/bbs-3.22-bioc-rapid/R/site-library 0.2.3 4.5.1
V8 /media/volume/teran2_disk/rapidbuild/bbs-3.22-bioc-rapid/R/site-library 8.0.1 4.5.1
vctrs /media/volume/teran2_disk/rapidbuild/bbs-3.22-bioc-rapid/R/site-library 0.6.5 4.5.1
vdiffr /media/volume/teran2_disk/rapidbuild/bbs-3.22-bioc-rapid/R/site-library 1.0.8 4.5.1
vegan /media/volume/teran2_disk/rapidbuild/bbs-3.22-bioc-rapid/R/site-library 2.7-2 4.5.1
vipor /media/volume/teran2_disk/rapidbuild/bbs-3.22-bioc-rapid/R/site-library 0.4.7 4.5.1
viridis /media/volume/teran2_disk/rapidbuild/bbs-3.22-bioc-rapid/R/site-library 0.6.5 4.5.1
viridisLite /media/volume/teran2_disk/rapidbuild/bbs-3.22-bioc-rapid/R/site-library 0.4.2 4.5.1
VisiumIO /media/volume/teran2_disk/rapidbuild/bbs-3.22-bioc-rapid/R/site-library 1.7.0 4.5.1
visNetwork /media/volume/teran2_disk/rapidbuild/bbs-3.22-bioc-rapid/R/site-library 2.1.4 4.5.1
vroom /media/volume/teran2_disk/rapidbuild/bbs-3.22-bioc-rapid/R/site-library 1.6.6 4.5.1
vsn /media/volume/teran2_disk/rapidbuild/bbs-3.22-bioc-rapid/R/site-library 3.79.0 4.5.1
waldo /media/volume/teran2_disk/rapidbuild/bbs-3.22-bioc-rapid/R/site-library 0.6.2 4.5.1
waveslim /media/volume/teran2_disk/rapidbuild/bbs-3.22-bioc-rapid/R/site-library 1.8.5 4.5.1
wheatmap /media/volume/teran2_disk/rapidbuild/bbs-3.22-bioc-rapid/R/site-library 0.2.0 4.5.1
whisker /media/volume/teran2_disk/rapidbuild/bbs-3.22-bioc-rapid/R/site-library 0.4.1 4.5.1
widgetTools /media/volume/teran2_disk/rapidbuild/bbs-3.22-bioc-rapid/R/site-library 1.89.0 4.5.1
withr /media/volume/teran2_disk/rapidbuild/bbs-3.22-bioc-rapid/R/site-library 3.0.2 4.5.1
wk /media/volume/teran2_disk/rapidbuild/bbs-3.22-bioc-rapid/R/site-library 0.9.4 4.5.1
Wrench /media/volume/teran2_disk/rapidbuild/bbs-3.22-bioc-rapid/R/site-library 1.29.0 4.5.1
xcms /media/volume/teran2_disk/rapidbuild/bbs-3.22-bioc-rapid/R/site-library 4.9.0 4.5.1
xfun /media/volume/teran2_disk/rapidbuild/bbs-3.22-bioc-rapid/R/site-library 0.53 4.5.1
XML /media/volume/teran2_disk/rapidbuild/bbs-3.22-bioc-rapid/R/site-library 3.99-0.19 4.5.1
xml2 /media/volume/teran2_disk/rapidbuild/bbs-3.22-bioc-rapid/R/site-library 1.4.1 4.5.1
xopen /media/volume/teran2_disk/rapidbuild/bbs-3.22-bioc-rapid/R/site-library 1.0.1 4.5.1
xtable /media/volume/teran2_disk/rapidbuild/bbs-3.22-bioc-rapid/R/site-library 1.8-4 4.5.1
XtraSNPlocs.Hsapiens.dbSNP144.GRCh38 /media/volume/teran2_disk/rapidbuild/bbs-3.22-bioc-rapid/R/site-library 0.99.12 4.5.1
XVector /media/volume/teran2_disk/rapidbuild/bbs-3.22-bioc-rapid/R/site-library 0.51.0 4.5.1
yaml /media/volume/teran2_disk/rapidbuild/bbs-3.22-bioc-rapid/R/site-library 2.3.10 4.5.1
yeastNagalakshmi /media/volume/teran2_disk/rapidbuild/bbs-3.22-bioc-rapid/R/site-library 1.45.0 4.5.1
yeastRNASeq /media/volume/teran2_disk/rapidbuild/bbs-3.22-bioc-rapid/R/site-library 0.47.0 4.5.1
yesno /media/volume/teran2_disk/rapidbuild/bbs-3.22-bioc-rapid/R/site-library 0.1.3 4.5.1
yulab.utils /media/volume/teran2_disk/rapidbuild/bbs-3.22-bioc-rapid/R/site-library 0.2.1 4.5.1
zeallot /media/volume/teran2_disk/rapidbuild/bbs-3.22-bioc-rapid/R/site-library 0.2.0 4.5.1
zebrafishRNASeq /media/volume/teran2_disk/rapidbuild/bbs-3.22-bioc-rapid/R/site-library 1.29.0 4.5.1
zellkonverter /media/volume/teran2_disk/rapidbuild/bbs-3.22-bioc-rapid/R/site-library 1.21.0 4.5.1
zip /media/volume/teran2_disk/rapidbuild/bbs-3.22-bioc-rapid/R/site-library 2.3.3 4.5.1
zoo /media/volume/teran2_disk/rapidbuild/bbs-3.22-bioc-rapid/R/site-library 1.8-14 4.5.1
base /media/volume/teran2_disk/rapidbuild/bbs-3.22-bioc-rapid/R/library 4.5.1 4.5.1
boot /media/volume/teran2_disk/rapidbuild/bbs-3.22-bioc-rapid/R/library 1.3-32 4.5.1
class /media/volume/teran2_disk/rapidbuild/bbs-3.22-bioc-rapid/R/library 7.3-23 4.5.1
cluster /media/volume/teran2_disk/rapidbuild/bbs-3.22-bioc-rapid/R/library 2.1.8.1 4.5.1
codetools /media/volume/teran2_disk/rapidbuild/bbs-3.22-bioc-rapid/R/library 0.2-20 4.5.1
compiler /media/volume/teran2_disk/rapidbuild/bbs-3.22-bioc-rapid/R/library 4.5.1 4.5.1
datasets /media/volume/teran2_disk/rapidbuild/bbs-3.22-bioc-rapid/R/library 4.5.1 4.5.1
foreign /media/volume/teran2_disk/rapidbuild/bbs-3.22-bioc-rapid/R/library 0.8-90 4.5.1
graphics /media/volume/teran2_disk/rapidbuild/bbs-3.22-bioc-rapid/R/library 4.5.1 4.5.1
grDevices /media/volume/teran2_disk/rapidbuild/bbs-3.22-bioc-rapid/R/library 4.5.1 4.5.1
grid /media/volume/teran2_disk/rapidbuild/bbs-3.22-bioc-rapid/R/library 4.5.1 4.5.1
KernSmooth /media/volume/teran2_disk/rapidbuild/bbs-3.22-bioc-rapid/R/library 2.23-26 4.5.1
lattice /media/volume/teran2_disk/rapidbuild/bbs-3.22-bioc-rapid/R/library 0.22-7 4.5.1
MASS /media/volume/teran2_disk/rapidbuild/bbs-3.22-bioc-rapid/R/library 7.3-65 4.5.1
Matrix /media/volume/teran2_disk/rapidbuild/bbs-3.22-bioc-rapid/R/library 1.7-4 4.5.1
methods /media/volume/teran2_disk/rapidbuild/bbs-3.22-bioc-rapid/R/library 4.5.1 4.5.1
mgcv /media/volume/teran2_disk/rapidbuild/bbs-3.22-bioc-rapid/R/library 1.9-3 4.5.1
nlme /media/volume/teran2_disk/rapidbuild/bbs-3.22-bioc-rapid/R/library 3.1-168 4.5.1
nnet /media/volume/teran2_disk/rapidbuild/bbs-3.22-bioc-rapid/R/library 7.3-20 4.5.1
parallel /media/volume/teran2_disk/rapidbuild/bbs-3.22-bioc-rapid/R/library 4.5.1 4.5.1
rpart /media/volume/teran2_disk/rapidbuild/bbs-3.22-bioc-rapid/R/library 4.1.24 4.5.1
spatial /media/volume/teran2_disk/rapidbuild/bbs-3.22-bioc-rapid/R/library 7.3-18 4.5.1
splines /media/volume/teran2_disk/rapidbuild/bbs-3.22-bioc-rapid/R/library 4.5.1 4.5.1
stats /media/volume/teran2_disk/rapidbuild/bbs-3.22-bioc-rapid/R/library 4.5.1 4.5.1
stats4 /media/volume/teran2_disk/rapidbuild/bbs-3.22-bioc-rapid/R/library 4.5.1 4.5.1
survival /media/volume/teran2_disk/rapidbuild/bbs-3.22-bioc-rapid/R/library 3.8-3 4.5.1
tcltk /media/volume/teran2_disk/rapidbuild/bbs-3.22-bioc-rapid/R/library 4.5.1 4.5.1
tools /media/volume/teran2_disk/rapidbuild/bbs-3.22-bioc-rapid/R/library 4.5.1 4.5.1
utils /media/volume/teran2_disk/rapidbuild/bbs-3.22-bioc-rapid/R/library 4.5.1 4.5.1